BEGIN:VCALENDAR
VERSION:2.0
PRODID:-//Miami Art Scene™ - ECPv6.15.20//NONSGML v1.0//EN
CALSCALE:GREGORIAN
METHOD:PUBLISH
X-ORIGINAL-URL:https://www.themiamiartscene.com
X-WR-CALDESC:Events for Miami Art Scene™
REFRESH-INTERVAL;VALUE=DURATION:PT1H
X-Robots-Tag:noindex
X-PUBLISHED-TTL:PT1H
BEGIN:VTIMEZONE
TZID:America/New_York
BEGIN:DAYLIGHT
TZOFFSETFROM:-0500
TZOFFSETTO:-0400
TZNAME:EDT
DTSTART:20240310T070000
END:DAYLIGHT
BEGIN:STANDARD
TZOFFSETFROM:-0400
TZOFFSETTO:-0500
TZNAME:EST
DTSTART:20241103T060000
END:STANDARD
BEGIN:DAYLIGHT
TZOFFSETFROM:-0500
TZOFFSETTO:-0400
TZNAME:EDT
DTSTART:20250309T070000
END:DAYLIGHT
BEGIN:STANDARD
TZOFFSETFROM:-0400
TZOFFSETTO:-0500
TZNAME:EST
DTSTART:20251102T060000
END:STANDARD
BEGIN:DAYLIGHT
TZOFFSETFROM:-0500
TZOFFSETTO:-0400
TZNAME:EDT
DTSTART:20260308T070000
END:DAYLIGHT
BEGIN:STANDARD
TZOFFSETFROM:-0400
TZOFFSETTO:-0500
TZNAME:EST
DTSTART:20261101T060000
END:STANDARD
END:VTIMEZONE
BEGIN:VEVENT
DTSTART;TZID=America/New_York:20251217T080000
DTEND;TZID=America/New_York:20251217T170000
DTSTAMP:20260423T200425
CREATED:20251217T225041Z
LAST-MODIFIED:20251217T225041Z
UID:25611-1765958400-1765990800@www.themiamiartscene.com
SUMMARY:Resource Depot in WPB presents Bits & Baubles Studio: Make your own reclaimed ornament or mini art piece
DESCRIPTION:Saturday\, December 20th from 10am – 1pm Resource Depot in West Palm Beach invites you to enjoy a hands-on\, open studio ‘Bits & Baubles Studio’ where you can turn reclaimed materials into one-of-a-kind ornaments or mini art pieces. Use bits of ribbon\, beads\, fabric\, wire\, buttons\, and more to craft your own found forest\, tiny world\, or junk snowflake—perfect to gift or keep!\nThis drop-in workshop is open to all ages and celebrates creativity\, community\, and the joy of reuse. \nNo experience necessary—just bring your imagination and the event organizers will supply the materials and inspiration. All ages welcome. Recommended ages 5+. PRICE: $10 per maker. All materials included. PURCHASE TICKETS HERE.
URL:https://www.themiamiartscene.com/event/resource-depot-in-wpb-presents-bits-baubles-studio-make-your-own-reclaimed-ornament-or-mini-art-piece/
LOCATION:FL
ATTACH;FMTTYPE=image/jpeg:https://www.themiamiartscene.com/wp-content/uploads/2025/12/bits-and-baubles.jpeg
END:VEVENT
BEGIN:VEVENT
DTSTART;TZID=America/New_York:20251217T103000
DTEND;TZID=America/New_York:20251217T123000
DTSTAMP:20260423T200425
CREATED:20251105T220631Z
LAST-MODIFIED:20251105T220631Z
UID:25293-1765967400-1765974600@www.themiamiartscene.com
SUMMARY:The Official Art Deco Walking Tour by The Miami Design Preservation League
DESCRIPTION:Wednesday\, December 17th from 10:30am – 12:30pm experience the Official Art Deco District Walking Tour presented by the Miami Design Preservation League. This 1.5 to 2-hour walking tour provides an introduction to the Art Deco\, Mediterranean Revival\, and Miami Modern (MiMo) styles found within the Miami Beach Architectural Historic District. Explore hotels\, restaurants\, and other commercial structures with a visit to a number of interiors. Choose from select dates / PURCHASE TICKETS HERE. \nTour ticket includes free entry to the Art Deco Museum as well as 10% off at the Gift Shop.
URL:https://www.themiamiartscene.com/event/the-official-art-deco-walking-tour-by-the-miami-design-preservation-league-844/
LOCATION:Art Deco Welcome Center\, 1001 Ocean Drive\, Miami Beach\, FL\, 33139\, United States
ATTACH;FMTTYPE=image/jpeg:https://www.themiamiartscene.com/wp-content/uploads/2023/03/art-deco-walking-tours.jpg
END:VEVENT
END:VCALENDAR