BEGIN:VCALENDAR
VERSION:2.0
PRODID:-//Miami Art Scene™ - ECPv6.15.20//NONSGML v1.0//EN
CALSCALE:GREGORIAN
METHOD:PUBLISH
X-ORIGINAL-URL:https://www.themiamiartscene.com
X-WR-CALDESC:Events for Miami Art Scene™
REFRESH-INTERVAL;VALUE=DURATION:PT1H
X-Robots-Tag:noindex
X-PUBLISHED-TTL:PT1H
BEGIN:VTIMEZONE
TZID:America/New_York
BEGIN:DAYLIGHT
TZOFFSETFROM:-0500
TZOFFSETTO:-0400
TZNAME:EDT
DTSTART:20250309T070000
END:DAYLIGHT
BEGIN:STANDARD
TZOFFSETFROM:-0400
TZOFFSETTO:-0500
TZNAME:EST
DTSTART:20251102T060000
END:STANDARD
BEGIN:DAYLIGHT
TZOFFSETFROM:-0500
TZOFFSETTO:-0400
TZNAME:EDT
DTSTART:20260308T070000
END:DAYLIGHT
BEGIN:STANDARD
TZOFFSETFROM:-0400
TZOFFSETTO:-0500
TZNAME:EST
DTSTART:20261101T060000
END:STANDARD
BEGIN:DAYLIGHT
TZOFFSETFROM:-0500
TZOFFSETTO:-0400
TZNAME:EDT
DTSTART:20270314T070000
END:DAYLIGHT
BEGIN:STANDARD
TZOFFSETFROM:-0400
TZOFFSETTO:-0500
TZNAME:EST
DTSTART:20271107T060000
END:STANDARD
END:VTIMEZONE
BEGIN:VEVENT
DTSTART;TZID=America/New_York:20260128T170000
DTEND;TZID=America/New_York:20260201T180000
DTSTAMP:20260423T163754
CREATED:20251223T193929Z
LAST-MODIFIED:20251223T193929Z
UID:25717-1769619600-1769968800@www.themiamiartscene.com
SUMMARY:Art Palm Beach 2026
DESCRIPTION:Wednesday\, January 28th through Sunday\, February 1st Art Palm Beach returns to the Palm Beach County Convention Center kicking off Palm Beach Art Week. Featuring some of the most prestigious contemporary\, emerging and modern art galleries\, the fair will provide an exceptional forum for gallery presentation in front of the affluent demographic of collectors in the vibrant cultural hub of South Florida. \nArt Palm Beach is internationally renowned as the premiere mid-winter contemporary art fair in The Palm Beaches along Florida’s coastline by both art critics and enthusiasts. Before its acquisition by the Palm Beach Show Group\, which also owns the LA Art Show\, the fair was previously organized by IFAE founders Lee Ann & David Lester\, the original founders of both Art Miami and Art Asia Hong Kong. It is Palm Beach County’s longest running fair dedicated to contemporary\, emerging\, and modern master works of art of the 20th and 21st centuries. \n  \nOPENING NIGHT PREMIERE\nWednesday\, January 28\, 2026\n5pm – 9pm\nOpening Night Ticket\, $150 \nSHOW HOURS/TICKETS\nGeneral Admission\, One Day Ticket $40\nThursday\, January 29\n11am – 6pm \nFriday\, January 30\n11am – 6pm \nSaturday\, January 31\n11am – 6pm \nSunday\, February 1\n11am – 6pm
URL:https://www.themiamiartscene.com/event/art-palm-beach-2026/
LOCATION:Palm Beach County Convention Center\, 650 Okeechobee Boulevard\, West Palm Beach\, FL\, 33401\, United States
ATTACH;FMTTYPE=image/png:https://www.themiamiartscene.com/wp-content/uploads/2024/12/art-palm-beach-2024-1.png
END:VEVENT
BEGIN:VEVENT
DTSTART;TZID=America/New_York:20260128T170000
DTEND;TZID=America/New_York:20260201T180000
DTSTAMP:20260423T163754
CREATED:20260109T212139Z
LAST-MODIFIED:20260109T213927Z
UID:25782-1769619600-1769968800@www.themiamiartscene.com
SUMMARY:Abby Modell Contemporary Art Glass Debuts New Galaxy-Inspired Collection at Art Palm Beach + Contemporary | Booth #209
DESCRIPTION:Wednesday\, January 28th through Sunday\, February 1st you are cordially invited to experience The Abby Modell Contemporary Art Glass Gallery at Art Palm Beach + Contemporary 2026\, debuting a new collection of wall art\, sculptures\, and illuminated glass objects inspired by the cosmos and the reflective beauty of the night sky. \nArt collectors and design aficionados are cordially invited to preview new works by renowned glass artist Abby Modell at Art Palm Beach + Contemporary at the Palm Beach County Convention Center Booth #209. Guests will enjoy an Opening Night Premiere on Wednesday\, January 28th from 5pm – 9pm. Art Palm Beach taps into the booming market of Palm Beach\, one of the world’s most culturally sophisticated and affluent cities\, during the peak winter season. \nModell’s new Galaxy Collection illustrates the movement and luminosity of the universe. The artist’s vision of celestial waterfalls and cosmic butterflies are interpreted throughout the collection which includes Wall Art\, Sculptural Objects and LED Lighting. Modell specializes in hand-applied glass assemblages on three-dimensional surfaces\, developed through her exploration of contemporary glass techniques. \n  \nOPENING NIGHT PREMIERE\nWednesday\, January 28 | 5pm – 9pm\nSHOW HOURS/TICKETS\nGeneral Admission\nThursday\, January 29 | 11am – 6pm\nFriday\, January 30 | 11am – 6pm\nSaturday\, January 31 | 11am – 6pm\nSunday\, February 1 | 11am – 6pm\n  \nIMAGE: LightWave Twilight\, Wall Art\, Abby Modell 2025\nDichroic mirror glass assemblage with fire-polished\, glass\,\nSwarovski crystals\, framed\, 6’H x 4’W x 4”D. ©Oleg March
URL:https://www.themiamiartscene.com/event/abby-modell-contemporary-art-glass-debuts-new-galaxy-inspired-collection-at-art-palm-beach-contemporary-booth-209/
LOCATION:Palm Beach County Convention Center\, 650 Okeechobee Boulevard\, West Palm Beach\, FL\, 33401\, United States
ATTACH;FMTTYPE=image/jpeg:https://www.themiamiartscene.com/wp-content/uploads/2026/01/1-AModell-LightWaveTwilight-6x4-2-scaled-e1767993630482.jpg
END:VEVENT
BEGIN:VEVENT
DTSTART;TZID=America/New_York:20260130T103000
DTEND;TZID=America/New_York:20260130T123000
DTSTAMP:20260423T163754
CREATED:20251223T155220Z
LAST-MODIFIED:20251223T155220Z
UID:25713-1769769000-1769776200@www.themiamiartscene.com
SUMMARY:The Official Art Deco Walking Tour by The Miami Design Preservation League
DESCRIPTION:Friday\, January 30th from 10:30am – 12:30pm experience the Official Art Deco District Walking Tour presented by the Miami Design Preservation League. This 1.5 to 2-hour walking tour provides an introduction to the Art Deco\, Mediterranean Revival\, and Miami Modern (MiMo) styles found within the Miami Beach Architectural Historic District. Explore hotels\, restaurants\, and other commercial structures with a visit to a number of interiors. Choose from select dates / PURCHASE TICKETS HERE. \nTour ticket includes free entry to the Art Deco Museum as well as 10% off at the Gift Shop.
URL:https://www.themiamiartscene.com/event/the-official-art-deco-walking-tour-by-the-miami-design-preservation-league-889/
LOCATION:Art Deco Welcome Center\, 1001 Ocean Drive\, Miami Beach\, FL\, 33139\, United States
ATTACH;FMTTYPE=image/jpeg:https://www.themiamiartscene.com/wp-content/uploads/2024/06/art-deco_marlin-hotel_miami-beach.jpeg
END:VEVENT
END:VCALENDAR