BEGIN:VCALENDAR
VERSION:2.0
PRODID:-//Miami Art Scene™ - ECPv6.15.20//NONSGML v1.0//EN
CALSCALE:GREGORIAN
METHOD:PUBLISH
X-ORIGINAL-URL:https://www.themiamiartscene.com
X-WR-CALDESC:Events for Miami Art Scene™
REFRESH-INTERVAL;VALUE=DURATION:PT1H
X-Robots-Tag:noindex
X-PUBLISHED-TTL:PT1H
BEGIN:VTIMEZONE
TZID:America/New_York
BEGIN:DAYLIGHT
TZOFFSETFROM:-0500
TZOFFSETTO:-0400
TZNAME:EDT
DTSTART:20250309T070000
END:DAYLIGHT
BEGIN:STANDARD
TZOFFSETFROM:-0400
TZOFFSETTO:-0500
TZNAME:EST
DTSTART:20251102T060000
END:STANDARD
BEGIN:DAYLIGHT
TZOFFSETFROM:-0500
TZOFFSETTO:-0400
TZNAME:EDT
DTSTART:20260308T070000
END:DAYLIGHT
BEGIN:STANDARD
TZOFFSETFROM:-0400
TZOFFSETTO:-0500
TZNAME:EST
DTSTART:20261101T060000
END:STANDARD
BEGIN:DAYLIGHT
TZOFFSETFROM:-0500
TZOFFSETTO:-0400
TZNAME:EDT
DTSTART:20270314T070000
END:DAYLIGHT
BEGIN:STANDARD
TZOFFSETFROM:-0400
TZOFFSETTO:-0500
TZNAME:EST
DTSTART:20271107T060000
END:STANDARD
END:VTIMEZONE
BEGIN:VEVENT
DTSTART;TZID=America/New_York:20260107T080000
DTEND;TZID=America/New_York:20260111T170000
DTSTAMP:20260423T163736
CREATED:20251223T232238Z
LAST-MODIFIED:20251223T232238Z
UID:25722-1767772800-1768150800@www.themiamiartscene.com
SUMMARY:LA Art Show 2026
DESCRIPTION:Wednesday\, January 7th through Sunday\, January 11th enjoy the LA Art Show Modern + Contemporary\, one of the most comprehensive international contemporary art show on the West Coast\, taking place at The Los Angeles Convention Center. Los Angeles has emerged as a global hub of art & culture\, with a distinct\, interwoven multi-cultural influence unique to the city. The LA Art Show continues to lead the way with innovative programming and one-of-a-kind experiences for an expanding collecting audience. Featuring over 90 galleries\, museums\, and non-profit arts organizations from around the world exhibiting painting\, sculpture\, works on paper\, installation\, photography\, design\, video and performance. All works presented by galleries are available for your purchasing pleasure. \nMore than 180\,000 square feet of exhibition space is committed to today’s prominent galleries. These domestic and international galleries\, beyond their booths\, curate special exhibits that are at the forefront of the burgeoning contemporary art movement. The fair offers an extraordinary array of works and experiences in specialized sections. \n  \nOPENING NIGHT PREMIERE\nWednesday\, January 7\, 2026 I 6pm – 10pm\nOpening Night Ticket\, $250\nVIP Red Card\, By Invitation Only \nSHOW HOURS/TICKETS\nGeneral Admission\, One Day Ticket $40\nThursday\, January 8\, 2026\n12pm – 8pm \nFriday\, January 9\, 2026\n12pm – 8pm \nSaturday\, January 10\, 2026\n11am – 8pm (Early entry\, VIP Red Card and Opening Night Ticket)\n12pm – 8pm (General Admission) \nSunday\, January 11\, 2026\n11am – 6pm (Early entry\, VIP Red Card and Opening Night Ticket)\n12pm – 6pm (General Admission)
URL:https://www.themiamiartscene.com/event/la-art-show-2026/
LOCATION:Los Angeles Convention Center\, 1201 South Figueroa Street\, Los Angeles\, CA\, 90015\, United States
ATTACH;FMTTYPE=image/png:https://www.themiamiartscene.com/wp-content/uploads/2025/12/la-art-show.png
END:VEVENT
BEGIN:VEVENT
DTSTART;TZID=America/New_York:20260108T110000
DTEND;TZID=America/New_York:20260111T160000
DTSTAMP:20260423T163736
CREATED:20251223T234033Z
LAST-MODIFIED:20251223T234033Z
UID:25732-1767870000-1768147200@www.themiamiartscene.com
SUMMARY:Miami Jewelry & Watch Show 2026
DESCRIPTION:Thursday\, January 8th through Sunday\, January 11th The Palm Beach Show Group proudly presents the inaugural Miami Jewelry & Watch Show\, making its debut at the Hyatt Regency / James L. Knight Center in the heart of Brickell. PURCHASE TICKETS HERE. \nThis highly anticipated couture event will feature world-class exhibitors\, each bringing an extraordinary selection of treasures to Miami’s vibrant luxury market. Attendees will have the rare opportunity to explore a curated mix of antique and estate jewelry\, vintage masterpieces\, contemporary and modern designs\, and iconic luxury timepieces from some of the most celebrated names in the industry. \n  \nGeneral Show Dates & Times\nThursday\, January 8 | 11am – 6pm \nFriday\, January 9 | 11am – 6pm \nSaturday\, January 10 | 11am – 6pm \nSunday\, January 11 | 11am – 4pm \n 
URL:https://www.themiamiartscene.com/event/miami-jewelry-watch-show-2026/
LOCATION:Hyatt Regency Miami / James L Knight Center\, 400 SE 2nd Street\, Miami\, FL\, 33131\, United States
ATTACH;FMTTYPE=image/jpeg:https://www.themiamiartscene.com/wp-content/uploads/2025/12/miami-jewelry-trade-show.jpeg
END:VEVENT
BEGIN:VEVENT
DTSTART;TZID=America/New_York:20260109T103000
DTEND;TZID=America/New_York:20260109T123000
DTSTAMP:20260423T163736
CREATED:20251223T143125Z
LAST-MODIFIED:20251223T143125Z
UID:25671-1767954600-1767961800@www.themiamiartscene.com
SUMMARY:The Official Art Deco Walking Tour by The Miami Design Preservation League
DESCRIPTION:Friday\, January 9th from 10:30am – 12:30pm experience the Official Art Deco District Walking Tour presented by the Miami Design Preservation League. This 1.5 to 2-hour walking tour provides an introduction to the Art Deco\, Mediterranean Revival\, and Miami Modern (MiMo) styles found within the Miami Beach Architectural Historic District. Explore hotels\, restaurants\, and other commercial structures with a visit to a number of interiors. Choose from select dates / PURCHASE TICKETS HERE. \nTour ticket includes free entry to the Art Deco Museum as well as 10% off at the Gift Shop.
URL:https://www.themiamiartscene.com/event/the-official-art-deco-walking-tour-by-the-miami-design-preservation-league-868/
LOCATION:Art Deco Welcome Center\, 1001 Ocean Drive\, Miami Beach\, FL\, 33139\, United States
ATTACH;FMTTYPE=image/jpeg:https://www.themiamiartscene.com/wp-content/uploads/2024/06/art-deco-historic-district-miami-beach.jpeg
END:VEVENT
BEGIN:VEVENT
DTSTART;TZID=America/New_York:20260109T180000
DTEND;TZID=America/New_York:20260109T200000
DTSTAMP:20260423T163736
CREATED:20260109T154113Z
LAST-MODIFIED:20260109T154113Z
UID:25770-1767981600-1767988800@www.themiamiartscene.com
SUMMARY:The Contemporary Art Modern Project presents Vision/Version\, featuring the work of New York based artist Pablo Power
DESCRIPTION:Friday\, January 9th from 6-8pm art lovers and collectors are cordially invited to enjoy a small show preview of Vision/Version\, featuring the work of New York based artist Pablo Power at The Contemporary Art Modern Project (CAMP Gallery) in North Miami. Vision/Version opens officially on Saturday\, January 17th. \nVision/Version is Power’s first solo show in Miami\, and his second solo exhibition with CAMP Gallery. This comeback to the city in nearly a decade stems from Power’s curiosity to revisit the genesis of his creative inspiration. This exhibition features a collection of both new and old mixed media works\, wall hanging sculpture\, video works\, and unique prints produced in collaboration with Keigo Prints\, which all together create a visual roadmap for the development of Power’s unique artistic language. \nThis exhibition runs from January 16 – February 21\, 2026. \n 
URL:https://www.themiamiartscene.com/event/the-contemporary-art-modern-project-presents-vision-version-featuring-the-work-of-new-york-based-artist-pablo-power/
LOCATION:The Contemporary Art Modern Project (The CAMP Gallery)\, 791-793 NE 125th Street\, North Miami\, FL\, 33161\, United States
ATTACH;FMTTYPE=image/jpeg:https://www.themiamiartscene.com/wp-content/uploads/2026/01/camp-power.jpeg
END:VEVENT
END:VCALENDAR