BEGIN:VCALENDAR
VERSION:2.0
PRODID:-//Miami Art Scene™ - ECPv6.15.20//NONSGML v1.0//EN
CALSCALE:GREGORIAN
METHOD:PUBLISH
X-ORIGINAL-URL:https://www.themiamiartscene.com
X-WR-CALDESC:Events for Miami Art Scene™
REFRESH-INTERVAL;VALUE=DURATION:PT1H
X-Robots-Tag:noindex
X-PUBLISHED-TTL:PT1H
BEGIN:VTIMEZONE
TZID:America/New_York
BEGIN:DAYLIGHT
TZOFFSETFROM:-0500
TZOFFSETTO:-0400
TZNAME:EDT
DTSTART:20250309T070000
END:DAYLIGHT
BEGIN:STANDARD
TZOFFSETFROM:-0400
TZOFFSETTO:-0500
TZNAME:EST
DTSTART:20251102T060000
END:STANDARD
BEGIN:DAYLIGHT
TZOFFSETFROM:-0500
TZOFFSETTO:-0400
TZNAME:EDT
DTSTART:20260308T070000
END:DAYLIGHT
BEGIN:STANDARD
TZOFFSETFROM:-0400
TZOFFSETTO:-0500
TZNAME:EST
DTSTART:20261101T060000
END:STANDARD
BEGIN:DAYLIGHT
TZOFFSETFROM:-0500
TZOFFSETTO:-0400
TZNAME:EDT
DTSTART:20270314T070000
END:DAYLIGHT
BEGIN:STANDARD
TZOFFSETFROM:-0400
TZOFFSETTO:-0500
TZNAME:EST
DTSTART:20271107T060000
END:STANDARD
END:VTIMEZONE
BEGIN:VEVENT
DTSTART;TZID=America/New_York:20260124T103000
DTEND;TZID=America/New_York:20260124T123000
DTSTAMP:20260423T182309
CREATED:20251223T151407Z
LAST-MODIFIED:20251223T151407Z
UID:25701-1769250600-1769257800@www.themiamiartscene.com
SUMMARY:The Official Art Deco Walking Tour by The Miami Design Preservation League
DESCRIPTION:Saturday\, January 24th from 10:30am – 12:30pm experience the Official Art Deco District Walking Tour presented by the Miami Design Preservation League. This 1.5 to 2-hour walking tour provides an introduction to the Art Deco\, Mediterranean Revival\, and Miami Modern (MiMo) styles found within the Miami Beach Architectural Historic District. Explore hotels\, restaurants\, and other commercial structures with a visit to a number of interiors. Choose from select dates / PURCHASE TICKETS HERE. \nTour ticket includes free entry to the Art Deco Museum as well as 10% off at the Gift Shop.
URL:https://www.themiamiartscene.com/event/the-official-art-deco-walking-tour-by-the-miami-design-preservation-league-883/
LOCATION:Art Deco Welcome Center\, 1001 Ocean Drive\, Miami Beach\, FL\, 33139\, United States
ATTACH;FMTTYPE=image/jpeg:https://www.themiamiartscene.com/wp-content/uploads/2024/06/art-deco-miami-beach-leslie.jpeg
END:VEVENT
BEGIN:VEVENT
DTSTART;TZID=America/New_York:20260124T110000
DTEND;TZID=America/New_York:20260124T120000
DTSTAMP:20260423T182309
CREATED:20251213T200008Z
LAST-MODIFIED:20251213T200008Z
UID:25561-1769252400-1769256000@www.themiamiartscene.com
SUMMARY:Miami Design District Public Art Tour
DESCRIPTION:Saturday\, January 24th from 11am – 12pm join the Miami Design District for a walking tour of the district\, explore the history of the art and architecture that characterize the neighborhood. Visit outdoor installations and murals including Buckminster Fuller Fly’s Eye Dome\, Virgil Abloh’s Dollar a Gallon\, Criola’s Interdimensional Portal\, and more. \nMeet in front of the Fly’s Eye Dome on the first floor of Palm Court (enter at 140 NE 39th Street). This Event is Free & Open to the Public. RSVP HERE.
URL:https://www.themiamiartscene.com/event/miami-design-district-public-art-tour-53/
LOCATION:Miami Design District Palm Court\, 140 NE 39th Street\, Miami\, FL\, 33137\, United States
ATTACH;FMTTYPE=image/jpeg:https://www.themiamiartscene.com/wp-content/uploads/2025/01/miami-design-district-public-art-tour-2025.jpeg
END:VEVENT
BEGIN:VEVENT
DTSTART;TZID=America/New_York:20260124T180000
DTEND;TZID=America/New_York:20260124T220000
DTSTAMP:20260423T182309
CREATED:20260108T191151Z
LAST-MODIFIED:20260108T191151Z
UID:25761-1769277600-1769292000@www.themiamiartscene.com
SUMMARY:"10 x 10 Again!" curated by Kara Walker Tome
DESCRIPTION:Saturday\, January 24th from 6 – 10pm for one night only\, experience 10 x 10 Again! multi-media installations by 20 artists at Sentry Storage in Lake Worth\, curated by Kara Walker Tome. $10 at the door.
URL:https://www.themiamiartscene.com/event/10-x-10-again-curated-by-kara-walker-tome/
LOCATION:Sentry Storage\, 2202 Lake Worth Road\, Lake Worth\, FL\, 33461\, United States
ATTACH;FMTTYPE=image/jpeg:https://www.themiamiartscene.com/wp-content/uploads/2026/01/10-x-10.jpeg
END:VEVENT
END:VCALENDAR