BEGIN:VCALENDAR
VERSION:2.0
PRODID:-//Miami Art Scene™ - ECPv6.15.20//NONSGML v1.0//EN
CALSCALE:GREGORIAN
METHOD:PUBLISH
X-WR-CALNAME:Miami Art Scene™
X-ORIGINAL-URL:https://www.themiamiartscene.com
X-WR-CALDESC:Events for Miami Art Scene™
REFRESH-INTERVAL;VALUE=DURATION:PT1H
X-Robots-Tag:noindex
X-PUBLISHED-TTL:PT1H
BEGIN:VTIMEZONE
TZID:America/New_York
BEGIN:DAYLIGHT
TZOFFSETFROM:-0500
TZOFFSETTO:-0400
TZNAME:EDT
DTSTART:20250309T070000
END:DAYLIGHT
BEGIN:STANDARD
TZOFFSETFROM:-0400
TZOFFSETTO:-0500
TZNAME:EST
DTSTART:20251102T060000
END:STANDARD
BEGIN:DAYLIGHT
TZOFFSETFROM:-0500
TZOFFSETTO:-0400
TZNAME:EDT
DTSTART:20260308T070000
END:DAYLIGHT
BEGIN:STANDARD
TZOFFSETFROM:-0400
TZOFFSETTO:-0500
TZNAME:EST
DTSTART:20261101T060000
END:STANDARD
BEGIN:DAYLIGHT
TZOFFSETFROM:-0500
TZOFFSETTO:-0400
TZNAME:EDT
DTSTART:20270314T070000
END:DAYLIGHT
BEGIN:STANDARD
TZOFFSETFROM:-0400
TZOFFSETTO:-0500
TZNAME:EST
DTSTART:20271107T060000
END:STANDARD
END:VTIMEZONE
BEGIN:VEVENT
DTSTART;TZID=America/New_York:20260308T103000
DTEND;TZID=America/New_York:20260308T123000
DTSTAMP:20260423T145248
CREATED:20260213T223412Z
LAST-MODIFIED:20260213T223651Z
UID:25993-1772965800-1772973000@www.themiamiartscene.com
SUMMARY:The Official Art Deco Walking Tour by The Miami Design Preservation League
DESCRIPTION:Sunday\, March 8th from 10:30am – 12:30pm experience the Official Art Deco District Walking Tour presented by the Miami Design Preservation League. This 1.5 to 2-hour walking tour provides an introduction to the Art Deco\, Mediterranean Revival\, and Miami Modern (MiMo) styles found within the Miami Beach Architectural Historic District. Explore hotels\, restaurants\, and other commercial structures with a visit to a number of interiors. Choose from select dates / PURCHASE TICKETS HERE. \nTour ticket includes free entry to the Art Deco Museum as well as 10% off at the Gift Shop.
URL:https://www.themiamiartscene.com/event/the-official-art-deco-walking-tour-by-the-miami-design-preservation-league-926/
LOCATION:Art Deco Welcome Center\, 1001 Ocean Drive\, Miami Beach\, FL\, 33139\, United States
ATTACH;FMTTYPE=image/jpeg:https://www.themiamiartscene.com/wp-content/uploads/2024/04/miami-beach-art-deco-beach-patrol--scaled-e1712359053205.jpeg
END:VEVENT
BEGIN:VEVENT
DTSTART;TZID=America/New_York:20260308T110000
DTEND;TZID=America/New_York:20260308T120000
DTSTAMP:20260423T145248
CREATED:20260228T173218Z
LAST-MODIFIED:20260228T173218Z
UID:26136-1772967600-1772971200@www.themiamiartscene.com
SUMMARY:Miami Design District Public Art Tour
DESCRIPTION:Sunday\, March 8th from 11am – 12pm in honor of International Women’s Day\, join the Miami Design District for a special edition of Public Art Tours. RSVP HERE. \nDive deep into Katie Stout’s Design Commission\, “Gargantua’s Thumb”. This hour-long walking tour of the neighborhood will be led by gallerist Nina Johnson\, a champion of contemporary artists and founder of the namesake Miami-based gallery. Tour begins in Palm Court. \n 
URL:https://www.themiamiartscene.com/event/miami-design-district-public-art-tour-56/
LOCATION:Miami Design District Palm Court\, 140 NE 39th Street\, Miami\, FL\, 33137\, United States
ATTACH;FMTTYPE=image/png:https://www.themiamiartscene.com/wp-content/uploads/2026/02/miami-design-district-public-art-tour_dior.png
END:VEVENT
BEGIN:VEVENT
DTSTART;TZID=America/New_York:20260308T120000
DTEND;TZID=America/New_York:20260308T150000
DTSTAMP:20260423T145248
CREATED:20260307T213917Z
LAST-MODIFIED:20260307T214737Z
UID:26191-1772971200-1772982000@www.themiamiartscene.com
SUMMARY:CAMP Gallery presents Under the Red Tent\, an immersive fiber exhibition
DESCRIPTION:Sunday\, March 8th from 12 – 3pm The Contemporary Art Modern Project (CAMP Gallery) is proud to announce their March exhibition in collaboration with Red Thread Art Studio Miami\, Under The Red Tent\, an immersive fiber exhibition that brings together artists whose practices engage thread and textile as tools of storytelling\, connection\, and resistance. Celebrate the opening of Under The Red Tent with a special brunch on International Women’s Day\, where the gallery will be serving catering by Rodilla and special drinks by The Sipistry. This Event is Free & Open to the Public\, RSVP HERE. Red Thread Art Studio Miami was founded by fiber artist Aurora Molina. Under The Red Tent will be on view through Sunday\, April 26th. \nIn alignment with The CAMP Gallery’s emphasis on participation and dialogue\, Under The Red Tent incorporates a living oral-history archive that unfolds throughout the exhibition. The exhibition’s themes echo the novel The Red Tent by Anita Diamant\, where the red tent becomes a physical sanctuary for women to gather during menstruation and childbirth\, as a symbol of feminine community\, strength\, and generational wisdom. \nParticipating artists: Aida Tejada\, Angela Bolaños\, Anna Biondo\, Aurora Molina\, Bella Cardim\, Cynthia Passavanti\, Debora Rosental\, Eva Llarena\, Fernanda Froes\, Flavia Fortuna\, Flor Godward\, Juliana Torres\, Katia Bandeira de Mello\, Marine Fonteyne\, Mila Hajjar\, Mirele Volkart\, Paola Mondolfi\, Robertha Blatt\, Sarah Laing and Susanne Schirato.
URL:https://www.themiamiartscene.com/event/camp-gallery-presents-under-the-red-tent-an-immersive-fiber-exhibition/
LOCATION:The Contemporary Art Modern Project (The CAMP Gallery)\, 791-793 NE 125th Street\, North Miami\, FL\, 33161\, United States
ATTACH;FMTTYPE=image/png:https://www.themiamiartscene.com/wp-content/uploads/2026/03/CAMP_RedTent_Invite-e1772916666713.png
END:VEVENT
END:VCALENDAR