BEGIN:VCALENDAR
VERSION:2.0
PRODID:-//Miami Art Scene™ - ECPv6.15.20//NONSGML v1.0//EN
CALSCALE:GREGORIAN
METHOD:PUBLISH
X-ORIGINAL-URL:https://www.themiamiartscene.com
X-WR-CALDESC:Events for Miami Art Scene™
REFRESH-INTERVAL;VALUE=DURATION:PT1H
X-Robots-Tag:noindex
X-PUBLISHED-TTL:PT1H
BEGIN:VTIMEZONE
TZID:America/New_York
BEGIN:DAYLIGHT
TZOFFSETFROM:-0500
TZOFFSETTO:-0400
TZNAME:EDT
DTSTART:20250309T070000
END:DAYLIGHT
BEGIN:STANDARD
TZOFFSETFROM:-0400
TZOFFSETTO:-0500
TZNAME:EST
DTSTART:20251102T060000
END:STANDARD
BEGIN:DAYLIGHT
TZOFFSETFROM:-0500
TZOFFSETTO:-0400
TZNAME:EDT
DTSTART:20260308T070000
END:DAYLIGHT
BEGIN:STANDARD
TZOFFSETFROM:-0400
TZOFFSETTO:-0500
TZNAME:EST
DTSTART:20261101T060000
END:STANDARD
BEGIN:DAYLIGHT
TZOFFSETFROM:-0500
TZOFFSETTO:-0400
TZNAME:EDT
DTSTART:20270314T070000
END:DAYLIGHT
BEGIN:STANDARD
TZOFFSETFROM:-0400
TZOFFSETTO:-0500
TZNAME:EST
DTSTART:20271107T060000
END:STANDARD
END:VTIMEZONE
BEGIN:VEVENT
DTSTART;TZID=America/New_York:20260312T103000
DTEND;TZID=America/New_York:20260312T123000
DTSTAMP:20260423T163736
CREATED:20260213T230013Z
LAST-MODIFIED:20260213T230013Z
UID:26001-1773311400-1773318600@www.themiamiartscene.com
SUMMARY:The Official Art Deco Walking Tour by The Miami Design Preservation League
DESCRIPTION:Thursday\, March 12th from 10:30am – 12:30pm experience the Official Art Deco District Walking Tour presented by the Miami Design Preservation League. This 1.5 to 2-hour walking tour provides an introduction to the Art Deco\, Mediterranean Revival\, and Miami Modern (MiMo) styles found within the Miami Beach Architectural Historic District. Explore hotels\, restaurants\, and other commercial structures with a visit to a number of interiors. Choose from select dates / PURCHASE TICKETS HERE. \nTour ticket includes free entry to the Art Deco Museum as well as 10% off at the Gift Shop.
URL:https://www.themiamiartscene.com/event/the-official-art-deco-walking-tour-by-the-miami-design-preservation-league-930/
LOCATION:Art Deco Welcome Center\, 1001 Ocean Drive\, Miami Beach\, FL\, 33139\, United States
ATTACH;FMTTYPE=image/jpeg:https://www.themiamiartscene.com/wp-content/uploads/2025/07/art-deco-beach-patrol-headquarters.jpeg
END:VEVENT
BEGIN:VEVENT
DTSTART;TZID=America/New_York:20260312T190000
DTEND;TZID=America/New_York:20260312T200000
DTSTAMP:20260423T163736
CREATED:20260310T194918Z
LAST-MODIFIED:20260310T194918Z
UID:26200-1773342000-1773345600@www.themiamiartscene.com
SUMMARY:PAMM: Yoga on the Waterfront Terrace | Presented by Goya Foods
DESCRIPTION:Thursday\, March 12th from 7 – 8pm spend your Thursday evening on Pérez Art Museum Miami’s (PAMM) waterfront terrace with a wellness class open to all ages and abilities! Presented by Goya\, Ahana Yoga’s class will blend music and movement to make you feel steady and grounded. \nThe class is led by Dawn Feinberg\, known for her warm presence\, light humor\, and groovy\, uplifting playlists that support both focus and flow. With live DJ support by Lucaz\, the experience is rooted\, rhythmic\, and calming—allowing the movement\, music\, and setting to gently carry you through the practice. Move at your own pace. Rest when needed. Let the view\, the breath\, and the music guide you. \nSample wellness mocktails pre-yoga\, and then after class you’ll have the chance to enjoy sample cocktails. Before class\, don’t miss your chance to enjoy happy hour specials at Verde restaurant and bar\, or explore PAMM’s galleries and catch Elliot & Erick Jiménez: El Monte\, closing on March 22. \nThis event is free with RSVP. Tickets are only required for the museum galleries. \n 
URL:https://www.themiamiartscene.com/event/pamm-yoga-on-the-waterfront-terrace-presented-by-goya-foods/
LOCATION:Pérez Art Museum Miami\, 1103 Biscayne Boulevard\, Miami\, FL\, 33132\, United States
ATTACH;FMTTYPE=image/png:https://www.themiamiartscene.com/wp-content/uploads/2026/03/pamm-yoga-goya-2026.png
END:VEVENT
END:VCALENDAR