BEGIN:VCALENDAR
VERSION:2.0
PRODID:-//Miami Art Scene™ - ECPv6.15.20//NONSGML v1.0//EN
CALSCALE:GREGORIAN
METHOD:PUBLISH
X-ORIGINAL-URL:https://www.themiamiartscene.com
X-WR-CALDESC:Events for Miami Art Scene™
REFRESH-INTERVAL;VALUE=DURATION:PT1H
X-Robots-Tag:noindex
X-PUBLISHED-TTL:PT1H
BEGIN:VTIMEZONE
TZID:America/New_York
BEGIN:DAYLIGHT
TZOFFSETFROM:-0500
TZOFFSETTO:-0400
TZNAME:EDT
DTSTART:20250309T070000
END:DAYLIGHT
BEGIN:STANDARD
TZOFFSETFROM:-0400
TZOFFSETTO:-0500
TZNAME:EST
DTSTART:20251102T060000
END:STANDARD
BEGIN:DAYLIGHT
TZOFFSETFROM:-0500
TZOFFSETTO:-0400
TZNAME:EDT
DTSTART:20260308T070000
END:DAYLIGHT
BEGIN:STANDARD
TZOFFSETFROM:-0400
TZOFFSETTO:-0500
TZNAME:EST
DTSTART:20261101T060000
END:STANDARD
BEGIN:DAYLIGHT
TZOFFSETFROM:-0500
TZOFFSETTO:-0400
TZNAME:EDT
DTSTART:20270314T070000
END:DAYLIGHT
BEGIN:STANDARD
TZOFFSETFROM:-0400
TZOFFSETTO:-0500
TZNAME:EST
DTSTART:20271107T060000
END:STANDARD
END:VTIMEZONE
BEGIN:VEVENT
DTSTART;TZID=America/New_York:20260318T103000
DTEND;TZID=America/New_York:20260318T123000
DTSTAMP:20260423T132438
CREATED:20260215T222512Z
LAST-MODIFIED:20260215T222512Z
UID:26026-1773829800-1773837000@www.themiamiartscene.com
SUMMARY:The Official Art Deco Walking Tour by The Miami Design Preservation League
DESCRIPTION:Wednesday\, March 18th from 10:30am – 12:30pm experience the Official Art Deco District Walking Tour presented by the Miami Design Preservation League. This 1.5 to 2-hour walking tour provides an introduction to the Art Deco\, Mediterranean Revival\, and Miami Modern (MiMo) styles found within the Miami Beach Architectural Historic District. Explore hotels\, restaurants\, and other commercial structures with a visit to a number of interiors. Choose from select dates / PURCHASE TICKETS HERE. \nTour ticket includes free entry to the Art Deco Museum as well as 10% off at the Gift Shop.
URL:https://www.themiamiartscene.com/event/the-official-art-deco-walking-tour-by-the-miami-design-preservation-league-939/
LOCATION:Art Deco Welcome Center\, 1001 Ocean Drive\, Miami Beach\, FL\, 33139\, United States
ATTACH;FMTTYPE=image/jpeg:https://www.themiamiartscene.com/wp-content/uploads/2023/02/art-deco-miami-beach-2023.jpg
END:VEVENT
BEGIN:VEVENT
DTSTART;TZID=America/New_York:20260318T113000
DTEND;TZID=America/New_York:20260318T113000
DTSTAMP:20260423T132438
CREATED:20260318T025859Z
LAST-MODIFIED:20260318T025859Z
UID:26349-1773833400-1773833400@www.themiamiartscene.com
SUMMARY:NSU Art Museum: Friends Spring Luncheon
DESCRIPTION:Wednesday\, March 18th at 11:30am you are cordially invited to attend Lunch With Friends at the Coral Ridge Yacht Club in Fort Lauderdale\, celebrating the Collections of NSU Art Museum Fort Lauderdale to benefit NSU Art Museum Fort Lauderdale and The Museum on the Move Program. \nProsecco Reception\, Silent Auction\, Photo Booth\, Live Music. Complimentary Valet Parking. RSVP by March 4\, 2026. \nCommittee:\nAnn Harsh and Marjorie Dorris\nKellie Allen\, Pat Blacker\, Terry Del Rossi\, Shirley Gleason\,\nKathalyn Haimo\, Mimi Hershenson\, Carol Horning\,\nShari Kellermeyer\, Barbara Knochenhauer\, Joyce Leiberman\,\nTina Levy\, Ethel Lipoff\, Liannette Marquez\, Joanne Nagel\,\nDorothy Paczosa\, Sandra Runes\, Faustina Sindall\, Mark Solomon\, Rebecca Solomon\, Janet Stokoe\, Joan Wolfe \nMission:\nFRIENDS of the Art Museum Fort Lauderdale is an active volunteer service and fundraising organization supporting the Art Museum Fort Lauderdale and fostering community interest in the arts. This springtime luncheon is our signature fundraising event. For our membership\, our focus is providing educational activities which include art lectures and art-centered field trips. Membership in FRIENDS is a structured means to participate in and support our Museum. \n  \nImage:\nJoy Gregory\, Barbie- The Golden Years (Throwing Shapes)\,\n2024. Cyanotype on Bockingford Oatmeal. Sheet: 30 in x 22 in\n(76.2 cm x 55.88 cm). NSU Art Museum Fort Lauderdale; purchased through the Susan S. Miller Acquisitions Fund\nNote:\nFRIENDS wishes to acknowledge the featured work was acquired by the generosity of the Susan S. Miller Fund through the Docent Council. Susan was an accomplished artist and Art Museum Docent. Her legacy to provide a contemporary work by a living artist for the permanent collection is inspirational.
URL:https://www.themiamiartscene.com/event/nsu-art-museum-friends-spring-luncheon/
LOCATION:Coral Ridge Yacht Club\, 2800 Yacht Club Blvd\, Fort Lauderdale\, FL\, 33021\, United States
ATTACH;FMTTYPE=image/jpeg:https://www.themiamiartscene.com/wp-content/uploads/2026/03/NSU-Spring-Into-Art-Joy-Gregory-766x1024-1.jpeg
END:VEVENT
BEGIN:VEVENT
DTSTART;TZID=America/New_York:20260318T180000
DTEND;TZID=America/New_York:20260318T200000
DTSTAMP:20260423T132438
CREATED:20260211T211015Z
LAST-MODIFIED:20260211T211015Z
UID:25976-1773856800-1773864000@www.themiamiartscene.com
SUMMARY:PAMM Museum Circle Preview | Get in the Game: Sports\, Art\, Culture
DESCRIPTION:Wednesday\, March 18th from 6 – 8pm enjoy PAMM Museum Circle Preview | Get in the Game: Sports\, Art\, Culture at the Pérez Art Museum Miami (PAMM). Experience Get in the Game: Sports\, Art\, Culture before it opens to the public. Join us for an intimate exhibition preview and reception alongside some of the artists.Exclusively for Museum Circle-level members and above. Become a member to receive your invitation. RSVP HERE. \nAbout Get in the Game: Sports\, Art\, Culture \nGet in the Game: Sports\, Art\, Culture explores the dynamic interplay between athletic performance and artistic expression. Coinciding with major international sporting events taking place in Miami—the Miami Open\, the Formula 1 Grand Prix\, and the FIFA World Cup\, the exhibition positions Pérez Art Museum Miami (PAMM) as a site where global audiences converge to reflect on the cultural impact of sport. In a city shaped by exchange and diversity\, the exhibition underscores how games and competitions create common ground across traditions\, identities\, and rivalries. \nFeaturing more than 100 works by artists from around the world—including highlights from PAMM’s collection—Get in the Game demonstrates how sport has inspired both personal expression and shared cultural memory. Visitors encounter Ernie Barnes’s soulful depictions of neighborhood basketball games\, Douglas Gordon and Philippe Parreno’s cinematic meditation that follows French soccer star Zinedine Zidane’s in real time over the course of a match\, and Tara Mateik’s reenactment of the historic 1973 “Battle of the Sexes” tennis match between Billie Jean King and Bobby Riggs. Artworks are presented alongside historic sports memorabilia—from 1970s Nike sneakers to original McLaren Racing steering wheels—revealing the intertwined histories of creativity\, athleticism\, and spectacle. \nUltimately\, Get in the Game honors the resilience\, energy\, and imagination that define sports culture\, while inviting visitors to consider how art reframes these themes across time and place. Immersive installations extend the experience beyond the visual\, encouraging audiences to step into the arena. \n  \nIMAGE: Guest in gallery.
URL:https://www.themiamiartscene.com/event/pamm-museum-circle-preview-get-in-the-game-sports-art-culture/
LOCATION:Pérez Art Museum Miami\, 1103 Biscayne Boulevard\, Miami\, FL\, 33132\, United States
ATTACH;FMTTYPE=image/png:https://www.themiamiartscene.com/wp-content/uploads/2026/02/pamm-guest.png
END:VEVENT
END:VCALENDAR