BEGIN:VCALENDAR
VERSION:2.0
PRODID:-//Miami Art Scene™ - ECPv6.15.20//NONSGML v1.0//EN
CALSCALE:GREGORIAN
METHOD:PUBLISH
X-ORIGINAL-URL:https://www.themiamiartscene.com
X-WR-CALDESC:Events for Miami Art Scene™
REFRESH-INTERVAL;VALUE=DURATION:PT1H
X-Robots-Tag:noindex
X-PUBLISHED-TTL:PT1H
BEGIN:VTIMEZONE
TZID:America/New_York
BEGIN:DAYLIGHT
TZOFFSETFROM:-0500
TZOFFSETTO:-0400
TZNAME:EDT
DTSTART:20240310T070000
END:DAYLIGHT
BEGIN:STANDARD
TZOFFSETFROM:-0400
TZOFFSETTO:-0500
TZNAME:EST
DTSTART:20241103T060000
END:STANDARD
BEGIN:DAYLIGHT
TZOFFSETFROM:-0500
TZOFFSETTO:-0400
TZNAME:EDT
DTSTART:20250309T070000
END:DAYLIGHT
BEGIN:STANDARD
TZOFFSETFROM:-0400
TZOFFSETTO:-0500
TZNAME:EST
DTSTART:20251102T060000
END:STANDARD
BEGIN:DAYLIGHT
TZOFFSETFROM:-0500
TZOFFSETTO:-0400
TZNAME:EDT
DTSTART:20260308T070000
END:DAYLIGHT
BEGIN:STANDARD
TZOFFSETFROM:-0400
TZOFFSETTO:-0500
TZNAME:EST
DTSTART:20261101T060000
END:STANDARD
END:VTIMEZONE
BEGIN:VEVENT
DTSTART;TZID=America/New_York:20250925T170000
DTEND;TZID=America/New_York:20250925T210000
DTSTAMP:20260424T132347
CREATED:20250922T014113Z
LAST-MODIFIED:20250922T014607Z
UID:24760-1758819600-1758834000@www.themiamiartscene.com
SUMMARY:PAMMSonic with DJ Gia Fu
DESCRIPTION:Thursday\, September 25th from 5 – 9pm enjoy PAMMSonic with DJ Gia Fu at the Pérez Art Museum Miami’s (PAMM). Kick off the PAMMSonic DJ series with Gia Fu\, Hong Kong DJ\, music producer\, and cultural researcher\, known for her deep-rooted work in Afro-Latin music\, particularly Salsa and its associated rhythms. In celebration of Latin and Hispanic Heritage Month\, she will take over the turntables with rhythms that celebrate the sonic diversity found across the Caribbean and Latin America.  RSVP HERE. \nInside the museum\, take a tour\, participate in art-making activities with local artists\, or explore new exhibitions and permanent collection galleries until 9pm. \nSchedule \n\n5–8pm Happy hour specials at Verde\n6pm Tour the galleries\n7–9pm DJ Gia Fu on the terrace\n\nThis music series is free with RSVP. Tickets are only required for museum gallery access.
URL:https://www.themiamiartscene.com/event/pammsonic-with-dj-gia-fu/
LOCATION:Pérez Art Museum Miami\, 1103 Biscayne Boulevard\, Miami\, FL\, 33132\, United States
ATTACH;FMTTYPE=image/png:https://www.themiamiartscene.com/wp-content/uploads/2025/09/pamm-Gia-Fu-Hong-Kong-DJ.png
END:VEVENT
END:VCALENDAR