BEGIN:VCALENDAR
VERSION:2.0
PRODID:-//Miami Art Scene™ - ECPv6.15.20//NONSGML v1.0//EN
CALSCALE:GREGORIAN
METHOD:PUBLISH
X-ORIGINAL-URL:https://www.themiamiartscene.com
X-WR-CALDESC:Events for Miami Art Scene™
REFRESH-INTERVAL;VALUE=DURATION:PT1H
X-Robots-Tag:noindex
X-PUBLISHED-TTL:PT1H
BEGIN:VTIMEZONE
TZID:America/New_York
BEGIN:DAYLIGHT
TZOFFSETFROM:-0500
TZOFFSETTO:-0400
TZNAME:EDT
DTSTART:20240310T070000
END:DAYLIGHT
BEGIN:STANDARD
TZOFFSETFROM:-0400
TZOFFSETTO:-0500
TZNAME:EST
DTSTART:20241103T060000
END:STANDARD
BEGIN:DAYLIGHT
TZOFFSETFROM:-0500
TZOFFSETTO:-0400
TZNAME:EDT
DTSTART:20250309T070000
END:DAYLIGHT
BEGIN:STANDARD
TZOFFSETFROM:-0400
TZOFFSETTO:-0500
TZNAME:EST
DTSTART:20251102T060000
END:STANDARD
BEGIN:DAYLIGHT
TZOFFSETFROM:-0500
TZOFFSETTO:-0400
TZNAME:EDT
DTSTART:20260308T070000
END:DAYLIGHT
BEGIN:STANDARD
TZOFFSETFROM:-0400
TZOFFSETTO:-0500
TZNAME:EST
DTSTART:20261101T060000
END:STANDARD
END:VTIMEZONE
BEGIN:VEVENT
DTSTART;TZID=America/New_York:20251213T110000
DTEND;TZID=America/New_York:20251213T150000
DTSTAMP:20260424T035157
CREATED:20251211T000024Z
LAST-MODIFIED:20251211T000024Z
UID:25538-1765623600-1765638000@www.themiamiartscene.com
SUMMARY:PAMM Free Second Saturdays
DESCRIPTION:Saturday\, December 13th from 11am–3pm enjoy PAMM Free Second Saturdays: Landscapes Reimagined at Pérez Art Museum Miami (PAMM)\, a free\, fun-filled family day! Explore the vibrant world of Miami-born artist Teresita Fernández\, whose creative use of unconventional materials turns landscapes into mesmerizing illusions. Her large-scale artworks invite families to look closely\, imagine freely\, and create their own art in surprising new ways. \nFor the rest of the day\, explore the galleries\, grab a meal at Verde\, or sit back and enjoy the breeze on the waterfront terrace.
URL:https://www.themiamiartscene.com/event/pamm-free-second-saturdays-7/
LOCATION:Pérez Art Museum Miami\, 1103 Biscayne Boulevard\, Miami\, FL\, 33132\, United States
ATTACH;FMTTYPE=image/png:https://www.themiamiartscene.com/wp-content/uploads/2025/12/pamm-landscapes-reimagined.png
END:VEVENT
END:VCALENDAR