BEGIN:VCALENDAR
VERSION:2.0
PRODID:-//Miami Art Scene™ - ECPv6.15.20//NONSGML v1.0//EN
CALSCALE:GREGORIAN
METHOD:PUBLISH
X-ORIGINAL-URL:https://www.themiamiartscene.com
X-WR-CALDESC:Events for Miami Art Scene™
REFRESH-INTERVAL;VALUE=DURATION:PT1H
X-Robots-Tag:noindex
X-PUBLISHED-TTL:PT1H
BEGIN:VTIMEZONE
TZID:America/New_York
BEGIN:DAYLIGHT
TZOFFSETFROM:-0500
TZOFFSETTO:-0400
TZNAME:EDT
DTSTART:20240310T070000
END:DAYLIGHT
BEGIN:STANDARD
TZOFFSETFROM:-0400
TZOFFSETTO:-0500
TZNAME:EST
DTSTART:20241103T060000
END:STANDARD
BEGIN:DAYLIGHT
TZOFFSETFROM:-0500
TZOFFSETTO:-0400
TZNAME:EDT
DTSTART:20250309T070000
END:DAYLIGHT
BEGIN:STANDARD
TZOFFSETFROM:-0400
TZOFFSETTO:-0500
TZNAME:EST
DTSTART:20251102T060000
END:STANDARD
BEGIN:DAYLIGHT
TZOFFSETFROM:-0500
TZOFFSETTO:-0400
TZNAME:EDT
DTSTART:20260308T070000
END:DAYLIGHT
BEGIN:STANDARD
TZOFFSETFROM:-0400
TZOFFSETTO:-0500
TZNAME:EST
DTSTART:20261101T060000
END:STANDARD
END:VTIMEZONE
BEGIN:VEVENT
DTSTART;TZID=America/New_York:20251201T100000
DTEND;TZID=America/New_York:20251201T120000
DTSTAMP:20260425T120516
CREATED:20251119T034029Z
LAST-MODIFIED:20251119T034029Z
UID:25433-1764583200-1764590400@www.themiamiartscene.com
SUMMARY:The Bass presents BENEFACTOR+ | Miami Art Week Kickoff Brunch | Hosted by Bulgari & Phillips
DESCRIPTION:Monday\, December 1st from 10am – 12pm celebrate the start of Miami’s most exciting week of art and culture at The Bass\, hosted by BVLGARI and Phillips. Join Executive Director Silvia Karman Cubiñá\, The Bass Board of Trustees\, exhibiting artists\, and fellow art enthusiasts over light bites and beverages\, and explore the galleries at your own pace. \nSpace is limited and RSVP is required. This program is exclusively for members at the Benefactor ($1\,000) level and above. Become a Member Today! \n 
URL:https://www.themiamiartscene.com/event/the-bass-presents-benefactor-miami-art-week-kickoff-brunch-hosted-by-bulgari-phillips/
LOCATION:The Bass\, 2100 Collins Avenue\, Miami Beach\, FL\, 33139\, United States
ATTACH;FMTTYPE=image/jpeg:https://www.themiamiartscene.com/wp-content/uploads/2025/11/the-bass-brunch.jpeg
END:VEVENT
BEGIN:VEVENT
DTSTART;TZID=America/New_York:20251201T103000
DTEND;TZID=America/New_York:20251201T123000
DTSTAMP:20260425T120516
CREATED:20251105T204749Z
LAST-MODIFIED:20251105T204749Z
UID:25261-1764585000-1764592200@www.themiamiartscene.com
SUMMARY:The Official Art Deco Walking Tour by The Miami Design Preservation League
DESCRIPTION:Monday\, December 1st from 10:30am – 12:30pm experience the Official Art Deco District Walking Tour presented by the Miami Design Preservation League. This 1.5 to 2-hour walking tour provides an introduction to the Art Deco\, Mediterranean Revival\, and Miami Modern (MiMo) styles found within the Miami Beach Architectural Historic District. Explore hotels\, restaurants\, and other commercial structures with a visit to a number of interiors. Choose from select dates / PURCHASE TICKETS HERE. \nTour ticket includes free entry to the Art Deco Museum as well as 10% off at the Gift Shop.
URL:https://www.themiamiartscene.com/event/the-official-art-deco-walking-tour-by-the-miami-design-preservation-league-828/
LOCATION:Art Deco Welcome Center\, 1001 Ocean Drive\, Miami Beach\, FL\, 33139\, United States
ATTACH;FMTTYPE=image/jpeg:https://www.themiamiartscene.com/wp-content/uploads/2024/06/art-deco-miami-beach-leslie.jpeg
END:VEVENT
END:VCALENDAR