BEGIN:VCALENDAR
VERSION:2.0
PRODID:-//Miami Art Scene™ - ECPv6.15.20//NONSGML v1.0//EN
CALSCALE:GREGORIAN
METHOD:PUBLISH
X-ORIGINAL-URL:https://www.themiamiartscene.com
X-WR-CALDESC:Events for Miami Art Scene™
REFRESH-INTERVAL;VALUE=DURATION:PT1H
X-Robots-Tag:noindex
X-PUBLISHED-TTL:PT1H
BEGIN:VTIMEZONE
TZID:America/New_York
BEGIN:DAYLIGHT
TZOFFSETFROM:-0500
TZOFFSETTO:-0400
TZNAME:EDT
DTSTART:20240310T070000
END:DAYLIGHT
BEGIN:STANDARD
TZOFFSETFROM:-0400
TZOFFSETTO:-0500
TZNAME:EST
DTSTART:20241103T060000
END:STANDARD
BEGIN:DAYLIGHT
TZOFFSETFROM:-0500
TZOFFSETTO:-0400
TZNAME:EDT
DTSTART:20250309T070000
END:DAYLIGHT
BEGIN:STANDARD
TZOFFSETFROM:-0400
TZOFFSETTO:-0500
TZNAME:EST
DTSTART:20251102T060000
END:STANDARD
BEGIN:DAYLIGHT
TZOFFSETFROM:-0500
TZOFFSETTO:-0400
TZNAME:EDT
DTSTART:20260308T070000
END:DAYLIGHT
BEGIN:STANDARD
TZOFFSETFROM:-0400
TZOFFSETTO:-0500
TZNAME:EST
DTSTART:20261101T060000
END:STANDARD
END:VTIMEZONE
BEGIN:VEVENT
DTSTART;TZID=America/New_York:20251211T103000
DTEND;TZID=America/New_York:20251211T123000
DTSTAMP:20260425T120515
CREATED:20251105T215842Z
LAST-MODIFIED:20251105T215842Z
UID:25281-1765449000-1765456200@www.themiamiartscene.com
SUMMARY:The Official Art Deco Walking Tour by The Miami Design Preservation League
DESCRIPTION:Thursday\, December 11th from 10:30am – 12:30pm experience the Official Art Deco District Walking Tour presented by the Miami Design Preservation League. This 1.5 to 2-hour walking tour provides an introduction to the Art Deco\, Mediterranean Revival\, and Miami Modern (MiMo) styles found within the Miami Beach Architectural Historic District. Explore hotels\, restaurants\, and other commercial structures with a visit to a number of interiors. Choose from select dates / PURCHASE TICKETS HERE. \nTour ticket includes free entry to the Art Deco Museum as well as 10% off at the Gift Shop.
URL:https://www.themiamiartscene.com/event/the-official-art-deco-walking-tour-by-the-miami-design-preservation-league-838/
LOCATION:Art Deco Welcome Center\, 1001 Ocean Drive\, Miami Beach\, FL\, 33139\, United States
ATTACH;FMTTYPE=image/jpeg:https://www.themiamiartscene.com/wp-content/uploads/2022/07/art-deco-walking-tour-miami-beach3s.jpg
END:VEVENT
BEGIN:VEVENT
DTSTART;TZID=America/New_York:20251211T183000
DTEND;TZID=America/New_York:20251211T200000
DTSTAMP:20260425T120515
CREATED:20251210T235634Z
LAST-MODIFIED:20251210T235634Z
UID:25535-1765477800-1765483200@www.themiamiartscene.com
SUMMARY:Curator’s Corner with PAMM Curator Jennifer Inacio
DESCRIPTION:Thursday\, December 11th from 6:30 – 8pm enjoy an exclusive private guided tour of artist Woody De Othello’s first major museum solo exhibition\, coming forth by day\, at Pérez Art Museum Miami (PAMM)\, led by Curator Jennifer Inacio. Step into a world of over 20 new sculptures\, where Othello’s Miami roots and Haitian heritage come alive through a bold fusion of spirituality\, culture\, and strikingly surreal artistry. This exhibition\, divided into four captivating sections\, invites you to witness everyday objects transformed into animated\, spiritual beings\, as the artist blends the animate with the inanimate. Othello’s vision stretches familiar forms to cartoonish extremes\, infusing each piece with profound energy drawn from his ancestral traditions. See link for details. \nKick off your experience like a VIP with a dedicated check-in. Then\, enjoy a pre-tour toast on PAMM’s private waterfront terrace\, where breathtaking views of Miami’s skyline set the stage for an unforgettable evening. Joining your expert guides\, you’ll then embark on a curated tour of the exhibition\, gaining fascinating insights into each piece. You’ll also enjoy complimentary admission until 9pm and validated parking.
URL:https://www.themiamiartscene.com/event/curators-corner-with-pamm-curator-jennifer-inacio/
LOCATION:Pérez Art Museum Miami\, 1103 Biscayne Boulevard\, Miami\, FL\, 33132\, United States
ATTACH;FMTTYPE=image/png:https://www.themiamiartscene.com/wp-content/uploads/2025/12/pamm-curators-corner.png
END:VEVENT
END:VCALENDAR