BEGIN:VCALENDAR
VERSION:2.0
PRODID:-//Miami Art Scene™ - ECPv6.15.20//NONSGML v1.0//EN
CALSCALE:GREGORIAN
METHOD:PUBLISH
X-WR-CALNAME:Miami Art Scene™
X-ORIGINAL-URL:https://www.themiamiartscene.com
X-WR-CALDESC:Events for Miami Art Scene™
REFRESH-INTERVAL;VALUE=DURATION:PT1H
X-Robots-Tag:noindex
X-PUBLISHED-TTL:PT1H
BEGIN:VTIMEZONE
TZID:America/New_York
BEGIN:DAYLIGHT
TZOFFSETFROM:-0500
TZOFFSETTO:-0400
TZNAME:EDT
DTSTART:20240310T070000
END:DAYLIGHT
BEGIN:STANDARD
TZOFFSETFROM:-0400
TZOFFSETTO:-0500
TZNAME:EST
DTSTART:20241103T060000
END:STANDARD
BEGIN:DAYLIGHT
TZOFFSETFROM:-0500
TZOFFSETTO:-0400
TZNAME:EDT
DTSTART:20250309T070000
END:DAYLIGHT
BEGIN:STANDARD
TZOFFSETFROM:-0400
TZOFFSETTO:-0500
TZNAME:EST
DTSTART:20251102T060000
END:STANDARD
BEGIN:DAYLIGHT
TZOFFSETFROM:-0500
TZOFFSETTO:-0400
TZNAME:EDT
DTSTART:20260308T070000
END:DAYLIGHT
BEGIN:STANDARD
TZOFFSETFROM:-0400
TZOFFSETTO:-0500
TZNAME:EST
DTSTART:20261101T060000
END:STANDARD
BEGIN:DAYLIGHT
TZOFFSETFROM:-0500
TZOFFSETTO:-0400
TZNAME:EDT
DTSTART:20270314T070000
END:DAYLIGHT
BEGIN:STANDARD
TZOFFSETFROM:-0400
TZOFFSETTO:-0500
TZNAME:EST
DTSTART:20271107T060000
END:STANDARD
END:VTIMEZONE
BEGIN:VEVENT
DTSTART;TZID=America/New_York:20251231T210000
DTEND;TZID=America/New_York:20260101T013000
DTSTAMP:20260423T200522
CREATED:20251225T142408Z
LAST-MODIFIED:20251225T142408Z
UID:25742-1767214800-1767231000@www.themiamiartscene.com
SUMMARY:Miami's only 5-Star NYE Cruise Aboard a Megayacht - Families Welcome!
DESCRIPTION:December 31st at 9pm to January 1st at 1:30am experience New Year’s Eve aboard Miami’s iconic 5-star Megayacht. Celebrate 2026 in unmatched luxury on Biscayne Bay. PURCHASE TICKETS HERE. \nLimited-time – $25 off each ticket | From Dec 15th to Dec 24th. Ticket prices will increase as capacity is reached. \nStep aboard The Grand Luxe\, Florida’s only five-star megayacht\, and experience a New Year’s Eve unlike any other. At four times the size of any other NYE vessel\, Seafair offers expansive decks\, marble interiors\, private lounges\, and Miami’s largest skydeck — delivering panoramic views of the city’s spectacular midnight fireworks. \nUnlike many yacht parties\, Seafair is designed for friends\, couples\, families\, and children of all ages\, making it Miami’s most inclusive luxury celebration. \n  \nA Five-Star Culinary Experience \nYour evening begins with a gourmet dining experience featuring: \nCreative\, chef-driven hors d’oeuvres\nUSDA Prime and Wagyu beef\nGlobally sourced seafood\nMichelin-quality selections\nPremium wines & spirits included for all guests\nSuper-premium beverages & caviar upgrades available\nEvery detail is curated to elevate your dining experience to the level of world-class hospitality. \n  \nEntertainment Across Every Deck \nThe Grand Luxe offers a full spectrum of live entertainment\, from dazzling carnival performers\, Live jazz to Top-tier DJ sets. \n  \nAt midnight\, the sky ignites with Miami’s famous fireworks — best enjoyed from our expansive skydeck\, the largest on the water. \n  \n⭐ VIP Experience: The Most Exclusive Way to Celebrate \nFor guests seeking an elevated evening: \nEarly boarding at 7:45 PM\nPrivate VIP reception with signature hors d’oeuvres\nUpgraded champagne from 8–9 PM\nAccess to the deck 3 aft featuring a connoisseur bar \nBOARDING REMINDER:\nPlease arrive at least 20 minutes before boarding. The yacht departs promptly for a spectacular New Year’s Eve cruise. \nJoin us aboard Miami’s most prestigious New Year’s Eve celebration and welcome 2026 in true Seafair style.
URL:https://www.themiamiartscene.com/event/miamis-only-5-star-nye-cruise-aboard-a-megayacht-families-welcome/
LOCATION:SeaFair MegaYacht\, 100 Chopin Plaza\, Adjacent to InterContinental Hotel Downtown Miami\, Miami\, FL\, 33131\, United States
ATTACH;FMTTYPE=image/jpeg:https://www.themiamiartscene.com/wp-content/uploads/2025/12/seafair-nye.jpeg
END:VEVENT
END:VCALENDAR