BEGIN:VCALENDAR
VERSION:2.0
PRODID:-//Miami Art Scene™ - ECPv6.15.20//NONSGML v1.0//EN
CALSCALE:GREGORIAN
METHOD:PUBLISH
X-ORIGINAL-URL:https://www.themiamiartscene.com
X-WR-CALDESC:Events for Miami Art Scene™
REFRESH-INTERVAL;VALUE=DURATION:PT1H
X-Robots-Tag:noindex
X-PUBLISHED-TTL:PT1H
BEGIN:VTIMEZONE
TZID:America/New_York
BEGIN:DAYLIGHT
TZOFFSETFROM:-0500
TZOFFSETTO:-0400
TZNAME:EDT
DTSTART:20250309T070000
END:DAYLIGHT
BEGIN:STANDARD
TZOFFSETFROM:-0400
TZOFFSETTO:-0500
TZNAME:EST
DTSTART:20251102T060000
END:STANDARD
BEGIN:DAYLIGHT
TZOFFSETFROM:-0500
TZOFFSETTO:-0400
TZNAME:EDT
DTSTART:20260308T070000
END:DAYLIGHT
BEGIN:STANDARD
TZOFFSETFROM:-0400
TZOFFSETTO:-0500
TZNAME:EST
DTSTART:20261101T060000
END:STANDARD
BEGIN:DAYLIGHT
TZOFFSETFROM:-0500
TZOFFSETTO:-0400
TZNAME:EDT
DTSTART:20270314T070000
END:DAYLIGHT
BEGIN:STANDARD
TZOFFSETFROM:-0400
TZOFFSETTO:-0500
TZNAME:EST
DTSTART:20271107T060000
END:STANDARD
END:VTIMEZONE
BEGIN:VEVENT
DTSTART;TZID=America/New_York:20260220T200000
DTEND;TZID=America/New_York:20260220T230000
DTSTAMP:20260423T145352
CREATED:20251214T012942Z
LAST-MODIFIED:20251214T012942Z
UID:25572-1771617600-1771628400@www.themiamiartscene.com
SUMMARY:SOBEWFF: Steak and Whiskey presented by Florida Beef Council hosted by Michael Symon
DESCRIPTION:Friday\, February 20th from 8-11pm enjoy the SOBEWFF: Steak and Whiskey presented by Florida Beef Council hosted by Michael Symon\, taking place at Jungle Plaza in the Miami Design District. Carnivores are in for a treat at this can’t-miss Festival event as chef\, TV personality\, and the King of Carnivores himself\, Michael Symon\, heads to the Design District to celebrate two great American classics -steak and whiskey. Presented by the Florida Beef Council\, this walk-around experience will sizzle as more than 20 of the country’s top chefs serve their highest-quality steak dishes and sides\, perfectly paired with smooth whiskey cocktails. PURCHASE TICKETS HERE. \nGuests can savor succulent\, expertly grilled steaks while exploring a variety of whiskeys\, each offering distinct flavors that complement the richness of the meats. It’s a sumptuous soirée under the stars\, ideal for enjoying with family and friends and guaranteed to delight every palate.
URL:https://www.themiamiartscene.com/event/sobewff-steak-and-whiskey-presented-by-florida-beef-council-hosted-by-michael-symon/
LOCATION:Jungle Plaza\, 3801 NE 1st Avenue\, Miami\, 33137
ATTACH;FMTTYPE=image/jpeg:https://www.themiamiartscene.com/wp-content/uploads/2025/12/sobewff-steak-and-whiskey-presented-by-florida-beef-council-hosted-by-micha_215245.jpeg
END:VEVENT
END:VCALENDAR