BEGIN:VCALENDAR
VERSION:2.0
PRODID:-//Miami Art Scene™ - ECPv6.15.20//NONSGML v1.0//EN
CALSCALE:GREGORIAN
METHOD:PUBLISH
X-WR-CALNAME:Miami Art Scene™
X-ORIGINAL-URL:https://www.themiamiartscene.com
X-WR-CALDESC:Events for Miami Art Scene™
REFRESH-INTERVAL;VALUE=DURATION:PT1H
X-Robots-Tag:noindex
X-PUBLISHED-TTL:PT1H
BEGIN:VTIMEZONE
TZID:America/New_York
BEGIN:DAYLIGHT
TZOFFSETFROM:-0500
TZOFFSETTO:-0400
TZNAME:EDT
DTSTART:20250309T070000
END:DAYLIGHT
BEGIN:STANDARD
TZOFFSETFROM:-0400
TZOFFSETTO:-0500
TZNAME:EST
DTSTART:20251102T060000
END:STANDARD
BEGIN:DAYLIGHT
TZOFFSETFROM:-0500
TZOFFSETTO:-0400
TZNAME:EDT
DTSTART:20260308T070000
END:DAYLIGHT
BEGIN:STANDARD
TZOFFSETFROM:-0400
TZOFFSETTO:-0500
TZNAME:EST
DTSTART:20261101T060000
END:STANDARD
BEGIN:DAYLIGHT
TZOFFSETFROM:-0500
TZOFFSETTO:-0400
TZNAME:EDT
DTSTART:20270314T070000
END:DAYLIGHT
BEGIN:STANDARD
TZOFFSETFROM:-0400
TZOFFSETTO:-0500
TZNAME:EST
DTSTART:20271107T060000
END:STANDARD
END:VTIMEZONE
BEGIN:VEVENT
DTSTART;TZID=America/New_York:20260319T170000
DTEND;TZID=America/New_York:20260322T180000
DTSTAMP:20260423T145317
CREATED:20260219T220707Z
LAST-MODIFIED:20260219T220707Z
UID:26085-1773939600-1774202400@www.themiamiartscene.com
SUMMARY:Palm Beach Modern + Contemporary (PBM+C) 2026
DESCRIPTION:Thursday\, March 19th through Sunday\, March 22nd experience Palm Beach Modern + Contemporary (PBM+C)\, presented by Art Miami\, returning for its ninth edition opening with an exclusive invitation-only VIP Preview on Thursday\, March 19 and running through Sunday\, March 22\, 2026 at the Palm Beach County Convention Center. \nSouth Florida’s premier and most prestigious winter art fair\, PBM+C takes place during the height of season and is the only “can’t miss” event for all serious collectors\, curators\, museum directors and interior designers\, providing an intimate look at the most important works available for acquisition at the forefront of the international contemporary\, modern\, classical modern\, post-war and pop eras. \n\nFAIR HOURS \nThursday\, March 19\, 2026\nVIP Preview: 5pm – 9pm\nAccess for PBM+C VIP Passholders & Press\, benefiting the Ann Norton Sculpture Gardens \nGENERAL ADMISSION\nFriday\, March 20 11am – 6pm\nSaturday\, March 21 11am – 6pm\nSunday\, March 22 11am – 6pm
URL:https://www.themiamiartscene.com/event/palm-beach-modern-contemporary-pbmc-2026/
LOCATION:Palm Beach County Convention Center\, 650 Okeechobee Boulevard\, West Palm Beach\, FL\, 33401\, United States
ATTACH;FMTTYPE=image/gif:https://www.themiamiartscene.com/wp-content/uploads/2026/02/EmailHeader10.gif
END:VEVENT
END:VCALENDAR