BEGIN:VCALENDAR
VERSION:2.0
PRODID:-//Miami Art Scene™ - ECPv6.15.20//NONSGML v1.0//EN
CALSCALE:GREGORIAN
METHOD:PUBLISH
X-ORIGINAL-URL:https://www.themiamiartscene.com
X-WR-CALDESC:Events for Miami Art Scene™
REFRESH-INTERVAL;VALUE=DURATION:PT1H
X-Robots-Tag:noindex
X-PUBLISHED-TTL:PT1H
BEGIN:VTIMEZONE
TZID:America/New_York
BEGIN:DAYLIGHT
TZOFFSETFROM:-0500
TZOFFSETTO:-0400
TZNAME:EDT
DTSTART:20240310T070000
END:DAYLIGHT
BEGIN:STANDARD
TZOFFSETFROM:-0400
TZOFFSETTO:-0500
TZNAME:EST
DTSTART:20241103T060000
END:STANDARD
BEGIN:DAYLIGHT
TZOFFSETFROM:-0500
TZOFFSETTO:-0400
TZNAME:EDT
DTSTART:20250309T070000
END:DAYLIGHT
BEGIN:STANDARD
TZOFFSETFROM:-0400
TZOFFSETTO:-0500
TZNAME:EST
DTSTART:20251102T060000
END:STANDARD
BEGIN:DAYLIGHT
TZOFFSETFROM:-0500
TZOFFSETTO:-0400
TZNAME:EDT
DTSTART:20260308T070000
END:DAYLIGHT
BEGIN:STANDARD
TZOFFSETFROM:-0400
TZOFFSETTO:-0500
TZNAME:EST
DTSTART:20261101T060000
END:STANDARD
END:VTIMEZONE
BEGIN:VEVENT
DTSTART;TZID=America/New_York:20250928T120000
DTEND;TZID=America/New_York:20250928T170000
DTSTAMP:20260424T041041
CREATED:20250922T012341Z
LAST-MODIFIED:20250922T012341Z
UID:24755-1759060800-1759078800@www.themiamiartscene.com
SUMMARY:NSU Art Museum: FREE Fort Lauderdale Neighbor Day
DESCRIPTION:Sunday\, September 28th from 12 – 5pm enjoy NSU Art Museum‘s FREE Fort Lauderdale Neighbor Day. Every LAST Sunday of every month\, Fort Lauderdale residents receive FREE admission to NSU Art Museum as part of Fort Lauderdale Neighbor Days. RSVP HERE. \nFort Lauderdale Residents Receive: \n\n2-for-1 Wine in the Museum Café\nFREE admission\, residents must show a photo ID\, driver’s license\, or residential utility bill with proof of Fort Lauderdale address.\nVisit the Museum Cafe & Store and receive 10% off books published by NSU Art Museum.\nFort Lauderdale Neighbor Day is made possible by the City of Fort Lauderdale.
URL:https://www.themiamiartscene.com/event/nsu-art-museum-free-fort-lauderdale-neighbor-day-33/
LOCATION:NSU Art Museum\, One East Las Olas Boulevard\, Fort Lauderdale\, FL\, 33301\, United States
ATTACH;FMTTYPE=image/png:https://www.themiamiartscene.com/wp-content/uploads/2022/09/nsu-art-museum_neighborday.png
END:VEVENT
BEGIN:VEVENT
DTSTART;TZID=America/New_York:20250928T140000
DTEND;TZID=America/New_York:20250928T160000
DTSTAMP:20260424T041041
CREATED:20250927T023717Z
LAST-MODIFIED:20250927T023717Z
UID:24842-1759068000-1759075200@www.themiamiartscene.com
SUMMARY:The Bass: Family Day
DESCRIPTION:Sunday\, September 28th from 2–4pm you’re invited to enjoy Family Day at The Bass\, hosted by The Bass Creativity Center\, FREE all-ages event. In the Creativity Center\, work on your own creations inspired by the contemporary art in the museum’s collection. \nSpend the afternoon enjoying free admission to The Bass and explore Performing Perspectives\, an exhibition featuring artwork from The Bass’ permanent collection.
URL:https://www.themiamiartscene.com/event/the-bass-family-day-5/
LOCATION:The Bass\, 2100 Collins Avenue\, Miami Beach\, FL\, 33139\, United States
ATTACH;FMTTYPE=image/jpeg:https://www.themiamiartscene.com/wp-content/uploads/2025/09/bass-family-day-sept.jpeg
END:VEVENT
END:VCALENDAR