BEGIN:VCALENDAR
VERSION:2.0
PRODID:-//Miami Art Scene™ - ECPv6.15.20//NONSGML v1.0//EN
CALSCALE:GREGORIAN
METHOD:PUBLISH
X-WR-CALNAME:Miami Art Scene™
X-ORIGINAL-URL:https://www.themiamiartscene.com
X-WR-CALDESC:Events for Miami Art Scene™
REFRESH-INTERVAL;VALUE=DURATION:PT1H
X-Robots-Tag:noindex
X-PUBLISHED-TTL:PT1H
BEGIN:VTIMEZONE
TZID:America/New_York
BEGIN:DAYLIGHT
TZOFFSETFROM:-0500
TZOFFSETTO:-0400
TZNAME:EDT
DTSTART:20250309T070000
END:DAYLIGHT
BEGIN:STANDARD
TZOFFSETFROM:-0400
TZOFFSETTO:-0500
TZNAME:EST
DTSTART:20251102T060000
END:STANDARD
BEGIN:DAYLIGHT
TZOFFSETFROM:-0500
TZOFFSETTO:-0400
TZNAME:EDT
DTSTART:20260308T070000
END:DAYLIGHT
BEGIN:STANDARD
TZOFFSETFROM:-0400
TZOFFSETTO:-0500
TZNAME:EST
DTSTART:20261101T060000
END:STANDARD
BEGIN:DAYLIGHT
TZOFFSETFROM:-0500
TZOFFSETTO:-0400
TZNAME:EDT
DTSTART:20270314T070000
END:DAYLIGHT
BEGIN:STANDARD
TZOFFSETFROM:-0400
TZOFFSETTO:-0500
TZNAME:EST
DTSTART:20271107T060000
END:STANDARD
END:VTIMEZONE
BEGIN:VEVENT
DTSTART;TZID=America/New_York:20260206T190000
DTEND;TZID=America/New_York:20260206T200000
DTSTAMP:20260424T000000
CREATED:20260204T173826Z
LAST-MODIFIED:20260204T173826Z
UID:25894-1770404400-1770408000@www.themiamiartscene.com
SUMMARY:PAMM Art (+ Soul) Talk: Fab 5 Freddy in Conversation with Franklin Sirmans
DESCRIPTION:Friday\, February 6th from 7 – 8pm enjoy Art (+ Soul) Talk: Fab 5 Freddy in Conversation with Franklin Sirmans at the Pérez Art Museum Miami (PAMM). Experience a dynamic exchange with PAMM’s Art + Soul honoree\, Fab 5 Freddy\, in conversation with Franklin Sirmans\, Sandra and Tony Tamer director at PAMM. Across art\, music\, film\, and television\, Fab 5 Freddy’s work has consistently dissolved boundaries between so-called high and popular culture\, creating space for Black creativity to be seen\, heard\, and valued on a global stage. RSVP HERE.
URL:https://www.themiamiartscene.com/event/pamm-art-soul-talk-fab-5-freddy-in-conversation-with-franklin-sirmans/
LOCATION:Pérez Art Museum Miami\, 1103 Biscayne Boulevard\, Miami\, FL\, 33132\, United States
ATTACH;FMTTYPE=image/png:https://www.themiamiartscene.com/wp-content/uploads/2026/02/pamm-fab-5-freddy.png
END:VEVENT
BEGIN:VEVENT
DTSTART;TZID=America/New_York:20260214T110000
DTEND;TZID=America/New_York:20260214T150000
DTSTAMP:20260424T000000
CREATED:20260210T233541Z
LAST-MODIFIED:20260210T233541Z
UID:25967-1771066800-1771081200@www.themiamiartscene.com
SUMMARY:PAMM Free Second Saturdays: Everyday Objects\, Extraordinary Art
DESCRIPTION:Saturday\, February 14th from 11am – 3pm enjoy PAMM Free Second Saturdays: Everyday Objects\, Extraordinary Art at the Pérez Art Museum Miami (PAMM). Celebrate creativity and storytelling at PAMM Free Second Saturdays\, inspired by Woody De Othello: coming forth by day. In honor of Black History Month\, families are invited to explore how art can reflect identity\, imagination\, and the powerful connections between people and everyday objects. Admission is free all day. Art activities from 11am–3pm. RSVP HERE. \nKids and adults can dive into hands-on art activities that play with symbols\, shapes\, and familiar forms—transforming the ordinary into something unexpected. Throughout the day\, enjoy lively performances by Delou Africa\, Inc.\, featuring traditional African dance and drumming\, alongside a family-friendly poetry activation presented by BIPOC Poetry Night\, led by curator\, writer\, and community arts organizer Brianna Clara. \nWhether you love to make\, move\, listen\, or create together\, this fun-filled day at PAMM is all about discovery\, self-expression\, and seeing the world through fresh eyes.
URL:https://www.themiamiartscene.com/event/pamm-free-second-saturdays-everyday-objects-extraordinary-art/
LOCATION:Pérez Art Museum Miami\, 1103 Biscayne Boulevard\, Miami\, FL\, 33132\, United States
ATTACH;FMTTYPE=image/jpeg:https://www.themiamiartscene.com/wp-content/uploads/2026/02/pamm-art-making.jpg
END:VEVENT
BEGIN:VEVENT
DTSTART;TZID=America/New_York:20260221T090000
DTEND;TZID=America/New_York:20260221T160000
DTSTAMP:20260424T000000
CREATED:20260211T164008Z
LAST-MODIFIED:20260211T164008Z
UID:25970-1771664400-1771689600@www.themiamiartscene.com
SUMMARY:Professional Learning at PAMM: Extra-Ordinary Objects
DESCRIPTION:Saturday\, February 21st from 9am – 4pm experience a professional learning workshop at the Pérez Art Museum Miami (PAMM)\, inspired by Woody De Othello: coming forth by day\, explore how the artist recasts still lifes of everyday objects into works with deep ancestral\, spiritual\, and anthropomorphic qualities. Together\, we will investigate Othello’s sculptural practices to decipher the power of art to transform the ordinary into the extraordinary. \n  \nIMAGE: Woody De Othello\, Another side\, 2024.
URL:https://www.themiamiartscene.com/event/professional-learning-at-pamm-extra-ordinary-objects/
LOCATION:Pérez Art Museum Miami\, 1103 Biscayne Boulevard\, Miami\, FL\, 33132\, United States
ATTACH;FMTTYPE=image/jpeg:https://www.themiamiartscene.com/wp-content/uploads/2026/02/Woody-De-Othello-Another-side-2024.jpeg
END:VEVENT
BEGIN:VEVENT
DTSTART;TZID=America/New_York:20260226T190000
DTEND;TZID=America/New_York:20260226T200000
DTSTAMP:20260424T000000
CREATED:20260220T202937Z
LAST-MODIFIED:20260220T202937Z
UID:26088-1772132400-1772136000@www.themiamiartscene.com
SUMMARY:PAMM: Elliot & Erick Jiménez in Conversation with Franklin Sirmans
DESCRIPTION:Thursday\, February 26th from 7 – 8pm join the Pérez Art Museum Miami (PAMM) for the culminating event of Elliot & Erick Jiménez: El Monte—a conversation between artists Elliot & Erick Jiménez and Franklin Sirmans\, Sandra and Tony Tamer director at Pérez Art Museum Miami (PAMM). \nFrom the lush\, ethereal landscapes of their latest exhibition to their iconic fashion photography and collaborations with global icons like Bad Bunny\, the discussion will center around the creative vision of two of Miami’s most compelling voices. \nFree with museum admission. Admission is $18 for adults and free for members. Space is limited\, and seating is available on a first-come\, first-served basis. RSVP HERE. \nThis debut museum exhibition by Miami-born twins Elliot and Erick Jiménez is an entirely new body of work inspired by the spiritual tradition of Lucumí—a syncretic Afro-Caribbean religion that emerged in late nineteenth-century Cuba bringing together elements of Yoruba\, Catholicism\, and Spiritism—and by Lydia Cabrera’s seminal text El Monte. Through photography\, sculpture\, and mixed media\, El Monte immerses visitors into the world of Lucumí\, its sacred cosmologies\, the twins’ lived experiences\, and the complicated history of Western art.
URL:https://www.themiamiartscene.com/event/pamm-elliot-erick-jimenez-in-conversation-with-franklin-sirmans/
LOCATION:Pérez Art Museum Miami\, 1103 Biscayne Boulevard\, Miami\, FL\, 33132\, United States
ATTACH;FMTTYPE=image/jpeg:https://www.themiamiartscene.com/wp-content/uploads/2026/02/pamm-art-talk-2026-scaled.jpeg
END:VEVENT
BEGIN:VEVENT
DTSTART;TZID=America/New_York:20260228T140000
DTEND;TZID=America/New_York:20260228T150000
DTSTAMP:20260424T000000
CREATED:20260211T200033Z
LAST-MODIFIED:20260211T200033Z
UID:25973-1772287200-1772290800@www.themiamiartscene.com
SUMMARY:Open House Miami at PAMM | Designing with Water: Buoyant City\, Salty Urbanism\, and The Coastline
DESCRIPTION:Saturday\, February 28th from 2 – 3pm join Pérez Art Museum Miami (PAMM)\, Open House Miami\, and Miami Center for Architecture & Design for a program centered at the intersection of architecture\, environment\, and creative sustainability. \nAs Miami faces rising seas and stronger storms\, designers are re-imagining the city’s relationship with water. This session brings together three complementary frameworks\, including Buoyant City\, Salty Urbanism\, and The Coastline. While grounded in the hard science of climate impacts and the challenges ahead\, the conversation shares a positive and hopeful message. The panelists will explore how adaptation can inspire new architectural\, ecological\, and civic forms\, demonstrating that resilience is not only about protection but also about creativity\, identity\, and connection. \nBefore the program\, join us at 12:30pm for an architecture tour of the museum\, where you’ll learn about the iconic building designed by Herzog & de Meuron. \nJoin this Event | Free with RSVP. \n  \n 
URL:https://www.themiamiartscene.com/event/open-house-miami-at-pamm-designing-with-water-buoyant-city-salty-urbanism-and-the-coastline/
LOCATION:Pérez Art Museum Miami\, 1103 Biscayne Boulevard\, Miami\, FL\, 33132\, United States
ATTACH;FMTTYPE=image/png:https://www.themiamiartscene.com/wp-content/uploads/2026/02/pamm-event.png
END:VEVENT
END:VCALENDAR