BEGIN:VCALENDAR
VERSION:2.0
PRODID:-//Miami Art Scene™ - ECPv6.15.20//NONSGML v1.0//EN
CALSCALE:GREGORIAN
METHOD:PUBLISH
X-ORIGINAL-URL:https://www.themiamiartscene.com
X-WR-CALDESC:Events for Miami Art Scene™
REFRESH-INTERVAL;VALUE=DURATION:PT1H
X-Robots-Tag:noindex
X-PUBLISHED-TTL:PT1H
BEGIN:VTIMEZONE
TZID:America/New_York
BEGIN:DAYLIGHT
TZOFFSETFROM:-0500
TZOFFSETTO:-0400
TZNAME:EDT
DTSTART:20240310T070000
END:DAYLIGHT
BEGIN:STANDARD
TZOFFSETFROM:-0400
TZOFFSETTO:-0500
TZNAME:EST
DTSTART:20241103T060000
END:STANDARD
BEGIN:DAYLIGHT
TZOFFSETFROM:-0500
TZOFFSETTO:-0400
TZNAME:EDT
DTSTART:20250309T070000
END:DAYLIGHT
BEGIN:STANDARD
TZOFFSETFROM:-0400
TZOFFSETTO:-0500
TZNAME:EST
DTSTART:20251102T060000
END:STANDARD
BEGIN:DAYLIGHT
TZOFFSETFROM:-0500
TZOFFSETTO:-0400
TZNAME:EDT
DTSTART:20260308T070000
END:DAYLIGHT
BEGIN:STANDARD
TZOFFSETFROM:-0400
TZOFFSETTO:-0500
TZNAME:EST
DTSTART:20261101T060000
END:STANDARD
END:VTIMEZONE
BEGIN:VEVENT
DTSTART;TZID=America/New_York:20250807T180000
DTEND;TZID=America/New_York:20250807T200000
DTSTAMP:20260424T063702
CREATED:20250807T025039Z
LAST-MODIFIED:20250807T025147Z
UID:24491-1754589600-1754596800@www.themiamiartscene.com
SUMMARY:August Exhibitions at Miami International Fine Arts (MIFA)
DESCRIPTION:Thursday\, August 7 from 6 – 8pm art lovers and collectors are cordially invited to the Opening Reception of the August Exhibitions at Miami International Fine Arts (MIFA). This month is extra special celebrating 6 years of MIFA\, and five exhibitions created by the incredible MIFA resident artists. Each one explores themes like time\, memory\, ecology\, and the beauty of collective creation. \nHere’s a quick look at the exhibitions: \nRoom A: Father Time – Samara Ash\, Andrea Cardenal\, Marco Caridad\, Carmen Larrazabal\, Helen Lupo\, Helio Salcedo\, Rene Romero – Curated by Shirley Moreira. \nRoom B: Threads of Time – Lian Arvelo & Liang Lansi – Curated by Marco Caridad. \nRoom C: And Still Refuses to Stay Put – Nidia Baquero\, Isaac Bencid\, Marco Caridad\, Delsy Rubio\, Anna Trimmel\, Maria E. Lino\, Silvana Soriano\, Marilyn Valiente – Curated by Shirley Moreira. \nRoom D: Memory That Germinates – Pilar Tobon & Yusimy Lara – Curated by Marco Caridad. \nRoom E: The Anthropocene Essence – William Alonso\, Nidia Baquero\, Jacqueline Bermudez\, Andrea Cardenal\, Andrea Ciatti\, Sonia Hidalgo\, Daniela Sanchez Vegas\, Sydia Reyes\, Carmen Larrazabal\, Adriana Zubikarai – Group exhibition curated by Shirley Moreira & Marco Caridad. \n  \nIMAGE: Memory That Germinates
URL:https://www.themiamiartscene.com/event/august-exhibitions-at-miami-international-fine-arts-mifa/
LOCATION:Miami International Fine Arts (MIFA)\, 5900 Northwest 74th Avenue\, Miami\, FL\, 33166\, United States
ATTACH;FMTTYPE=image/jpeg:https://www.themiamiartscene.com/wp-content/uploads/2025/08/mifa1-e1754534893448.jpeg
END:VEVENT
END:VCALENDAR