BEGIN:VCALENDAR
VERSION:2.0
PRODID:-//Miami Art Scene™ - ECPv6.15.20//NONSGML v1.0//EN
CALSCALE:GREGORIAN
METHOD:PUBLISH
X-WR-CALNAME:Miami Art Scene™
X-ORIGINAL-URL:https://www.themiamiartscene.com
X-WR-CALDESC:Events for Miami Art Scene™
REFRESH-INTERVAL;VALUE=DURATION:PT1H
X-Robots-Tag:noindex
X-PUBLISHED-TTL:PT1H
BEGIN:VTIMEZONE
TZID:America/New_York
BEGIN:DAYLIGHT
TZOFFSETFROM:-0500
TZOFFSETTO:-0400
TZNAME:EDT
DTSTART:20240310T070000
END:DAYLIGHT
BEGIN:STANDARD
TZOFFSETFROM:-0400
TZOFFSETTO:-0500
TZNAME:EST
DTSTART:20241103T060000
END:STANDARD
BEGIN:DAYLIGHT
TZOFFSETFROM:-0500
TZOFFSETTO:-0400
TZNAME:EDT
DTSTART:20250309T070000
END:DAYLIGHT
BEGIN:STANDARD
TZOFFSETFROM:-0400
TZOFFSETTO:-0500
TZNAME:EST
DTSTART:20251102T060000
END:STANDARD
BEGIN:DAYLIGHT
TZOFFSETFROM:-0500
TZOFFSETTO:-0400
TZNAME:EDT
DTSTART:20260308T070000
END:DAYLIGHT
BEGIN:STANDARD
TZOFFSETFROM:-0400
TZOFFSETTO:-0500
TZNAME:EST
DTSTART:20261101T060000
END:STANDARD
END:VTIMEZONE
BEGIN:VEVENT
DTSTART;TZID=America/New_York:20250104T100000
DTEND;TZID=America/New_York:20250105T170000
DTSTAMP:20260424T212844
CREATED:20250104T202952Z
LAST-MODIFIED:20250104T202952Z
UID:22923-1735984800-1736096400@www.themiamiartscene.com
SUMMARY:Artist LINGUA at Las Olas Art Fair
DESCRIPTION:Saturday\, January 4th through Sunday\, January 5th from 10am – 5pm art lovers & collectors are cordially invited to explore new works by South Florida fine pen-and-ink artist LINGUA at the Las Olas Art Fair at 620 E. Las Olas Boulevard in Fort Lauderdale. \nA rising talent in the contemporary art world\, Lingua recently completed a successful solo exhibition at Spectrum Miami art fair during Art Basel Week in Miami this past December 4-8\, 2024. Lingua is a fine pen-and-ink artist who is captivating audiences with his mesmerizing portraits. The magic is in the details. Each piece he creates is a testament to his meticulous skill\, transforming a series of fine\, abstract strokes into expressive\, compelling faces and human figures. His unique approach invites viewers to explore every inch of the artwork\, discovering new layers and nuances within the composition. Distinctive and innovative\, Lingua’s pieces attract art enthusiasts and collectors worldwide\, establishing him as a fresh and promising voice in today’s art scene. \n \n‘Pop Girl’\n  \nThis season\, the iconic Las Olas Art Fair Part I returns with more than 200 local and national artists in a stunning showcase of art across all mediums. The free\, outdoor pet-friendly event features a fully vetted\, juried selection of fine art. Considered an annual tradition in South Florida\, the Las Olas Art Fair also offers the opportunity to meet with the artists\, ask about techniques\, commission a specific piece and discover the inspiration behind each magnificent creation. Sculpture\, jewelry\, woodwork\, paintings\, wearable art and more are displayed\, gallery-style\, for the enjoyment of art appreciators\, collectors\, shoppers and pedestrians alike. Located in the heart of Fort Lauderdale\, Las Olas Boulevard is known as the jewel of the city. On Las Olas Boulevard you will find a multitude of art galleries\, eclectic boutiques\, and dining options that range from Cuban-American cuisine to fresh seafood caught in the Atlantic Ocean.
URL:https://www.themiamiartscene.com/event/artist-lingua-at-las-olas-art-fair/
LOCATION:Las Olas Art Fair\, 620 East Las Olas Boulevard\, Fort Lauderdale\, FL\, 33301\, United States
ATTACH;FMTTYPE=image/png:https://www.themiamiartscene.com/wp-content/uploads/2025/01/lingua_las-olas-art-fair-e1736022342447.png
END:VEVENT
BEGIN:VEVENT
DTSTART;TZID=America/New_York:20250122T170000
DTEND;TZID=America/New_York:20250126T180000
DTSTAMP:20260424T212844
CREATED:20250118T183517Z
LAST-MODIFIED:20250119T021056Z
UID:22997-1737565200-1737914400@www.themiamiartscene.com
SUMMARY:Artist Brandusa Niro at Art Palm Beach 2025 with Avant Gallery | Booth #711
DESCRIPTION:Wednesday\, January 22nd through Sunday\, January 26th art lovers and collectors will experience the ethereal portraits of Brandusa Niro\, lifelong painter and fashion media titan\, in a fine art exhibition with Avant Gallery Booth #711 at Art Palm Beach January 22 – 26\, 2025. The fair takes place at the Palm Beach County Convention Center\, where guests will enjoy an Opening Night Premiere on Wednesday\, January 22nd from 5pm – 9pm. Art Palm Beach is internationally renowned as the premiere mid-winter contemporary art fair in The Palm Beaches along Florida’s coastline by both art critics and enthusiasts. \nIn Brandusa Niro’s newest series of acrylic paintings entitled ‘Models’ her inspiration pays homage to the extraordinary women who have graced Niro’s life and career. With each portraits’ brushstroke\, Niro conjures visions of ethereal beauty\, infusing her canvases with a great use of bright colors and evoking a range of emotions and moods. A blend of realism and impressionism\, Brandusa’s muses are elongated and graceful with luminous eyes that pierce the soul\, while their oversized heads and unfinished hands imbue them with an otherworldly allure. The ‘Models’ series evokes senses of sexiness and sensuality yet an eerie\, almost haunting\, quality\, inviting viewers to contemplate the transient nature of beauty itself. \n\nIMAGE: Brandusa Niro\, ‘Jacqueline with Pearls’ (2024)\, Acrylic and Flashe on Canvas\, 48″ x 36″\, to be showcased at the Art Palm Beach fair January 22 – 26\, 2025.\n  \n\n\n\nOPENING NIGHT PREMIERE\nWednesday\, January 22\, 2025\n5pm – 9pm \nSHOW HOURS/TICKETS\nGeneral Admission\nThursday\, January 23\, 2025\n11am – 6pm \nFriday\, January 24\, 2025\n11am – 6pm \nSaturday\, January 25\, 2025\n11am – 6pm \nSunday\, January 26\, 2025\n11am – 6pm
URL:https://www.themiamiartscene.com/event/artist-brandusa-niro-at-art-palm-beach-2025-with-avant-gallery-booth-711/
LOCATION:Palm Beach County Convention Center\, 650 Okeechobee Boulevard\, West Palm Beach\, FL\, 33401\, United States
ATTACH;FMTTYPE=image/jpeg:https://www.themiamiartscene.com/wp-content/uploads/2025/01/brandusa-jaqueline-with-pearls-e1737252623630.jpeg
END:VEVENT
END:VCALENDAR