BEGIN:VCALENDAR
VERSION:2.0
PRODID:-//Miami Art Scene™ - ECPv6.15.20//NONSGML v1.0//EN
CALSCALE:GREGORIAN
METHOD:PUBLISH
X-ORIGINAL-URL:https://www.themiamiartscene.com
X-WR-CALDESC:Events for Miami Art Scene™
REFRESH-INTERVAL;VALUE=DURATION:PT1H
X-Robots-Tag:noindex
X-PUBLISHED-TTL:PT1H
BEGIN:VTIMEZONE
TZID:America/New_York
BEGIN:DAYLIGHT
TZOFFSETFROM:-0500
TZOFFSETTO:-0400
TZNAME:EDT
DTSTART:20230312T070000
END:DAYLIGHT
BEGIN:STANDARD
TZOFFSETFROM:-0400
TZOFFSETTO:-0500
TZNAME:EST
DTSTART:20231105T060000
END:STANDARD
BEGIN:DAYLIGHT
TZOFFSETFROM:-0500
TZOFFSETTO:-0400
TZNAME:EDT
DTSTART:20240310T070000
END:DAYLIGHT
BEGIN:STANDARD
TZOFFSETFROM:-0400
TZOFFSETTO:-0500
TZNAME:EST
DTSTART:20241103T060000
END:STANDARD
BEGIN:DAYLIGHT
TZOFFSETFROM:-0500
TZOFFSETTO:-0400
TZNAME:EDT
DTSTART:20250309T070000
END:DAYLIGHT
BEGIN:STANDARD
TZOFFSETFROM:-0400
TZOFFSETTO:-0500
TZNAME:EST
DTSTART:20251102T060000
END:STANDARD
END:VTIMEZONE
BEGIN:VEVENT
DTSTART;TZID=America/New_York:20240601T110000
DTEND;TZID=America/New_York:20240602T170000
DTSTAMP:20260425T211942
CREATED:20240527T192908Z
LAST-MODIFIED:20240527T192908Z
UID:21338-1717239600-1717347600@www.themiamiartscene.com
SUMMARY:NSU Art Museum presents ‘Museums On Us’
DESCRIPTION:Saturday\, June 1st (11am – 5pm) and Sunday\, June 2nd (12pm – 5pm) NSU Art Museum Fort Lauderdale presents Bank of America Museums on Us. Bank of America\, Merrill Lynch and U.S. Trust credit and debit cardholders receive free access to over 200 institutions. Cardholders will receive free admission on the first full weekend of each month. Cardholders need only present their card and a photo ID to gain a free general admission. The promotion doesn’t include access to special exhibits\, ticketed shows\, or fundraising events. \n\nComplimentary Admission for Card Holders and Employees. \nCOST: FREE to Bank of America\, Merrill Lynch and U.S. Trust credit and debit cardholders. Free admission applies to the cardholder only\, not to any additional guests.
URL:https://www.themiamiartscene.com/event/nsu-art-museum-presents-museums-on-us-10/
LOCATION:NSU Art Museum\, One East Las Olas Boulevard\, Fort Lauderdale\, FL\, 33301\, United States
ATTACH;FMTTYPE=image/jpeg:https://www.themiamiartscene.com/wp-content/uploads/2021/05/NSU-Art-Museum_Bank-of-America_Museums-on-Us-e1622034510899.jpg
END:VEVENT
BEGIN:VEVENT
DTSTART;TZID=America/New_York:20240606T110000
DTEND;TZID=America/New_York:20240606T190000
DTSTAMP:20260425T211942
CREATED:20240528T131416Z
LAST-MODIFIED:20240528T131416Z
UID:21340-1717671600-1717700400@www.themiamiartscene.com
SUMMARY:NSU Art Museum presents Sunny Days/Starry Nights: Free First Thursdays
DESCRIPTION:Thursday\, June 6th from 11am – 7pm enjoy Sunny Days/Starry Nights: Free First Thursdays at NSU Art Museum in Fort Lauderdale\, offering visitors free admission to the Museum for a full day of art-making! \nEnjoy FREE Museum admission and 2-for-1 All Day Happy Hour on the first Thursday of every month from 11 am to 7 pm during Free First Thursday Sunny Days/Starry Nights. Enjoy Mini Muse\, free drop-in art-making activities ALL DAY for children inspired by current exhibitions. \n  \nStarry Nights is presented by Broward Health.
URL:https://www.themiamiartscene.com/event/nsu-art-museum-presents-sunny-days-starry-nights-free-first-thursdays-17/
LOCATION:NSU Art Museum\, One East Las Olas Boulevard\, Fort Lauderdale\, FL\, 33301\, United States
ATTACH;FMTTYPE=image/png:https://www.themiamiartscene.com/wp-content/uploads/2022/09/nsu-art-museum-starry-nights.png
END:VEVENT
BEGIN:VEVENT
DTSTART;TZID=America/New_York:20240608T120000
DTEND;TZID=America/New_York:20240608T133000
DTSTAMP:20260425T211942
CREATED:20240528T160402Z
LAST-MODIFIED:20240528T160402Z
UID:21342-1717848000-1717853400@www.themiamiartscene.com
SUMMARY:NSU Art Museum presents Creativity Exploration: Power Paintings
DESCRIPTION:Saturday\, June 8th from 12 – 1:30pm enjoy Creativity Exploration: Power Paintings at NSU Art Museum in Fort Lauderdale. Inspired by the artistic practice of Jose Alvarez (D.O.P.A.)\, and his blending of spirituality\, science\, and mysticism\, create a mixed media work of art with psychedelic colors and floral patterning. \nCreativity Exploration adult workshops promote the benefits of material exploration and the mind-to-body experience. Studies have shown that 45 minutes of creative activity a day reduces stress and offers mental clarity and relaxation. In addition to producing a sense of well-being\, sessions expand participants’ perceptions of forms\, while increasing brain connectivity through visual and cognitive stimulation. The workshop is led by educator Lark Keeler\, a specialist in mindfulness education. \nPre-registration Required. Space is Limited. RSVP HERE. \n  \nCreativity Exploration is sponsored by the Charles P. Ferro Foundation.
URL:https://www.themiamiartscene.com/event/nsu-art-museum-presents-creativity-exploration-power-paintings/
LOCATION:NSU Art Museum\, One East Las Olas Boulevard\, Fort Lauderdale\, FL\, 33301\, United States
ATTACH;FMTTYPE=image/jpeg:https://www.themiamiartscene.com/wp-content/uploads/2024/05/nsu-art-museum_creativity-exploration_power-paintings.jpg
END:VEVENT
BEGIN:VEVENT
DTSTART;TZID=America/New_York:20240616T123000
DTEND;TZID=America/New_York:20240616T163000
DTSTAMP:20260425T211942
CREATED:20240602T213509Z
LAST-MODIFIED:20240602T213509Z
UID:21418-1718541000-1718555400@www.themiamiartscene.com
SUMMARY:Mingo Pottery Studio presents an Advanced Pottery Class | Teapot Mastery: A Hands-on Pottery Workshop
DESCRIPTION:Sunday\, June 16th from 12:30 – 4:30pm explore teapot design & construction at Mingo Pottery Studio in Fort Lauderdale\, Florida. Learn wheel throwing\, handle\, & spout techniques with expert guidance. Join artist Bethany Cohen for an immersive workshop experience delving into the exquisite art of crafting teapots on the potter’s wheel. With over 25 years of expertise in the realm of pottery. RSVP HERE / PURCHASE TICKETS HERE. \nIn this hands-on workshop at Mingo Pottery Studio\, participants will have the unique opportunity to explore the nuances of teapot design and construction under Bethany’s guidance. From mastering the fundamentals of wheel throwing to refining techniques for handle and spout attachment\, participants will learn the essential skills needed to bring their teapot visions to life. \nDon’t miss this opportunity to learn from a master artist and elevate your pottery skills to new heights. Join Bethany at Mingo Pottery Studio and embark on a journey of creativity\, innovation\, and craftsmanship in the art of teapot making \n  \n 
URL:https://www.themiamiartscene.com/event/mingo-pottery-studio-presents-an-advanced-pottery-class-teapot-mastery-a-hands-on-pottery-workshop/
LOCATION:Mingo Pottery Studio\, 800 NE 13th Street\, Fort Lauderdale\, FL\, 33304\, United States
ATTACH;FMTTYPE=image/jpeg:https://www.themiamiartscene.com/wp-content/uploads/2024/06/mingo-pottery-studio.jpeg
END:VEVENT
BEGIN:VEVENT
DTSTART;TZID=America/New_York:20240619T123000
DTEND;TZID=America/New_York:20240619T133000
DTSTAMP:20260425T211942
CREATED:20240528T161622Z
LAST-MODIFIED:20240528T161622Z
UID:21345-1718800200-1718803800@www.themiamiartscene.com
SUMMARY:NSU Art Museum presents Artist Roundtable: Juneteenth Celebration with Niki Lopez
DESCRIPTION:Wednesday\, June 19th from 12:30 – 1:30pm join NSU Art Museum for a conversation with featured local artist\, Niki Lopez. Lopez will explore the significance of Juneteenth\, and its original and ethical ways to honor this pivotal moment in history. As an artist and social practitioner and through Lopez’s non-profit What’s Your Elephant\, Lopez will delve into the transformative power of art in fostering freedom\, expression\, and collective healing. \nThe Artist’s Roundtable Series focuses on connecting museum visitors to creative professionals\, igniting conversations in a close discussion around ideology\, practice\, and technique. Guests are welcome to pre-order lunch by 12pm from the Museum Café to enjoy a delicious meal or snack to accompany our conversation. Artists’ roundtables are free to members and included with museum admission for non-members. \nRSVP today to save your seat. Free for members; Included with Admission for non-members.
URL:https://www.themiamiartscene.com/event/nsu-art-museum-presents-artist-roundtable-juneteenth-celebration-with-niki-lopez/
LOCATION:NSU Art Museum\, One East Las Olas Boulevard\, Fort Lauderdale\, FL\, 33301\, United States
ATTACH;FMTTYPE=image/jpeg:https://www.themiamiartscene.com/wp-content/uploads/2024/05/niki-lopez.jpeg
END:VEVENT
BEGIN:VEVENT
DTSTART;TZID=America/New_York:20240630T120000
DTEND;TZID=America/New_York:20240630T170000
DTSTAMP:20260425T211942
CREATED:20240627T024724Z
LAST-MODIFIED:20240627T024724Z
UID:21601-1719748800-1719766800@www.themiamiartscene.com
SUMMARY:NSU Art Museum: FREE Fort Lauderdale Neighbor Day
DESCRIPTION:Sunday\, June 30th from 12noon – 5pm Fort Lauderdale residents receive FREE admission to NSU Art Museum on Free Fort Lauderdale Neighbor Days. Residents will enjoy the exhibitions on view\, and also receive 10% discount on catalogues published by NSU Art Museum in the Museum Store as well as 2-for-1 wine in the Museum Café. \nFor free admission\, residents must show a photo ID\, driver’s license or residential utility bill with proof of Fort Lauderdale address. \n  \nFort Lauderdale Neighbor Day is supported by the City of Fort Lauderdale.
URL:https://www.themiamiartscene.com/event/nsu-art-museum-free-fort-lauderdale-neighbor-day-21/
LOCATION:NSU Art Museum\, One East Las Olas Boulevard\, Fort Lauderdale\, FL\, 33301\, United States
ATTACH;FMTTYPE=image/png:https://www.themiamiartscene.com/wp-content/uploads/2022/09/nsu-art-museum_neighborday.png
END:VEVENT
END:VCALENDAR