BEGIN:VCALENDAR
VERSION:2.0
PRODID:-//Miami Art Scene™ - ECPv6.15.20//NONSGML v1.0//EN
CALSCALE:GREGORIAN
METHOD:PUBLISH
X-WR-CALNAME:Miami Art Scene™
X-ORIGINAL-URL:https://www.themiamiartscene.com
X-WR-CALDESC:Events for Miami Art Scene™
REFRESH-INTERVAL;VALUE=DURATION:PT1H
X-Robots-Tag:noindex
X-PUBLISHED-TTL:PT1H
BEGIN:VTIMEZONE
TZID:America/New_York
BEGIN:DAYLIGHT
TZOFFSETFROM:-0500
TZOFFSETTO:-0400
TZNAME:EDT
DTSTART:20240310T070000
END:DAYLIGHT
BEGIN:STANDARD
TZOFFSETFROM:-0400
TZOFFSETTO:-0500
TZNAME:EST
DTSTART:20241103T060000
END:STANDARD
BEGIN:DAYLIGHT
TZOFFSETFROM:-0500
TZOFFSETTO:-0400
TZNAME:EDT
DTSTART:20250309T070000
END:DAYLIGHT
BEGIN:STANDARD
TZOFFSETFROM:-0400
TZOFFSETTO:-0500
TZNAME:EST
DTSTART:20251102T060000
END:STANDARD
BEGIN:DAYLIGHT
TZOFFSETFROM:-0500
TZOFFSETTO:-0400
TZNAME:EDT
DTSTART:20260308T070000
END:DAYLIGHT
BEGIN:STANDARD
TZOFFSETFROM:-0400
TZOFFSETTO:-0500
TZNAME:EST
DTSTART:20261101T060000
END:STANDARD
END:VTIMEZONE
BEGIN:VEVENT
DTSTART;TZID=America/New_York:20250104T100000
DTEND;TZID=America/New_York:20250105T170000
DTSTAMP:20260425T071054
CREATED:20250104T202952Z
LAST-MODIFIED:20250104T202952Z
UID:22923-1735984800-1736096400@www.themiamiartscene.com
SUMMARY:Artist LINGUA at Las Olas Art Fair
DESCRIPTION:Saturday\, January 4th through Sunday\, January 5th from 10am – 5pm art lovers & collectors are cordially invited to explore new works by South Florida fine pen-and-ink artist LINGUA at the Las Olas Art Fair at 620 E. Las Olas Boulevard in Fort Lauderdale. \nA rising talent in the contemporary art world\, Lingua recently completed a successful solo exhibition at Spectrum Miami art fair during Art Basel Week in Miami this past December 4-8\, 2024. Lingua is a fine pen-and-ink artist who is captivating audiences with his mesmerizing portraits. The magic is in the details. Each piece he creates is a testament to his meticulous skill\, transforming a series of fine\, abstract strokes into expressive\, compelling faces and human figures. His unique approach invites viewers to explore every inch of the artwork\, discovering new layers and nuances within the composition. Distinctive and innovative\, Lingua’s pieces attract art enthusiasts and collectors worldwide\, establishing him as a fresh and promising voice in today’s art scene. \n \n‘Pop Girl’\n  \nThis season\, the iconic Las Olas Art Fair Part I returns with more than 200 local and national artists in a stunning showcase of art across all mediums. The free\, outdoor pet-friendly event features a fully vetted\, juried selection of fine art. Considered an annual tradition in South Florida\, the Las Olas Art Fair also offers the opportunity to meet with the artists\, ask about techniques\, commission a specific piece and discover the inspiration behind each magnificent creation. Sculpture\, jewelry\, woodwork\, paintings\, wearable art and more are displayed\, gallery-style\, for the enjoyment of art appreciators\, collectors\, shoppers and pedestrians alike. Located in the heart of Fort Lauderdale\, Las Olas Boulevard is known as the jewel of the city. On Las Olas Boulevard you will find a multitude of art galleries\, eclectic boutiques\, and dining options that range from Cuban-American cuisine to fresh seafood caught in the Atlantic Ocean.
URL:https://www.themiamiartscene.com/event/artist-lingua-at-las-olas-art-fair/
LOCATION:Las Olas Art Fair\, 620 East Las Olas Boulevard\, Fort Lauderdale\, FL\, 33301\, United States
ATTACH;FMTTYPE=image/png:https://www.themiamiartscene.com/wp-content/uploads/2025/01/lingua_las-olas-art-fair-e1736022342447.png
END:VEVENT
BEGIN:VEVENT
DTSTART;TZID=America/New_York:20250104T110000
DTEND;TZID=America/New_York:20250105T170000
DTSTAMP:20260425T071054
CREATED:20250104T215852Z
LAST-MODIFIED:20250104T215852Z
UID:22927-1735988400-1736096400@www.themiamiartscene.com
SUMMARY:NSU Art Museum presents ‘Museums On Us’
DESCRIPTION:Saturday\, January 4th (11am – 5pm) and Sunday\, January 5th (12pm – 5pm) NSU Art Museum Fort Lauderdale presents Bank of America Museums on Us. Bank of America\, Merrill Lynch and U.S. Trust credit and debit cardholders receive free access to over 200 institutions. Cardholders will receive free admission on the first full weekend of each month. Cardholders need only present their card and a photo ID to gain a free general admission. The promotion doesn’t include access to special exhibits\, ticketed shows\, or fundraising events. \n\nComplimentary Admission for Card Holders and Employees. \nCOST: FREE to Bank of America\, Merrill Lynch and U.S. Trust credit and debit cardholders. Free admission applies to the cardholder only\, not to any additional guests.
URL:https://www.themiamiartscene.com/event/nsu-art-museum-presents-museums-on-us-13/
LOCATION:NSU Art Museum\, One East Las Olas Boulevard\, Fort Lauderdale\, FL\, 33301\, United States
ATTACH;FMTTYPE=image/jpeg:https://www.themiamiartscene.com/wp-content/uploads/2021/05/NSU-Art-Museum_Bank-of-America_Museums-on-Us-e1622034510899.jpg
END:VEVENT
BEGIN:VEVENT
DTSTART;TZID=America/New_York:20250111T093000
DTEND;TZID=America/New_York:20250111T103000
DTSTAMP:20260425T071054
CREATED:20250104T220330Z
LAST-MODIFIED:20250104T220330Z
UID:22929-1736587800-1736591400@www.themiamiartscene.com
SUMMARY:Sensory Saturdays: Free New Sensory-Friendly Programs at NSU Art Museum
DESCRIPTION:Saturday\, January 11th from 9:30 – 10:30am enjoy Sensory Saturdays: Free New Sensory-Friendly Programs at NSU Art Museum. NSU Art Museum Fort Lauderdale has launched Sensory Saturdays\, a new sensory-friendly program FREE for children on the Autism Spectrum ages 6-17 and their families\, before regular museum hours for a sensory-friendly environment and exclusive free museum access. Enjoy making art in workspaces and wandering through galleries that have been adjusted for low lighting and reduced sound. Sensory-friendly materials will be available for all visiting children on the spectrum\, including noise-canceling headphones\, weighted lap pads\, soft seating\, sensory-friendly art materials and a special gift for each child. \nSensory Saturdays are held on the second Saturday of each month through March 2025. Registration opens one month prior to each date. Admission to Sensory Saturdays is FREE with a required RSVP. Space is limited.
URL:https://www.themiamiartscene.com/event/sensory-saturdays-free-new-sensory-friendly-programs-at-nsu-art-museum-3/
LOCATION:NSU Art Museum\, One East Las Olas Boulevard\, Fort Lauderdale\, FL\, 33301\, United States
ATTACH;FMTTYPE=image/jpeg:https://www.themiamiartscene.com/wp-content/uploads/2024/10/NSU-Art-Museum_Sensory-Saturday-Event-Image.jpg
END:VEVENT
BEGIN:VEVENT
DTSTART;TZID=America/New_York:20250111T120000
DTEND;TZID=America/New_York:20250111T133000
DTSTAMP:20260425T071054
CREATED:20250104T220929Z
LAST-MODIFIED:20250104T220929Z
UID:22932-1736596800-1736602200@www.themiamiartscene.com
SUMMARY:NSU Art Museum presents Creativity Exploration: Spiritual Symmetry
DESCRIPTION:Saturday\, January 11th from 12 – 1:30pm enjoy Creativity Exploration: Spiritual Symmetry at NSU Art Museum in Fort Lauderdale. Make a mixed media work of art with cut paper and painting inspired by the work of Seoul-born artist\, Haegue Yang and her geometric\, floral motifs that reference shamanistic traditions through their use of symbolism and symmetry. Incorporate your own imagery that is personally powerful and meaningful. \nCreativity Exploration adult workshops promote the benefits of material exploration and the mind-to-body experience. Studies have shown that 45 minutes of creative activity a day reduces stress and offers mental clarity and relaxation. In addition to producing a sense of well-being\, sessions expand participants’ perceptions of forms\, while increasing brain connectivity through visual and cognitive stimulation. The workshop is led by educator Lark Keeler\, a specialist in mindfulness education. \nPre-registration Required. Space is Limited. RSVP HERE.
URL:https://www.themiamiartscene.com/event/nsu-art-museum-presents-creativity-exploration-spiritual-symmetry/
LOCATION:NSU Art Museum\, One East Las Olas Boulevard\, Fort Lauderdale\, FL\, 33301\, United States
ATTACH;FMTTYPE=image/jpeg:https://www.themiamiartscene.com/wp-content/uploads/2025/01/nsu-spiritual-symmetry.jpg
END:VEVENT
END:VCALENDAR