BEGIN:VCALENDAR
VERSION:2.0
PRODID:-//Miami Art Scene™ - ECPv6.15.20//NONSGML v1.0//EN
CALSCALE:GREGORIAN
METHOD:PUBLISH
X-WR-CALNAME:Miami Art Scene™
X-ORIGINAL-URL:https://www.themiamiartscene.com
X-WR-CALDESC:Events for Miami Art Scene™
REFRESH-INTERVAL;VALUE=DURATION:PT1H
X-Robots-Tag:noindex
X-PUBLISHED-TTL:PT1H
BEGIN:VTIMEZONE
TZID:America/New_York
BEGIN:DAYLIGHT
TZOFFSETFROM:-0500
TZOFFSETTO:-0400
TZNAME:EDT
DTSTART:20240310T070000
END:DAYLIGHT
BEGIN:STANDARD
TZOFFSETFROM:-0400
TZOFFSETTO:-0500
TZNAME:EST
DTSTART:20241103T060000
END:STANDARD
BEGIN:DAYLIGHT
TZOFFSETFROM:-0500
TZOFFSETTO:-0400
TZNAME:EDT
DTSTART:20250309T070000
END:DAYLIGHT
BEGIN:STANDARD
TZOFFSETFROM:-0400
TZOFFSETTO:-0500
TZNAME:EST
DTSTART:20251102T060000
END:STANDARD
BEGIN:DAYLIGHT
TZOFFSETFROM:-0500
TZOFFSETTO:-0400
TZNAME:EDT
DTSTART:20260308T070000
END:DAYLIGHT
BEGIN:STANDARD
TZOFFSETFROM:-0400
TZOFFSETTO:-0500
TZNAME:EST
DTSTART:20261101T060000
END:STANDARD
END:VTIMEZONE
BEGIN:VEVENT
DTSTART;TZID=America/New_York:20250403T110000
DTEND;TZID=America/New_York:20250403T190000
DTSTAMP:20260424T213714
CREATED:20250401T220224Z
LAST-MODIFIED:20250401T220224Z
UID:23492-1743678000-1743706800@www.themiamiartscene.com
SUMMARY:NSU Art Museum FREE First Thursday
DESCRIPTION:Thursday\, April 3rd from 11am – 7pm enjoy FREE Museum admission and 2-for-1 All Day Happy Hour at NSU Art Museum in Fort Lauderdale on the first Thursday of every month during Free First Thursday Sunny Days/Starry Nights. \nMini Muse\n4:30 – 6:30 pm \nEnjoy a fun-filled evening of FREE art-making at NSU Art Museum\, where you can express your creativity! This drop-in art-making event is open to every skill set and all ages. Grab your friends\, family\, or come alone\, and let your imagination run wild. \nMaterials are provided and all are welcome.
URL:https://www.themiamiartscene.com/event/nsu-art-museum-free-first-thursday/
LOCATION:NSU Art Museum\, One East Las Olas Boulevard\, Fort Lauderdale\, FL\, 33301\, United States
ATTACH;FMTTYPE=image/jpeg:https://www.themiamiartscene.com/wp-content/uploads/2025/04/nsu-happy-hour.jpeg
END:VEVENT
BEGIN:VEVENT
DTSTART;TZID=America/New_York:20250409T103000
DTEND;TZID=America/New_York:20250409T123000
DTSTAMP:20260424T213714
CREATED:20250408T142809Z
LAST-MODIFIED:20250408T142809Z
UID:23516-1744194600-1744201800@www.themiamiartscene.com
SUMMARY:NSU Art Museum: Friends General Membership Meeting
DESCRIPTION:Wednesday\, April 9th from 10:30am – 12:30pm enjoy a fabulous end of the 2024-2025 Friends Season with a Lecture by Allison Fiedel: ART in 3-D\, a grand tour d’horizon of sculpture from antiquity to the very present at the NSU Art Museum in Fort Lauderdale. RSVP HERE. \nFollowing the program and lunch\, visit IT INCLUDES EVERYONE\, EVERYWHERE\, ALWAYS\, a mesmerizing installation featuring the sculptures of Rose B. Simpson and vanessa german\, two leading American contemporary artists. \nNSU Art Museum Fort Lauderdale – Norma and William Horvitz Auditorium\nOne East Las Olas Blvd.\, Fort Lauderdale FL\, 33301 \nPresentation is Free\nLunch: Members and Guests $25 per person\nRSVP by March 31 \nMs. Pat Blacker\n777 Bayshore Drive Apt. 802\nFort Lauderdale\, FL 33304\n972-896-6675 | pat.blacker@hotmail.com\nMake check payable to: FRIENDs\, Museum of Art
URL:https://www.themiamiartscene.com/event/nsu-art-museum-friends-general-membership-meeting/
LOCATION:NSU Art Museum\, One East Las Olas Boulevard\, Fort Lauderdale\, FL\, 33301\, United States
ATTACH;FMTTYPE=image/jpeg:https://www.themiamiartscene.com/wp-content/uploads/2025/04/nsu-friends.jpeg
END:VEVENT
BEGIN:VEVENT
DTSTART;TZID=America/New_York:20250411T173000
DTEND;TZID=America/New_York:20250411T210000
DTSTAMP:20260424T213714
CREATED:20250408T143551Z
LAST-MODIFIED:20250408T143551Z
UID:23519-1744392600-1744405200@www.themiamiartscene.com
SUMMARY:NSU Art Museum: Artist Talk and Cocktails – Dimithry Victor
DESCRIPTION:Friday\, April 11th from 5:30 – 9pm NSU Art Museum in Fort Lauderdale presents an Artist Talk and Cocktails – Dimithry Victor. \nHosted by NSU Art Museum and\nHyatt Centric Las Olas Fort Lauderdale \nFor Curator Circle\, Collector Circle\, and Board of Governors \nExhibition tour with Dimithry Victor of The American Dream at 6pm sharp at NSU Art Museum Fort Lauderdale. With cocktails following from 7 – 9 pm at Elev8 Pool Deck & Lounge – 8th Floor.\nHyatt Centric Las Olas Fort Lauderdale\n(across the street from the Museum) \n  \nThe American Dream will be the first solo museum exhibition for South Florida artist Dimithry Victor.
URL:https://www.themiamiartscene.com/event/nsu-art-museum-artist-talk-and-cocktails-dimithry-victor/
LOCATION:NSU Art Museum\, One East Las Olas Boulevard\, Fort Lauderdale\, FL\, 33301\, United States
ATTACH;FMTTYPE=image/jpeg:https://www.themiamiartscene.com/wp-content/uploads/2025/04/2Synthetic-Giants-The-Cost-of-Strength-3-953x1030-1.jpeg
END:VEVENT
BEGIN:VEVENT
DTSTART;TZID=America/New_York:20250419T120000
DTEND;TZID=America/New_York:20250419T133000
DTSTAMP:20260424T213714
CREATED:20250408T144036Z
LAST-MODIFIED:20250408T144036Z
UID:23522-1745064000-1745069400@www.themiamiartscene.com
SUMMARY:NSU Art Museum presents Creativity Exploration: Magnetic Magic
DESCRIPTION:Saturday\, April 19th from 12 – 1:30pm NSU Art Museum presents Creativity Exploration: Magnetic Magic. Inspired by the art of Li Yuan Chia\, make a magnetic work of art that attracts ideas\, images\, and imagination into a mixed media art piece. \nCreativity Exploration adult workshops promote the benefits of material exploration and the mind-to-body experience. Studies have shown that 45 minutes of creative activity a day reduces stress and offers mental clarity and relaxation. In addition to producing a sense of well-being\, sessions expand participants’ perceptions of forms\, while increasing brain connectivity through visual and cognitive stimulation. The workshop is led by educator Lark Keeler\, a specialist in mindfulness education. \nPreregistration Required. Space is Limited. RSVP HERE. \nCreativity Exploration is sponsored by the Charles P. Ferro Foundation.
URL:https://www.themiamiartscene.com/event/nsu-art-museum-presents-creativity-exploration-magnetic-magic/
LOCATION:NSU Art Museum\, One East Las Olas Boulevard\, Fort Lauderdale\, FL\, 33301\, United States
ATTACH;FMTTYPE=image/jpeg:https://www.themiamiartscene.com/wp-content/uploads/2025/04/nsu-craetivity-exploration-pic.jpg
END:VEVENT
BEGIN:VEVENT
DTSTART;TZID=America/New_York:20250427T120000
DTEND;TZID=America/New_York:20250427T170000
DTSTAMP:20260424T213714
CREATED:20250408T144501Z
LAST-MODIFIED:20250408T144501Z
UID:23525-1745755200-1745773200@www.themiamiartscene.com
SUMMARY:NSU Art Museum: FREE Fort Lauderdale Neighbor Day
DESCRIPTION:Sunday\, April 27th from 12 – 5pm enjoy NSU Art Museum‘s FREE Fort Lauderdale Neighbor Day. Every LAST Sunday of every month\, Fort Lauderdale residents receive FREE admission to NSU Art Museum as part of Fort Lauderdale Neighbor Days. RSVP HERE. \nFort Lauderdale Residents Receive: \n\n2-for-1 Wine in the Museum Café\nFREE admission\, residents must show a photo ID\, driver’s license\, or residential utility bill with proof of Fort Lauderdale address.\nVisit the Museum Cafe & Store and receive 10% off books published by NSU Art Museum.\nFort Lauderdale Neighbor Day is made possible by the City of Fort Lauderdale.
URL:https://www.themiamiartscene.com/event/nsu-art-museum-free-fort-lauderdale-neighbor-day-28/
LOCATION:NSU Art Museum\, One East Las Olas Boulevard\, Fort Lauderdale\, FL\, 33301\, United States
ATTACH;FMTTYPE=image/png:https://www.themiamiartscene.com/wp-content/uploads/2022/09/nsu-art-museum_neighborday.png
END:VEVENT
END:VCALENDAR