BEGIN:VCALENDAR
VERSION:2.0
PRODID:-//Miami Art Scene™ - ECPv6.15.20//NONSGML v1.0//EN
CALSCALE:GREGORIAN
METHOD:PUBLISH
X-ORIGINAL-URL:https://www.themiamiartscene.com
X-WR-CALDESC:Events for Miami Art Scene™
REFRESH-INTERVAL;VALUE=DURATION:PT1H
X-Robots-Tag:noindex
X-PUBLISHED-TTL:PT1H
BEGIN:VTIMEZONE
TZID:America/New_York
BEGIN:DAYLIGHT
TZOFFSETFROM:-0500
TZOFFSETTO:-0400
TZNAME:EDT
DTSTART:20240310T070000
END:DAYLIGHT
BEGIN:STANDARD
TZOFFSETFROM:-0400
TZOFFSETTO:-0500
TZNAME:EST
DTSTART:20241103T060000
END:STANDARD
BEGIN:DAYLIGHT
TZOFFSETFROM:-0500
TZOFFSETTO:-0400
TZNAME:EDT
DTSTART:20250309T070000
END:DAYLIGHT
BEGIN:STANDARD
TZOFFSETFROM:-0400
TZOFFSETTO:-0500
TZNAME:EST
DTSTART:20251102T060000
END:STANDARD
BEGIN:DAYLIGHT
TZOFFSETFROM:-0500
TZOFFSETTO:-0400
TZNAME:EDT
DTSTART:20260308T070000
END:DAYLIGHT
BEGIN:STANDARD
TZOFFSETFROM:-0400
TZOFFSETTO:-0500
TZNAME:EST
DTSTART:20261101T060000
END:STANDARD
END:VTIMEZONE
BEGIN:VEVENT
DTSTART;TZID=America/New_York:20250501T110000
DTEND;TZID=America/New_York:20250501T190000
DTSTAMP:20260424T101757
CREATED:20250426T180843Z
LAST-MODIFIED:20250426T180843Z
UID:23618-1746097200-1746126000@www.themiamiartscene.com
SUMMARY:NSU Art Museum presents Sunny Days/Starry Nights: Free First Thursdays
DESCRIPTION:Thursday\, May 1st from 11am – 7pm enjoy Sunny Days/Starry Nights: Free First Thursdays at NSU Art Museum in Fort Lauderdale\, offering visitors free admission to the Museum for a full day of art-making! \nEnjoy FREE Museum admission and 2-for-1 All Day Happy Hour on the first Thursday of every month from 11 am to 7 pm during Free First Thursday Sunny Days/Starry Nights. Enjoy Mini Muse\, free drop-in art-making activities ALL DAY for children inspired by current exhibitions. \n  \nStarry Nights is presented by Broward Health.
URL:https://www.themiamiartscene.com/event/nsu-art-museum-presents-sunny-days-starry-nights-free-first-thursdays-22/
LOCATION:NSU Art Museum\, One East Las Olas Boulevard\, Fort Lauderdale\, FL\, 33301\, United States
ATTACH;FMTTYPE=image/png:https://www.themiamiartscene.com/wp-content/uploads/2023/12/nsu-starry-night.png
END:VEVENT
BEGIN:VEVENT
DTSTART;TZID=America/New_York:20250510T120000
DTEND;TZID=America/New_York:20250510T133000
DTSTAMP:20260424T101757
CREATED:20250503T013549Z
LAST-MODIFIED:20250503T013549Z
UID:23711-1746878400-1746883800@www.themiamiartscene.com
SUMMARY:NSU Art Museum presents Creativity Exploration: Making & Metamorphosis
DESCRIPTION:Saturday\, May 10th from 12 Noon – 1:30 pm NSU Art Museum presents Creativity Exploration: Making & Metamorphosis. Inspired by the art of Kate Kato\, transform art materials into a sculpture of a butterfly or moth while considering metamorphosis and mindfulness. \nCreativity Exploration adult workshops promote the benefits of material exploration and the mind-to-body experience. Studies have shown that 45 minutes of creative activity a day reduces stress and offers mental clarity and relaxation. In addition to producing a sense of well-being\, sessions expand participants’ perceptions of forms\, while increasing brain connectivity through visual and cognitive stimulation. The workshop is led by educator Lark Keeler\, a specialist in mindfulness education. \nPreregistration Required. Space is Limited. RSVP HERE. \nCreativity Exploration is sponsored by the Charles P. Ferro Foundation.
URL:https://www.themiamiartscene.com/event/nsu-art-museum-presents-creativity-exploration-making-metamorphosis/
LOCATION:NSU Art Museum\, One East Las Olas Boulevard\, Fort Lauderdale\, FL\, 33301\, United States
ATTACH;FMTTYPE=image/jpeg:https://www.themiamiartscene.com/wp-content/uploads/2025/05/nsu-maing-metamorphosis.jpg
END:VEVENT
BEGIN:VEVENT
DTSTART;TZID=America/New_York:20250525T120000
DTEND;TZID=America/New_York:20250525T170000
DTSTAMP:20260424T101757
CREATED:20250507T140307Z
LAST-MODIFIED:20250507T140307Z
UID:23715-1748174400-1748192400@www.themiamiartscene.com
SUMMARY:NSU Art Museum: FREE Fort Lauderdale Neighbor Day
DESCRIPTION:Sunday\, May 25th from 12 – 5pm enjoy NSU Art Museum‘s FREE Fort Lauderdale Neighbor Day. Every LAST Sunday of every month\, Fort Lauderdale residents receive FREE admission to NSU Art Museum as part of Fort Lauderdale Neighbor Days. RSVP HERE. \nFort Lauderdale Residents Receive: \n\n2-for-1 Wine in the Museum Café\nFREE admission\, residents must show a photo ID\, driver’s license\, or residential utility bill with proof of Fort Lauderdale address.\nVisit the Museum Cafe & Store and receive 10% off books published by NSU Art Museum.\nFort Lauderdale Neighbor Day is made possible by the City of Fort Lauderdale.
URL:https://www.themiamiartscene.com/event/nsu-art-museum-free-fort-lauderdale-neighbor-day-29/
LOCATION:NSU Art Museum\, One East Las Olas Boulevard\, Fort Lauderdale\, FL\, 33301\, United States
ATTACH;FMTTYPE=image/png:https://www.themiamiartscene.com/wp-content/uploads/2022/09/nsu-art-museum_neighborday.png
END:VEVENT
END:VCALENDAR