BEGIN:VCALENDAR
VERSION:2.0
PRODID:-//Miami Art Scene™ - ECPv6.15.20//NONSGML v1.0//EN
CALSCALE:GREGORIAN
METHOD:PUBLISH
X-ORIGINAL-URL:https://www.themiamiartscene.com
X-WR-CALDESC:Events for Miami Art Scene™
REFRESH-INTERVAL;VALUE=DURATION:PT1H
X-Robots-Tag:noindex
X-PUBLISHED-TTL:PT1H
BEGIN:VTIMEZONE
TZID:America/New_York
BEGIN:DAYLIGHT
TZOFFSETFROM:-0500
TZOFFSETTO:-0400
TZNAME:EDT
DTSTART:20240310T070000
END:DAYLIGHT
BEGIN:STANDARD
TZOFFSETFROM:-0400
TZOFFSETTO:-0500
TZNAME:EST
DTSTART:20241103T060000
END:STANDARD
BEGIN:DAYLIGHT
TZOFFSETFROM:-0500
TZOFFSETTO:-0400
TZNAME:EDT
DTSTART:20250309T070000
END:DAYLIGHT
BEGIN:STANDARD
TZOFFSETFROM:-0400
TZOFFSETTO:-0500
TZNAME:EST
DTSTART:20251102T060000
END:STANDARD
BEGIN:DAYLIGHT
TZOFFSETFROM:-0500
TZOFFSETTO:-0400
TZNAME:EDT
DTSTART:20260308T070000
END:DAYLIGHT
BEGIN:STANDARD
TZOFFSETFROM:-0400
TZOFFSETTO:-0500
TZNAME:EST
DTSTART:20261101T060000
END:STANDARD
END:VTIMEZONE
BEGIN:VEVENT
DTSTART;TZID=America/New_York:20250913T120000
DTEND;TZID=America/New_York:20250913T133000
DTSTAMP:20260424T023709
CREATED:20250823T182459Z
LAST-MODIFIED:20250823T182459Z
UID:24548-1757764800-1757770200@www.themiamiartscene.com
SUMMARY:NSU Art Museum presents Creativity Exploration: Bundles\, Packets\, and Pouches
DESCRIPTION:Saturday\, September 13th from 12 Noon – 1:30pm NSU Art Museum presents Creativity Exploration: Bundles\, Packets\, and Pouches. Make a mindful pouch inspired by the assemblage works and personal bundles\, and packets made by artists such as Sonya Clark\, Julia Couzens\, Shelly Wright\, John Outterbridge\, and others. Use it to store reminders\, messages\, and personal items to encourage you to move through the world with a curious\, observant\, protected\, and peaceful mind. RSVP HERE. \nCreativity Exploration adult workshops promote the benefits of material exploration and the mind-to-body experience. Studies have shown that 45 minutes of creative activity a day reduces stress and offers mental clarity and relaxation. In addition to producing a sense of well-being\, sessions expand participants’ perceptions of forms\, while increasing brain connectivity through visual and cognitive stimulation. The workshop is led by educator Lark Keeler\, a specialist in mindfulness education. \nPreregistration Required. Space is Limited.
URL:https://www.themiamiartscene.com/event/nsu-art-museum-presents-creativity-exploration-bundles-packets-and-pouches/
LOCATION:NSU Art Museum\, One East Las Olas Boulevard\, Fort Lauderdale\, FL\, 33301\, United States
ATTACH;FMTTYPE=image/jpeg:https://www.themiamiartscene.com/wp-content/uploads/2025/08/nsu-creativity-exploration-bundles-and-packages.jpg
END:VEVENT
BEGIN:VEVENT
DTSTART;TZID=America/New_York:20250926T180000
DTEND;TZID=America/New_York:20250926T193000
DTSTAMP:20260424T023709
CREATED:20250922T190730Z
LAST-MODIFIED:20250922T190730Z
UID:24769-1758909600-1758915000@www.themiamiartscene.com
SUMMARY:Broward Art Guild presents DRAMATICA Artist Talk
DESCRIPTION:Friday\, September 26th from 6 – 7:30pm Broward Art Guild presents the closing reception of DRAMATICA where JB Menz will talk with Enrique Cirino and Michael Craft about their collaborative piece\, Let Them Eat Cake and how this show came about. Also see behind the scenes videos of them working during the collaboration. \nMark your calendars\, it’s the last chance to see DRAMATICA!
URL:https://www.themiamiartscene.com/event/broward-art-guild-presents-dramatica-artist-talk/
LOCATION:Broward Art Guild\, 2052 E Oakland Park Boulevard\, Fort Lauderdale\, FL\, 33306\, United States
ATTACH;FMTTYPE=image/jpeg:https://www.themiamiartscene.com/wp-content/uploads/2025/09/broward-guild_enrique-cirino_michael-craft.jpeg
END:VEVENT
BEGIN:VEVENT
DTSTART;TZID=America/New_York:20250928T120000
DTEND;TZID=America/New_York:20250928T170000
DTSTAMP:20260424T023709
CREATED:20250922T012341Z
LAST-MODIFIED:20250922T012341Z
UID:24755-1759060800-1759078800@www.themiamiartscene.com
SUMMARY:NSU Art Museum: FREE Fort Lauderdale Neighbor Day
DESCRIPTION:Sunday\, September 28th from 12 – 5pm enjoy NSU Art Museum‘s FREE Fort Lauderdale Neighbor Day. Every LAST Sunday of every month\, Fort Lauderdale residents receive FREE admission to NSU Art Museum as part of Fort Lauderdale Neighbor Days. RSVP HERE. \nFort Lauderdale Residents Receive: \n\n2-for-1 Wine in the Museum Café\nFREE admission\, residents must show a photo ID\, driver’s license\, or residential utility bill with proof of Fort Lauderdale address.\nVisit the Museum Cafe & Store and receive 10% off books published by NSU Art Museum.\nFort Lauderdale Neighbor Day is made possible by the City of Fort Lauderdale.
URL:https://www.themiamiartscene.com/event/nsu-art-museum-free-fort-lauderdale-neighbor-day-33/
LOCATION:NSU Art Museum\, One East Las Olas Boulevard\, Fort Lauderdale\, FL\, 33301\, United States
ATTACH;FMTTYPE=image/png:https://www.themiamiartscene.com/wp-content/uploads/2022/09/nsu-art-museum_neighborday.png
END:VEVENT
BEGIN:VEVENT
DTSTART;TZID=America/New_York:20250930T173000
DTEND;TZID=America/New_York:20250930T200000
DTSTAMP:20260424T023709
CREATED:20250912T194935Z
LAST-MODIFIED:20250912T194935Z
UID:24728-1759253400-1759262400@www.themiamiartscene.com
SUMMARY:ArtServe: Marking the Moments Art Opening
DESCRIPTION:Tuesday\, September 30th from 5:30 – 8pm ArtServe presents Marking the Moments Art Opening. Artist\, LuRu\, is pleased to present a new exhibition of light reactive paintings that are inspired by the community’s connection to nature and seasonal change. LuRu utilizes a blend of representational and abstract painting styles to form a narrative of nature and spirituality. The tiered painting techniques combines with shifting LED lighting to echo the perceptual changes of our environment. As the light changes\, so too\, does the compositional emphasis. This Event is FREE & Open to the Public | RSVP HERE. \nMade possible with support from the Broward County Cultural Division. Support has been provided by the following Funds at the Community Foundation of Broward: Helen and Frank Stoykov Charitable Endowment Fund Mary and Alex Mackenzie Community Impact Fund.
URL:https://www.themiamiartscene.com/event/artserve-marking-the-moments-art-opening/
LOCATION:ArtServe\, 1350 E. Sunrise Boulevard\, Fort Lauderdale\, FL\, 33304\, United States
ATTACH;FMTTYPE=image/png:https://www.themiamiartscene.com/wp-content/uploads/2025/09/artserve-marking-the-moments.png
END:VEVENT
END:VCALENDAR