BEGIN:VCALENDAR
VERSION:2.0
PRODID:-//Miami Art Scene™ - ECPv6.15.20//NONSGML v1.0//EN
CALSCALE:GREGORIAN
METHOD:PUBLISH
X-ORIGINAL-URL:https://www.themiamiartscene.com
X-WR-CALDESC:Events for Miami Art Scene™
REFRESH-INTERVAL;VALUE=DURATION:PT1H
X-Robots-Tag:noindex
X-PUBLISHED-TTL:PT1H
BEGIN:VTIMEZONE
TZID:America/New_York
BEGIN:DAYLIGHT
TZOFFSETFROM:-0500
TZOFFSETTO:-0400
TZNAME:EDT
DTSTART:20240310T070000
END:DAYLIGHT
BEGIN:STANDARD
TZOFFSETFROM:-0400
TZOFFSETTO:-0500
TZNAME:EST
DTSTART:20241103T060000
END:STANDARD
BEGIN:DAYLIGHT
TZOFFSETFROM:-0500
TZOFFSETTO:-0400
TZNAME:EDT
DTSTART:20250309T070000
END:DAYLIGHT
BEGIN:STANDARD
TZOFFSETFROM:-0400
TZOFFSETTO:-0500
TZNAME:EST
DTSTART:20251102T060000
END:STANDARD
BEGIN:DAYLIGHT
TZOFFSETFROM:-0500
TZOFFSETTO:-0400
TZNAME:EDT
DTSTART:20260308T070000
END:DAYLIGHT
BEGIN:STANDARD
TZOFFSETFROM:-0400
TZOFFSETTO:-0500
TZNAME:EST
DTSTART:20261101T060000
END:STANDARD
END:VTIMEZONE
BEGIN:VEVENT
DTSTART;TZID=America/New_York:20251206T100000
DTEND;TZID=America/New_York:20251206T120000
DTSTAMP:20260423T203052
CREATED:20251124T165927Z
LAST-MODIFIED:20251124T165927Z
UID:25442-1765015200-1765022400@www.themiamiartscene.com
SUMMARY:NSU Art Museum: Miami Art Week VIP Director’s Brunch
DESCRIPTION:Saturday\, December 6th from 10am – 12noon experience the Miami Art Week VIP Director’s Brunch at NSU Art Museum in Fort Lauderdale. Upper-level Members and Miami Art Week Fairs VIP pass holders are invited to the NSU Art Museum Fort Lauderdale annual Director’s Brunch. Attendees may view current exhibitions and enjoy refreshments. For Patron-level Museum Members & Above (Patron\, Benefactor\, Curator Circle & Collector Circle members) | RSVP required. \nDance performance by Damaris Ferrer at Noon. Performance open to general admission guests. \nBecome a Member Today! If you are a current member and wish to upgrade your membership\, please email moadevelopment@nova.edu \n 
URL:https://www.themiamiartscene.com/event/nsu-art-museum-miami-art-week-vip-directors-brunch/
LOCATION:NSU Art Museum\, One East Las Olas Boulevard\, Fort Lauderdale\, FL\, 33301\, United States
ATTACH;FMTTYPE=image/jpeg:https://www.themiamiartscene.com/wp-content/uploads/2025/11/nsu-art-museum-vip-art-basel-brunch.jpeg
END:VEVENT
BEGIN:VEVENT
DTSTART;TZID=America/New_York:20251206T110000
DTEND;TZID=America/New_York:20251207T170000
DTSTAMP:20260423T203052
CREATED:20251206T160734Z
LAST-MODIFIED:20251206T160734Z
UID:25512-1765018800-1765126800@www.themiamiartscene.com
SUMMARY:NSU Art Museum presents Bank of America: ‘Museum On Us’
DESCRIPTION:Saturday\, December 6th and Sunday\, December 7th from 11am – 5pm NSU Art Museum in Fort Lauderdale presents Bank of America Museums on Us. All visitors with an active Bank of America®\, Merrill ® (formerly Merrill Lynch®) or Bank of America Private Bank® (formerly U.S. Trust®) branded debit or credit card – physical or electronic/digital card – and an active\, valid photo ID shall receive one free general admission to NSU Art Museum Fort Lauderdale on the first full weekend of every month. \nSaturdays from 11 AM – 5 PM\nSundays from Noon – 5 PM
URL:https://www.themiamiartscene.com/event/nsu-art-museum-presents-bank-of-america-museum-on-us-5/
LOCATION:NSU Art Museum\, One East Las Olas Boulevard\, Fort Lauderdale\, FL\, 33301\, United States
ATTACH;FMTTYPE=image/jpeg:https://www.themiamiartscene.com/wp-content/uploads/2021/05/NSU-Art-Museum_Bank-of-America_Museums-on-Us-e1622034510899.jpg
END:VEVENT
BEGIN:VEVENT
DTSTART;TZID=America/New_York:20251210T113000
DTEND;TZID=America/New_York:20251210T130000
DTSTAMP:20260423T203052
CREATED:20251209T151942Z
LAST-MODIFIED:20251209T151942Z
UID:25514-1765366200-1765371600@www.themiamiartscene.com
SUMMARY:Friends of NSU Art Museum Presents: Annual Winter Holiday Luncheon
DESCRIPTION:Wednesday\, December 10th from 11:30am – 1:00pm Friends of NSU Art Museum Presents: Annual Winter Holiday Luncheon at the Fort Lauderdale Country Club\, located at 415 E. Country Club Circle\, in Plantation\, Florida 33317. \nFeaturing: Champagne Reception and Gift Basket Raffle \n$75 Per Person\nRSVP by December 2 \nRSVP NOW\nOr pay by check \nMs. Pat Blacker\n777 Bayshore Drive Apt. 802\nFort Lauderdale\, FL 33304\n(972) 896-6675 pat.blacker@hotmail.com\nMake check payable to: FRIENDs of the Museum of Art \n  \nImage: William J. Glackens\, Sledding in Central Park\, c.1912. Oil on panel. NSU Art Museum Fort Lauderdale; bequest of Ira D. Glackens
URL:https://www.themiamiartscene.com/event/friends-of-nsu-art-museum-presents-annual-winter-holiday-luncheon/
LOCATION:Fort Lauderdale Country Club\, 415 E. Country Club Circle\, Plantation\, 33317.\, United States
ATTACH;FMTTYPE=image/jpeg:https://www.themiamiartscene.com/wp-content/uploads/2025/12/nsu-glackens.jpeg
END:VEVENT
BEGIN:VEVENT
DTSTART;TZID=America/New_York:20251211T180000
DTEND;TZID=America/New_York:20251211T200000
DTSTAMP:20260423T203052
CREATED:20251209T153934Z
LAST-MODIFIED:20251209T155303Z
UID:25519-1765476000-1765483200@www.themiamiartscene.com
SUMMARY:Beaux Arts Sip and Shop
DESCRIPTION:Thursday\, December 11th from 6 – 8pm you’re invited to the Beaux Arts Sip and Shop at Baciami Botique\, located at: 9858 Clint Moore Rd C-124\, Boca Raton\, FL 33496. \n15% of regular-priced item sales will be donated to Beaux Arts. \n  \nA Cornerstone of the Fort Lauderdale Community\nBeaux Arts is a volunteer organization whose mission is to encourage an understanding and appreciation of the arts in Fort Lauderdale. Beaux Arts proudly supports Museum on the Move\, an innovative new education program that brings almost 4000 Broward County k-12 students to NSU Art Museum Fort Lauderdale for an interactive tour and learning experience. Beaux Arts also hosts an annual Spring Honoree Luncheon to help garner support for future art education initiatives at NSU Art Museum. Finally\, Beaux Arts provides support to the NSU Art Museum by contributing to the museum’s ongoing operations & enhancing its educational programming and outreach. Through our formal fundraisers and informal activities\, we form friendships and have fun while pursuing our goals.
URL:https://www.themiamiartscene.com/event/beaux-arts-sip-and-shop/
LOCATION:Baciami Botique\, 9858 Clint Moore Rd C-124\, Boca Raton\, FL\, 33496\, United States
ATTACH;FMTTYPE=image/jpeg:https://www.themiamiartscene.com/wp-content/uploads/2025/12/beaux-art-sip-and-shop-e1765294752418.jpeg
END:VEVENT
BEGIN:VEVENT
DTSTART;TZID=America/New_York:20251213T120000
DTEND;TZID=America/New_York:20251213T133000
DTSTAMP:20260423T203052
CREATED:20251209T211044Z
LAST-MODIFIED:20251209T211044Z
UID:25526-1765627200-1765632600@www.themiamiartscene.com
SUMMARY:NSU Art Museum presents Creativity Exploration: Offering Bowls
DESCRIPTION:Saturday\, December 13th from 12 – 1:30pm enjoy Creativity Exploration: Offering Bowls at NSU Art Museum in Fort Lauderdale. An offering bowl is a symbolic tool that can be used to cultivate mindfulness\, positivity\, well-being\, and gratitude. Create your own bowl that can be used in a personal practice\, a small group setting\, or a creative community ritual. Inspired by the work of Onajide Shabaka\, design your bowl with intention and purpose\, using surface decoration and decoupage techniques. \nCreativity Exploration adult workshops promote the benefits of material exploration and the mind-to-body experience. Studies have shown that 45 minutes of creative activity a day reduces stress and offers mental clarity and relaxation. In addition to producing a sense of well-being\, sessions expand participants’ perceptions of forms\, while increasing brain connectivity through visual and cognitive stimulation. The workshop is led by educator Lark Keeler\, a specialist in mindfulness education. \nPreregistration Required. Space is Limited. Pricing: $15 for members; $25 for non-members / RSVP HERE.
URL:https://www.themiamiartscene.com/event/nsu-art-museum-presents-creativity-exploration-offering-bowls/
LOCATION:NSU Art Museum\, One East Las Olas Boulevard\, Fort Lauderdale\, FL\, 33301\, United States
ATTACH;FMTTYPE=image/jpeg:https://www.themiamiartscene.com/wp-content/uploads/2025/12/nsu-offering-bowls.jpg
END:VEVENT
BEGIN:VEVENT
DTSTART;TZID=America/New_York:20251214T143000
DTEND;TZID=America/New_York:20251214T153000
DTSTAMP:20260423T203052
CREATED:20251211T232722Z
LAST-MODIFIED:20251211T233318Z
UID:25548-1765722600-1765726200@www.themiamiartscene.com
SUMMARY:NSU Art Museum: Art Talk with Ximena Caminos\, founder\, REEFLINE\, and Katherine Fleming
DESCRIPTION:Sunday\, December 14th from 2:30 – 3:30pm you’re invited to experience a fascinating Art Talk at NSU Art Museum with Ximena Caminos\, founder\, REEFLINE\, and Katherine Fleming\, Founder & Director of Bridge Initiative. Can you imagine surrounding eleven islands with pink fabric in Biscayne Bay\, or submerging a monumental art installation that doubles as a hybrid reef off of Miami Beach? Join us for two astonishing presentations by guest speakers Katherine Fleming and Ximena Caminos to illuminate the new frontier of public art. Presented in association with the inaugural exhibition\, Christo and Jeanne-Claude: Surrounded Islands\, currently on view. \nFree for Members\nFree with Museum Admission* \n*Reserve your tickets in advance by purchasing online. Museum Admission is included with your ticket. Additionally\, Museum Admission can be purchased on the day of the event and will grant admission to the lecture. RSVP HERE. \n  \n  \nKatherine Fleming is the founder and director of Bridge Initiative\, a nonprofit that unites art and science to create public art for environmental advocacy. Established in 2015 following Fleming’s transformative explorations in Antarctica—where she witnessed the stark impacts of climate change firsthand—Bridge Initiative operates at the intersection of creativity and conservation to inspire public engagement and action. \nXimena Caminos is a biocultural placemaker and systems artist who pioneers cultural–ecological models where art\, science\, and climate innovation meet. Her practice spans governance\, collaboration\, scientific alliances\, ecological performance\, community engagement\, storytelling\, and urban–ocean coexistence. She is the creator of REEFLINE\, a new typology where art becomes habitat and cities learn to coexist with their oceans.
URL:https://www.themiamiartscene.com/event/nsu-art-museum-art-talk-with-ximena-caminos-founder-reefline-and-katherine-fleming/
LOCATION:NSU Art Museum\, One East Las Olas Boulevard\, Fort Lauderdale\, FL\, 33301\, United States
ATTACH;FMTTYPE=image/jpeg:https://www.themiamiartscene.com/wp-content/uploads/2025/12/nsu-art-museum-art-talk.jpeg
END:VEVENT
BEGIN:VEVENT
DTSTART;TZID=America/New_York:20251219T180000
DTEND;TZID=America/New_York:20251219T213000
DTSTAMP:20260423T203052
CREATED:20251216T183356Z
LAST-MODIFIED:20251216T183356Z
UID:25597-1766167200-1766179800@www.themiamiartscene.com
SUMMARY:1310 Gallery presents SOIL: Where the Light Enters — A Community Art & Wellness Exhibition
DESCRIPTION:Friday\, December 19th from 6-9:30pm 1310 Gallery – Sailboat Bend Artist Lofts invites you to the Opening Reception of SOIL: Where the Light Enters — a multidisciplinary art and wellness exhibition and community activation presented by What’s Your Elephant™. This Event is FREE & Open to the Public | RSVP HERE. \nThe exhibition brings together works by 26 artists whose practices explore transformation\, resilience\, memory\, and healing through deeply personal and lived experiences. Across visual art\, performance\, and interdisciplinary forms\, the works invite reflection on growth\, vulnerability\, and the ways creativity becomes a site for meaning-making and connection. \nCurated and produced by Niki Lopez\, award-winning artist\, curator\, and social practitioner\, SOIL unfolds as a living\, community-centered exhibition that approaches curation as a form of social practice—creating space for dialogue and reflection on how healing and growth emerge through what we endure. \n 
URL:https://www.themiamiartscene.com/event/1310-gallery-presents-soil-where-the-light-enters-a-community-art-wellness-exhibition/
LOCATION:1310 Gallery at Sailboat Bend\, 1310 SW 2nd Court\, Fort Lauderdale\, FL\, 33312\, United States
ATTACH;FMTTYPE=image/png:https://www.themiamiartscene.com/wp-content/uploads/2025/12/SOIL.png
END:VEVENT
BEGIN:VEVENT
DTSTART;TZID=America/New_York:20251227T140000
DTEND;TZID=America/New_York:20251228T170000
DTSTAMP:20260423T203052
CREATED:20251209T212444Z
LAST-MODIFIED:20251209T212444Z
UID:25529-1766844000-1766941200@www.themiamiartscene.com
SUMMARY:NSU Art Museum: 2pm Public Tours on the Holiday Weekends!
DESCRIPTION:Saturday\, December 27th at 2pm and Sunday\, December 28th at 3pm join NSU Art Museum on the holiday weekend of December 27-28 for an informative conversational tour through NSU Art Museum’s current exhibitions. Share what you know\, learn from each other\, and see works in a new light as you explore different themes\, techniques\, and histories across the varying artworks in the museum galleries. Bring your friends\, family\, or come solo to enjoy for these dynamic tour conversations! \nPublic Tours are included with museum admission; registration is not required. All are welcome. \nIncluded with Museum Admission.
URL:https://www.themiamiartscene.com/event/nsu-art-museum-2pm-public-tours-on-the-holiday-weekends/
LOCATION:NSU Art Museum\, One East Las Olas Boulevard\, Fort Lauderdale\, FL\, 33301\, United States
ATTACH;FMTTYPE=image/jpeg:https://www.themiamiartscene.com/wp-content/uploads/2025/12/nsu-tours.jpeg
END:VEVENT
BEGIN:VEVENT
DTSTART;TZID=America/New_York:20251228T120000
DTEND;TZID=America/New_York:20251228T170000
DTSTAMP:20260423T203052
CREATED:20251209T220902Z
LAST-MODIFIED:20251209T220902Z
UID:25532-1766923200-1766941200@www.themiamiartscene.com
SUMMARY:NSU Art Museum: FREE Fort Lauderdale Neighbor Day
DESCRIPTION:Sunday\, December 28th from 12 – 5pm enjoy NSU Art Museum‘s FREE Fort Lauderdale Neighbor Day. Every LAST Sunday of every month\, Fort Lauderdale residents receive FREE admission to NSU Art Museum as part of Fort Lauderdale Neighbor Days. RSVP HERE. \nFort Lauderdale Residents Receive: \n\n2-for-1 Wine in the Museum Café\nFREE admission\, residents must show a photo ID\, driver’s license\, or residential utility bill with proof of Fort Lauderdale address.\nVisit the Museum Cafe & Store and receive 10% off books published by NSU Art Museum.\nFort Lauderdale Neighbor Day is made possible by the City of Fort Lauderdale.
URL:https://www.themiamiartscene.com/event/nsu-art-museum-free-fort-lauderdale-neighbor-day-35/
LOCATION:NSU Art Museum\, One East Las Olas Boulevard\, Fort Lauderdale\, FL\, 33301\, United States
ATTACH;FMTTYPE=image/png:https://www.themiamiartscene.com/wp-content/uploads/2025/12/nsu-art-museum-neighbor-day.png
END:VEVENT
END:VCALENDAR