BEGIN:VCALENDAR
VERSION:2.0
PRODID:-//Miami Art Scene™ - ECPv6.15.20//NONSGML v1.0//EN
CALSCALE:GREGORIAN
METHOD:PUBLISH
X-ORIGINAL-URL:https://www.themiamiartscene.com
X-WR-CALDESC:Events for Miami Art Scene™
REFRESH-INTERVAL;VALUE=DURATION:PT1H
X-Robots-Tag:noindex
X-PUBLISHED-TTL:PT1H
BEGIN:VTIMEZONE
TZID:America/New_York
BEGIN:DAYLIGHT
TZOFFSETFROM:-0500
TZOFFSETTO:-0400
TZNAME:EDT
DTSTART:20250309T070000
END:DAYLIGHT
BEGIN:STANDARD
TZOFFSETFROM:-0400
TZOFFSETTO:-0500
TZNAME:EST
DTSTART:20251102T060000
END:STANDARD
BEGIN:DAYLIGHT
TZOFFSETFROM:-0500
TZOFFSETTO:-0400
TZNAME:EDT
DTSTART:20260308T070000
END:DAYLIGHT
BEGIN:STANDARD
TZOFFSETFROM:-0400
TZOFFSETTO:-0500
TZNAME:EST
DTSTART:20261101T060000
END:STANDARD
BEGIN:DAYLIGHT
TZOFFSETFROM:-0500
TZOFFSETTO:-0400
TZNAME:EDT
DTSTART:20270314T070000
END:DAYLIGHT
BEGIN:STANDARD
TZOFFSETFROM:-0400
TZOFFSETTO:-0500
TZNAME:EST
DTSTART:20271107T060000
END:STANDARD
END:VTIMEZONE
BEGIN:VEVENT
DTSTART;TZID=America/New_York:20260103T100000
DTEND;TZID=America/New_York:20260104T170000
DTSTAMP:20260423T184042
CREATED:20251216T195322Z
LAST-MODIFIED:20251216T195322Z
UID:25600-1767434400-1767546000@www.themiamiartscene.com
SUMMARY:38th Annual Las Olas Art Fair Part I
DESCRIPTION:Saturday\, January 3rd & Sunday\, January 4th from 10am – 5pm enjoy the 38th Annual Las Olas Art Fair Part I in Fort Lauderdale. An Outdoor Art Festival on E. Las Olas Blvd. Free Admission. \nSituated in the vibrant center of Fort Lauderdale\, Las Olas Boulevard is often regarded as the city’s crown jewel. This lively avenue offers everything needed for an enjoyable evening or a leisurely day spent browsing shops and dining at charming sidewalk cafes. Along Las Olas Boulevard\, visitors can explore a diverse array of art galleries\, unique boutiques\, and a variety of dining establishments\, featuring everything from Cuban-American dishes to freshly caught seafood from the Atlantic. \nThe Las Olas Art Fair is celebrated as one of the top 100 art festivals in the country and remains a highly anticipated event in the local art scene. Attendees have the opportunity to meet the artists behind the works\, commission custom pieces\, inquire about their techniques\, discover their sources of inspiration\, and acquire exquisite art at reasonable prices. Whatever you seek\, you are sure to find it at this eagerly awaited\, juried art fair on Las Olas.
URL:https://www.themiamiartscene.com/event/38th-annual-las-olas-art-fair-part-i/
LOCATION:Las Olas Art Festival\, 740 E Las Olas Blvd\, Fort Lauderdale\, FL\, 33301\, United States
ATTACH;FMTTYPE=image/png:https://www.themiamiartscene.com/wp-content/uploads/2025/12/las-olas-art-fair-2026.png
END:VEVENT
BEGIN:VEVENT
DTSTART;TZID=America/New_York:20260110T093000
DTEND;TZID=America/New_York:20260110T103000
DTSTAMP:20260423T184042
CREATED:20251219T161551Z
LAST-MODIFIED:20251219T161551Z
UID:25618-1768037400-1768041000@www.themiamiartscene.com
SUMMARY:Sensory Saturdays: Free Sensory-Friendly Programs at NSU Art Museum
DESCRIPTION:Saturday\, January 10th from 9:30 – 10:30am NSU Art Museum Fort Lauderdale offers a sensory-friendly program FREE for children on the Autism Spectrum ages 6-17 and their families. RSVP HERE. \nExperience NSU Art Museum on January 10th\, 2026\, from 9:30-10:30 am\, before regular museum hours\, for a sensory-friendly environment and exclusive museum access. Enjoy making art and wandering through the museum with low lighting\, reduced noise\, and plenty of hands-on art items. Sensory-friendly materials will be available for all visiting children on the spectrum\, including: noise-cancelling headphones\, weighted lap pads\, soft seating\, sensory-friendly art materials\, and a special gift for each child. \nRegistration opens one month prior to each date. Admission to Sensory Saturday is FREE with a required RSVP. Space is limited.
URL:https://www.themiamiartscene.com/event/sensory-saturdays-free-sensory-friendly-programs-at-nsu-art-museum/
LOCATION:NSU Art Museum\, One East Las Olas Boulevard\, Fort Lauderdale\, FL\, 33301\, United States
ATTACH;FMTTYPE=image/jpeg:https://www.themiamiartscene.com/wp-content/uploads/2025/12/nsu-art-museum-sensory-saturdays.jpg
END:VEVENT
BEGIN:VEVENT
DTSTART;TZID=America/New_York:20260110T120000
DTEND;TZID=America/New_York:20260110T133000
DTSTAMP:20260423T184042
CREATED:20251217T164053Z
LAST-MODIFIED:20251217T164431Z
UID:25603-1768046400-1768051800@www.themiamiartscene.com
SUMMARY:NSU Art Museum presents Creativity Exploration: Metal Stamped Affirmations
DESCRIPTION:Saturday\, January 10th from 12 – 1:30pm enjoy Creativity Exploration: Metal Stamped Affirmations at NSU Art Museum in Fort Lauderdale. Create your own metal-stamped jewelry to help shape and promote positive intentions for the new year. \nCreativity Exploration adult workshops promote the benefits of material exploration and the mind-to-body experience. Studies have shown that 45 minutes of creative activity a day reduces stress and offers mental clarity and relaxation. In addition to producing a sense of well-being\, sessions expand participants’ perceptions of forms\, while increasing brain connectivity through visual and cognitive stimulation. The workshop is led by educator Lark Keeler\, a specialist in mindfulness education. \nPreregistration Required. Space is Limited. Pricing: $15 for members; $25 for non-members / RSVP HERE.
URL:https://www.themiamiartscene.com/event/nsu-art-museum-presents-creativity-exploration-metal-stamped-affirmations/
LOCATION:NSU Art Museum\, One East Las Olas Boulevard\, Fort Lauderdale\, FL\, 33301\, United States
ATTACH;FMTTYPE=image/png:https://www.themiamiartscene.com/wp-content/uploads/2025/12/nsu-metal-stamped.png
END:VEVENT
BEGIN:VEVENT
DTSTART;TZID=America/New_York:20260125T120000
DTEND;TZID=America/New_York:20260125T170000
DTSTAMP:20260423T184042
CREATED:20260121T173659Z
LAST-MODIFIED:20260121T173659Z
UID:25830-1769342400-1769360400@www.themiamiartscene.com
SUMMARY:NSU Art Museum: FREE Fort Lauderdale Neighbor Day
DESCRIPTION:Sunday\, January 25th from 12 – 5pm enjoy NSU Art Museum‘s FREE Fort Lauderdale Neighbor Day. Every LAST Sunday of every month\, Fort Lauderdale residents receive FREE admission to NSU Art Museum as part of Fort Lauderdale Neighbor Days. RSVP HERE. \nFort Lauderdale Residents Receive: \n2-for-1 Wine in the Museum Café\nFREE admission\, residents must show a photo ID\, driver’s license\, or residential utility bill with proof of Fort Lauderdale address.\nVisit the Museum Cafe & Store and receive 10% off books published by NSU Art Museum.\nFort Lauderdale Neighbor Day is made possible by the City of Fort Lauderdale.
URL:https://www.themiamiartscene.com/event/nsu-art-museum-free-fort-lauderdale-neighbor-day-36/
LOCATION:NSU Art Museum\, One East Las Olas Boulevard\, Fort Lauderdale\, FL\, 33301\, United States
ATTACH;FMTTYPE=image/png:https://www.themiamiartscene.com/wp-content/uploads/2025/12/nsu-art-museum-neighbor-day.png
END:VEVENT
END:VCALENDAR