BEGIN:VCALENDAR
VERSION:2.0
PRODID:-//Miami Art Scene™ - ECPv6.15.20//NONSGML v1.0//EN
CALSCALE:GREGORIAN
METHOD:PUBLISH
X-WR-CALNAME:Miami Art Scene™
X-ORIGINAL-URL:https://www.themiamiartscene.com
X-WR-CALDESC:Events for Miami Art Scene™
REFRESH-INTERVAL;VALUE=DURATION:PT1H
X-Robots-Tag:noindex
X-PUBLISHED-TTL:PT1H
BEGIN:VTIMEZONE
TZID:America/New_York
BEGIN:DAYLIGHT
TZOFFSETFROM:-0500
TZOFFSETTO:-0400
TZNAME:EDT
DTSTART:20250309T070000
END:DAYLIGHT
BEGIN:STANDARD
TZOFFSETFROM:-0400
TZOFFSETTO:-0500
TZNAME:EST
DTSTART:20251102T060000
END:STANDARD
BEGIN:DAYLIGHT
TZOFFSETFROM:-0500
TZOFFSETTO:-0400
TZNAME:EDT
DTSTART:20260308T070000
END:DAYLIGHT
BEGIN:STANDARD
TZOFFSETFROM:-0400
TZOFFSETTO:-0500
TZNAME:EST
DTSTART:20261101T060000
END:STANDARD
BEGIN:DAYLIGHT
TZOFFSETFROM:-0500
TZOFFSETTO:-0400
TZNAME:EDT
DTSTART:20270314T070000
END:DAYLIGHT
BEGIN:STANDARD
TZOFFSETFROM:-0400
TZOFFSETTO:-0500
TZNAME:EST
DTSTART:20271107T060000
END:STANDARD
END:VTIMEZONE
BEGIN:VEVENT
DTSTART;TZID=America/New_York:20260305T110000
DTEND;TZID=America/New_York:20260305T140000
DTSTAMP:20260423T131745
CREATED:20260228T173931Z
LAST-MODIFIED:20260228T173931Z
UID:26139-1772708400-1772719200@www.themiamiartscene.com
SUMMARY:Beaux Arts Fort Lauderdale Presents: Fire & Ice
DESCRIPTION:Thursday\, March 5th from 11am – 2pm Beaux Arts Fort Lauderdale will host its highly anticipated fundraising luncheon\, Fire & Ice\, at the stunning Crystal Ballroom on Lake Melva (1431 N Federal Hwy\, Fort Lauderdale\, FL 33304). From 11 am to 2 pm\, attendees will immerse themselves in an enchanting atmosphere filled with art\, culture\, and community spirit. RSVP HERE. \nThe afternoon will feature amazing entertainment\, a dynamic live auction\, and a silent auction showcasing exclusive items and experiences. Guests will also enjoy exceptional cuisine and libations. \nProceeds from Fire & Ice benefit the NSU Art Museum Fort Lauderdale’s Museum on the Move program\, which brings transformative arts education experiences to Broward County Schools\, with a special focus on Title I schools. Enjoy an inspiring day of generosity and celebration as the community comes together to support the arts and make a lasting impact!
URL:https://www.themiamiartscene.com/event/beaux-arts-fort-lauderdale-presents-fire-ice/
LOCATION:Crystal Ballroom on Lake Melva\, 1431 N Federal Hwy\, Fort Lauderdale\, FL\, 33304\, United States
ATTACH;FMTTYPE=image/png:https://www.themiamiartscene.com/wp-content/uploads/2026/02/fire-ice.png
END:VEVENT
BEGIN:VEVENT
DTSTART;TZID=America/New_York:20260305T110000
DTEND;TZID=America/New_York:20260305T190000
DTSTAMP:20260423T131745
CREATED:20260228T174934Z
LAST-MODIFIED:20260228T210534Z
UID:26145-1772708400-1772737200@www.themiamiartscene.com
SUMMARY:NSU Art Museum: Free First Thursday
DESCRIPTION:Thursday\, March 5th from 11am – 7pm enjoy Free First Thursdays at NSU Art Museum in Fort Lauderdale\, offering visitors free admission to the Museum for a full day of art-making! \nEnjoy FREE Museum admission and 2-for-1 All Day Happy Hour on the first Thursday of every month from 11 am to 7 pm during Free First Thursdays. Enjoy Mini Muse\, free drop-in art-making activities ALL DAY for children inspired by current exhibitions. \n 
URL:https://www.themiamiartscene.com/event/nsu-art-museum-free-first-thursday-2/
LOCATION:NSU Art Museum\, One East Las Olas Boulevard\, Fort Lauderdale\, FL\, 33301\, United States
ATTACH;FMTTYPE=image/jpeg:https://www.themiamiartscene.com/wp-content/uploads/2026/02/FreeFirstThursdayThumbnail-01-1500x1500-1.jpeg
END:VEVENT
BEGIN:VEVENT
DTSTART;TZID=America/New_York:20260305T170000
DTEND;TZID=America/New_York:20260305T190000
DTSTAMP:20260423T131745
CREATED:20260216T185751Z
LAST-MODIFIED:20260216T190049Z
UID:26056-1772730000-1772737200@www.themiamiartscene.com
SUMMARY:NSU Art Museum presents Teen Art Exhibition Opening Reception
DESCRIPTION:Thursday\, March 5th from 5 – 7pm NSU Art Museum cordially invites you to the opening reception of Lost & Found\, an exhibition showcasing artwork in all media by Broward County teens\, curated by student members of the Teen Art Council at NSU Art Museum Fort Lauderdale. Bringing together an eclectic range of creative voices\, the exhibition highlights the unique perspectives and lived experiences of teens across Broward County. Viewers are invited into a rich archive of teen imagination\, where diverse works come together to offer glimpses into the worlds these young artists thoughtfully and skillfully create. RSVP HERE. \nThe theme of Lost & Found encourages artists to explore an open-ended spectrum of ideas\, memories\, emotions\, and experiences that may fade\, transform\, or resurface in unexpected ways. Rather than defining a single narrative\, the exhibition leaves space for interpretation and discovery across all artistic mediums. \nThis annual exhibition celebrates the energizing creativity of Broward County teens and invites audiences of all backgrounds to engage with work that is curious\, reflective\, and boldly expressive. It is both a platform for emerging artists and a welcoming space for art appreciators to connect with the creative spirit of the next generation. Whether through visual art\, performance art\, dance\, writing\, or music\, Lost & Found is a testament to the resilience of creativity and a reminder that sometimes\, the most profound discoveries are made when we least expect them. \nJoin the museum as special guest jurors Kandy G. Lopez\, Jared McGriff\, and Cheryl Pope make their final decisions\, with the awards be announced at 6 pm! Awards include “Award in Creativity”\, “Impact Award”\, and “Best in Show Award”. Don’t miss out on this highly anticipated night!
URL:https://www.themiamiartscene.com/event/nsu-art-museum-presents-teen-art-exhibition-opening-reception/
LOCATION:NSU Art Museum\, One East Las Olas Boulevard\, Fort Lauderdale\, FL\, 33301\, United States
ATTACH;FMTTYPE=image/png:https://www.themiamiartscene.com/wp-content/uploads/2026/02/nsu-art-museum-teen-art-exhibition-march-5-2026.png
END:VEVENT
BEGIN:VEVENT
DTSTART;TZID=America/New_York:20260313T140000
DTEND;TZID=America/New_York:20260313T150000
DTSTAMP:20260423T131745
CREATED:20260305T214427Z
LAST-MODIFIED:20260305T214507Z
UID:26185-1773410400-1773414000@www.themiamiartscene.com
SUMMARY:NSU Art Museum presents Art in Context: History of Art Series by Ariella Wolens
DESCRIPTION:Friday\, March 13th from 2 – 3pm join NSU Art Museum for an engaging and informal three-part art history course presented by Ariella Wolens\, Bryant Taylor Curator\, designed for curious learners of all backgrounds. Held on the second Friday of each month from February through April at 2 pm\, this lecture series offers a broad and accessible journey through the history of art. RSVP HERE. \nEach session builds chronologically\, beginning with the foundations of art history and moving through key movements\, ideas\, and artists\, concluding with contemporary and current-day practices. Through lively discussion\, images\, and curatorial insight\, participants will gain a deeper understanding of how art reflects and shapes the world across time. \nNo prior art history experience is required\, just curiosity and a willingness to explore. This casual\, three-part series invites participants to learn\, ask questions\, and connect across centuries of artistic expression. \nVisit the Museum Café immediately following the lecture for 2-for-1 wine. \nAdmission is free for members\, $16 per class for non-members. Space is limited. Preregistration Required. \nIf you or someone you know needs help registering\, please call 954-262-0204 or email museumeducation@nova.edu \n  \nImage: Édouard Manet\, Le Fifre (The Fifer)\, 1866\, Oil on canvas\, 63.1 x 38.1 inches\, Musée d’Orsay\, Paris. 01
URL:https://www.themiamiartscene.com/event/nsu-art-museum-presents-art-in-context-history-of-art-series-by-ariella-wolens/
LOCATION:NSU Art Museum\, One East Las Olas Boulevard\, Fort Lauderdale\, FL\, 33301\, United States
ATTACH;FMTTYPE=image/jpeg:https://www.themiamiartscene.com/wp-content/uploads/2026/03/nsu-art-museum-history-of-art-series.jpeg
END:VEVENT
BEGIN:VEVENT
DTSTART;TZID=America/New_York:20260318T113000
DTEND;TZID=America/New_York:20260318T113000
DTSTAMP:20260423T131745
CREATED:20260318T025859Z
LAST-MODIFIED:20260318T025859Z
UID:26349-1773833400-1773833400@www.themiamiartscene.com
SUMMARY:NSU Art Museum: Friends Spring Luncheon
DESCRIPTION:Wednesday\, March 18th at 11:30am you are cordially invited to attend Lunch With Friends at the Coral Ridge Yacht Club in Fort Lauderdale\, celebrating the Collections of NSU Art Museum Fort Lauderdale to benefit NSU Art Museum Fort Lauderdale and The Museum on the Move Program. \nProsecco Reception\, Silent Auction\, Photo Booth\, Live Music. Complimentary Valet Parking. RSVP by March 4\, 2026. \nCommittee:\nAnn Harsh and Marjorie Dorris\nKellie Allen\, Pat Blacker\, Terry Del Rossi\, Shirley Gleason\,\nKathalyn Haimo\, Mimi Hershenson\, Carol Horning\,\nShari Kellermeyer\, Barbara Knochenhauer\, Joyce Leiberman\,\nTina Levy\, Ethel Lipoff\, Liannette Marquez\, Joanne Nagel\,\nDorothy Paczosa\, Sandra Runes\, Faustina Sindall\, Mark Solomon\, Rebecca Solomon\, Janet Stokoe\, Joan Wolfe \nMission:\nFRIENDS of the Art Museum Fort Lauderdale is an active volunteer service and fundraising organization supporting the Art Museum Fort Lauderdale and fostering community interest in the arts. This springtime luncheon is our signature fundraising event. For our membership\, our focus is providing educational activities which include art lectures and art-centered field trips. Membership in FRIENDS is a structured means to participate in and support our Museum. \n  \nImage:\nJoy Gregory\, Barbie- The Golden Years (Throwing Shapes)\,\n2024. Cyanotype on Bockingford Oatmeal. Sheet: 30 in x 22 in\n(76.2 cm x 55.88 cm). NSU Art Museum Fort Lauderdale; purchased through the Susan S. Miller Acquisitions Fund\nNote:\nFRIENDS wishes to acknowledge the featured work was acquired by the generosity of the Susan S. Miller Fund through the Docent Council. Susan was an accomplished artist and Art Museum Docent. Her legacy to provide a contemporary work by a living artist for the permanent collection is inspirational.
URL:https://www.themiamiartscene.com/event/nsu-art-museum-friends-spring-luncheon/
LOCATION:Coral Ridge Yacht Club\, 2800 Yacht Club Blvd\, Fort Lauderdale\, FL\, 33021\, United States
ATTACH;FMTTYPE=image/jpeg:https://www.themiamiartscene.com/wp-content/uploads/2026/03/NSU-Spring-Into-Art-Joy-Gregory-766x1024-1.jpeg
END:VEVENT
BEGIN:VEVENT
DTSTART;TZID=America/New_York:20260322T123000
DTEND;TZID=America/New_York:20260322T140000
DTSTAMP:20260423T131745
CREATED:20260310T222309Z
LAST-MODIFIED:20260311T165343Z
UID:26204-1774182600-1774188000@www.themiamiartscene.com
SUMMARY:NSU Art Museum presents Pablo Cano: Side Show
DESCRIPTION:Sunday\, March 22nd from 12:30 – 2pm NSU Art Museum Fort Lauderdale presents Pablo Cano: Side Show. Enjoy a one-day exhibition and performance of animated sculptures by Miami artist Pablo Cano. Guests will experience a 12:30-12:45pm performance on the steps of the NSU Art Museum breezeway with large-scale sculptures. And then a 1:30pm performance inside the museum. \n 
URL:https://www.themiamiartscene.com/event/nsu-art-museum-presents-pablo-cano-side-show/
LOCATION:NSU Art Museum\, One East Las Olas Boulevard\, Fort Lauderdale\, FL\, 33301\, United States
ATTACH;FMTTYPE=image/jpeg:https://www.themiamiartscene.com/wp-content/uploads/2026/03/nsu-pablo-cano-side-show.jpeg
END:VEVENT
BEGIN:VEVENT
DTSTART;TZID=America/New_York:20260329T120000
DTEND;TZID=America/New_York:20260329T170000
DTSTAMP:20260423T131745
CREATED:20260317T235042Z
LAST-MODIFIED:20260317T235042Z
UID:26326-1774785600-1774803600@www.themiamiartscene.com
SUMMARY:NSU Art Museum: FREE Fort Lauderdale Neighbor Day
DESCRIPTION:Sunday\, March 29th from 12 – 5pm enjoy NSU Art Museum‘s FREE Fort Lauderdale Neighbor Day. Every LAST Sunday of every month\, Fort Lauderdale residents receive FREE admission to NSU Art Museum as part of Fort Lauderdale Neighbor Days. RSVP HERE. \nFort Lauderdale Residents Receive: \n2-for-1 Wine in the Museum Café\nFREE admission\, residents must show a photo ID\, driver’s license\, or residential utility bill with proof of Fort Lauderdale address.\nVisit the Museum Cafe & Store and receive 10% off books published by NSU Art Museum.\nFort Lauderdale Neighbor Day is made possible by the City of Fort Lauderdale.
URL:https://www.themiamiartscene.com/event/nsu-art-museum-free-fort-lauderdale-neighbor-day-38/
LOCATION:NSU Art Museum\, One East Las Olas Boulevard\, Fort Lauderdale\, FL\, 33301\, United States
ATTACH;FMTTYPE=image/png:https://www.themiamiartscene.com/wp-content/uploads/2026/03/2026-NSU-neighbor-.png
END:VEVENT
END:VCALENDAR