BEGIN:VCALENDAR
VERSION:2.0
PRODID:-//Miami Art Scene™ - ECPv6.15.20//NONSGML v1.0//EN
CALSCALE:GREGORIAN
METHOD:PUBLISH
X-WR-CALNAME:Miami Art Scene™
X-ORIGINAL-URL:https://www.themiamiartscene.com
X-WR-CALDESC:Events for Miami Art Scene™
REFRESH-INTERVAL;VALUE=DURATION:PT1H
X-Robots-Tag:noindex
X-PUBLISHED-TTL:PT1H
BEGIN:VTIMEZONE
TZID:America/New_York
BEGIN:DAYLIGHT
TZOFFSETFROM:-0500
TZOFFSETTO:-0400
TZNAME:EDT
DTSTART:20230312T070000
END:DAYLIGHT
BEGIN:STANDARD
TZOFFSETFROM:-0400
TZOFFSETTO:-0500
TZNAME:EST
DTSTART:20231105T060000
END:STANDARD
BEGIN:DAYLIGHT
TZOFFSETFROM:-0500
TZOFFSETTO:-0400
TZNAME:EDT
DTSTART:20240310T070000
END:DAYLIGHT
BEGIN:STANDARD
TZOFFSETFROM:-0400
TZOFFSETTO:-0500
TZNAME:EST
DTSTART:20241103T060000
END:STANDARD
BEGIN:DAYLIGHT
TZOFFSETFROM:-0500
TZOFFSETTO:-0400
TZNAME:EDT
DTSTART:20250309T070000
END:DAYLIGHT
BEGIN:STANDARD
TZOFFSETFROM:-0400
TZOFFSETTO:-0500
TZNAME:EST
DTSTART:20251102T060000
END:STANDARD
END:VTIMEZONE
BEGIN:VEVENT
DTSTART;TZID=America/New_York:20240619T123000
DTEND;TZID=America/New_York:20240619T133000
DTSTAMP:20260425T231250
CREATED:20240528T161622Z
LAST-MODIFIED:20240528T161622Z
UID:21345-1718800200-1718803800@www.themiamiartscene.com
SUMMARY:NSU Art Museum presents Artist Roundtable: Juneteenth Celebration with Niki Lopez
DESCRIPTION:Wednesday\, June 19th from 12:30 – 1:30pm join NSU Art Museum for a conversation with featured local artist\, Niki Lopez. Lopez will explore the significance of Juneteenth\, and its original and ethical ways to honor this pivotal moment in history. As an artist and social practitioner and through Lopez’s non-profit What’s Your Elephant\, Lopez will delve into the transformative power of art in fostering freedom\, expression\, and collective healing. \nThe Artist’s Roundtable Series focuses on connecting museum visitors to creative professionals\, igniting conversations in a close discussion around ideology\, practice\, and technique. Guests are welcome to pre-order lunch by 12pm from the Museum Café to enjoy a delicious meal or snack to accompany our conversation. Artists’ roundtables are free to members and included with museum admission for non-members. \nRSVP today to save your seat. Free for members; Included with Admission for non-members.
URL:https://www.themiamiartscene.com/event/nsu-art-museum-presents-artist-roundtable-juneteenth-celebration-with-niki-lopez/
LOCATION:NSU Art Museum\, One East Las Olas Boulevard\, Fort Lauderdale\, FL\, 33301\, United States
ATTACH;FMTTYPE=image/jpeg:https://www.themiamiartscene.com/wp-content/uploads/2024/05/niki-lopez.jpeg
END:VEVENT
END:VCALENDAR