BEGIN:VCALENDAR
VERSION:2.0
PRODID:-//Miami Art Scene™ - ECPv6.15.20//NONSGML v1.0//EN
CALSCALE:GREGORIAN
METHOD:PUBLISH
X-WR-CALNAME:Miami Art Scene™
X-ORIGINAL-URL:https://www.themiamiartscene.com
X-WR-CALDESC:Events for Miami Art Scene™
REFRESH-INTERVAL;VALUE=DURATION:PT1H
X-Robots-Tag:noindex
X-PUBLISHED-TTL:PT1H
BEGIN:VTIMEZONE
TZID:America/New_York
BEGIN:DAYLIGHT
TZOFFSETFROM:-0500
TZOFFSETTO:-0400
TZNAME:EDT
DTSTART:20230312T070000
END:DAYLIGHT
BEGIN:STANDARD
TZOFFSETFROM:-0400
TZOFFSETTO:-0500
TZNAME:EST
DTSTART:20231105T060000
END:STANDARD
BEGIN:DAYLIGHT
TZOFFSETFROM:-0500
TZOFFSETTO:-0400
TZNAME:EDT
DTSTART:20240310T070000
END:DAYLIGHT
BEGIN:STANDARD
TZOFFSETFROM:-0400
TZOFFSETTO:-0500
TZNAME:EST
DTSTART:20241103T060000
END:STANDARD
BEGIN:DAYLIGHT
TZOFFSETFROM:-0500
TZOFFSETTO:-0400
TZNAME:EDT
DTSTART:20250309T070000
END:DAYLIGHT
BEGIN:STANDARD
TZOFFSETFROM:-0400
TZOFFSETTO:-0500
TZNAME:EST
DTSTART:20251102T060000
END:STANDARD
END:VTIMEZONE
BEGIN:VEVENT
DTSTART;TZID=America/New_York:20240803T110000
DTEND;TZID=America/New_York:20240804T170000
DTSTAMP:20260425T195128
CREATED:20240715T231457Z
LAST-MODIFIED:20240715T231457Z
UID:21703-1722682800-1722790800@www.themiamiartscene.com
SUMMARY:NSU Art Museum presents ‘Museums On Us’
DESCRIPTION:Saturday\, August 3rd (11am – 5pm) and Sunday\, August 4th (12pm – 5pm) NSU Art Museum Fort Lauderdale presents Bank of America Museums on Us. Bank of America\, Merrill Lynch and U.S. Trust credit and debit cardholders receive free access to over 200 institutions. Cardholders will receive free admission on the first full weekend of each month. Cardholders need only present their card and a photo ID to gain a free general admission. The promotion doesn’t include access to special exhibits\, ticketed shows\, or fundraising events. \n\nComplimentary Admission for Card Holders and Employees. \nCOST: FREE to Bank of America\, Merrill Lynch and U.S. Trust credit and debit cardholders. Free admission applies to the cardholder only\, not to any additional guests.
URL:https://www.themiamiartscene.com/event/nsu-art-museum-presents-museums-on-us-12/
LOCATION:NSU Art Museum\, One East Las Olas Boulevard\, Fort Lauderdale\, FL\, 33301\, United States
ATTACH;FMTTYPE=image/jpeg:https://www.themiamiartscene.com/wp-content/uploads/2021/05/NSU-Art-Museum_Bank-of-America_Museums-on-Us-e1622034510899.jpg
END:VEVENT
END:VCALENDAR