BEGIN:VCALENDAR
VERSION:2.0
PRODID:-//Miami Art Scene™ - ECPv6.15.20//NONSGML v1.0//EN
CALSCALE:GREGORIAN
METHOD:PUBLISH
X-WR-CALNAME:Miami Art Scene™
X-ORIGINAL-URL:https://www.themiamiartscene.com
X-WR-CALDESC:Events for Miami Art Scene™
REFRESH-INTERVAL;VALUE=DURATION:PT1H
X-Robots-Tag:noindex
X-PUBLISHED-TTL:PT1H
BEGIN:VTIMEZONE
TZID:America/New_York
BEGIN:DAYLIGHT
TZOFFSETFROM:-0500
TZOFFSETTO:-0400
TZNAME:EDT
DTSTART:20230312T070000
END:DAYLIGHT
BEGIN:STANDARD
TZOFFSETFROM:-0400
TZOFFSETTO:-0500
TZNAME:EST
DTSTART:20231105T060000
END:STANDARD
BEGIN:DAYLIGHT
TZOFFSETFROM:-0500
TZOFFSETTO:-0400
TZNAME:EDT
DTSTART:20240310T070000
END:DAYLIGHT
BEGIN:STANDARD
TZOFFSETFROM:-0400
TZOFFSETTO:-0500
TZNAME:EST
DTSTART:20241103T060000
END:STANDARD
BEGIN:DAYLIGHT
TZOFFSETFROM:-0500
TZOFFSETTO:-0400
TZNAME:EDT
DTSTART:20250309T070000
END:DAYLIGHT
BEGIN:STANDARD
TZOFFSETFROM:-0400
TZOFFSETTO:-0500
TZNAME:EST
DTSTART:20251102T060000
END:STANDARD
END:VTIMEZONE
BEGIN:VEVENT
DTSTART;TZID=America/New_York:20241116T173000
DTEND;TZID=America/New_York:20241116T190000
DTSTAMP:20260425T140143
CREATED:20241015T162339Z
LAST-MODIFIED:20241015T162339Z
UID:22368-1731778200-1731783600@www.themiamiartscene.com
SUMMARY:NSU Art Museum: Opening Reception for Jacqueline de Jong\, Rose B. Simpson and vanessa german\, and Cici McMonigle
DESCRIPTION:Saturday\, November 16th from 5:30 – 7 pm enjoy the Opening Reception at NSU Art Museum for: Jacqueline de Jong: Vicious Circles; Rose B. Simpson and vanessa german: IT INCLUDES EVERYONE\, EVERYWHERE\, ALWAYS; and Cici McMonigle: Creatures for the Divine. \n  \nMembers: Free | Non-members: $25 \n  \nThank you Wayne and Lucretia Weiner for sponsoring the opening reception.\nAt NSU Art Museum Fort Lauderdale\nOne East Las Olas Boulevard\nFort Lauderdale\, FL 33301\n  \nIMAGE from top to bottom\, left to right:\nJacqueline de Jong\, Moria (08.09.20) (Border Line)\, 2021. NSU Art Museum Fort Lauderdale; purchased with funds provided by Curator’s Circle. Courtesy of the artist and Ortuzar Projects\, New York.\nvanessa german\, BIRD #1\, 2022 wood\, foam\, black pigment\, grace\, the dream of a human woman who became a bird to tell us that we are all more than human\, glass bottles found at the trash dump for the Biltmore— the largest house in America\, gold metallic paint\, plaster\, plaster gauze wood\, ribbon\, astroturf\, love\, an open heart. 65 1/2 x 24 x 60 inches (166.4 x 61 x 152.4 cm). Copyright of the artist.\nRose B. Simpson\, Conjure II\, 2022\, Clay\, grout\, indigenous New Mexico pine from new studio build\, 28 × 12 × 14 inches (71.1 × 30.5 × 35.6 cm)\, Collection of Noel E.D. Kirnon\, Image courtesy of the artist and Jack Shainman Gallery\, New York.\nCici McMonigle\, Red Dog\, 2024\, Photo courtesy of Rodrigo Gaya.
URL:https://www.themiamiartscene.com/event/nsu-art-museum-opening-reception-for-jacqueline-de-jong-rose-b-simpson-and-vanessa-german-and-cici-mcmonigle/
LOCATION:NSU Art Museum\, One East Las Olas Boulevard\, Fort Lauderdale\, FL\, 33301\, United States
ATTACH;FMTTYPE=image/png:https://www.themiamiartscene.com/wp-content/uploads/2024/10/nsu-combined-exhibition-photos-nov-2024-e1729009367517.png
END:VEVENT
END:VCALENDAR