BEGIN:VCALENDAR
VERSION:2.0
PRODID:-//Miami Art Scene™ - ECPv6.15.20//NONSGML v1.0//EN
CALSCALE:GREGORIAN
METHOD:PUBLISH
X-WR-CALNAME:Miami Art Scene™
X-ORIGINAL-URL:https://www.themiamiartscene.com
X-WR-CALDESC:Events for Miami Art Scene™
REFRESH-INTERVAL;VALUE=DURATION:PT1H
X-Robots-Tag:noindex
X-PUBLISHED-TTL:PT1H
BEGIN:VTIMEZONE
TZID:America/New_York
BEGIN:DAYLIGHT
TZOFFSETFROM:-0500
TZOFFSETTO:-0400
TZNAME:EDT
DTSTART:20240310T070000
END:DAYLIGHT
BEGIN:STANDARD
TZOFFSETFROM:-0400
TZOFFSETTO:-0500
TZNAME:EST
DTSTART:20241103T060000
END:STANDARD
BEGIN:DAYLIGHT
TZOFFSETFROM:-0500
TZOFFSETTO:-0400
TZNAME:EDT
DTSTART:20250309T070000
END:DAYLIGHT
BEGIN:STANDARD
TZOFFSETFROM:-0400
TZOFFSETTO:-0500
TZNAME:EST
DTSTART:20251102T060000
END:STANDARD
BEGIN:DAYLIGHT
TZOFFSETFROM:-0500
TZOFFSETTO:-0400
TZNAME:EDT
DTSTART:20260308T070000
END:DAYLIGHT
BEGIN:STANDARD
TZOFFSETFROM:-0400
TZOFFSETTO:-0500
TZNAME:EST
DTSTART:20261101T060000
END:STANDARD
END:VTIMEZONE
BEGIN:VEVENT
DTSTART;TZID=America/New_York:20250809T120000
DTEND;TZID=America/New_York:20250809T133000
DTSTAMP:20260424T062609
CREATED:20250722T145221Z
LAST-MODIFIED:20250722T145221Z
UID:24290-1754740800-1754746200@www.themiamiartscene.com
SUMMARY:NSU Art Museum presents Creativity Exploration: Charming Creature Creations
DESCRIPTION:Saturday\, August 9th from 12 Noon – 1:30pm NSU Art Museum presents Creativity Exploration: Charming Creature Creations. Explore the world of mini animal sculptures in this hands-on creativity class inspired by artist Diana Parkhouse. Known for her expressive and whimsical creatures\, Parkhouse invites us to see animals not just as subjects\, but as storytellers. Craft your own favorite animal or animal guide using a variety of materials. \nCreativity Exploration adult workshops promote the benefits of material exploration and the mind-to-body experience. Studies have shown that 45 minutes of creative activity a day reduces stress and offers mental clarity and relaxation. In addition to producing a sense of well-being\, sessions expand participants’ perceptions of forms\, while increasing brain connectivity through visual and cognitive stimulation. The workshop is led by educator Lark Keeler\, a specialist in mindfulness education. \nPreregistration Required. Space is Limited.
URL:https://www.themiamiartscene.com/event/nsu-art-museum-presents-creativity-exploration-charming-creature-creations/
LOCATION:NSU Art Museum\, One East Las Olas Boulevard\, Fort Lauderdale\, FL\, 33301\, United States
ATTACH;FMTTYPE=image/jpeg:https://www.themiamiartscene.com/wp-content/uploads/2025/07/NSU-Charming-Creature-Creations-e1753195924961.jpeg
END:VEVENT
END:VCALENDAR