BEGIN:VCALENDAR
VERSION:2.0
PRODID:-//Miami Art Scene™ - ECPv6.15.20//NONSGML v1.0//EN
CALSCALE:GREGORIAN
METHOD:PUBLISH
X-WR-CALNAME:Miami Art Scene™
X-ORIGINAL-URL:https://www.themiamiartscene.com
X-WR-CALDESC:Events for Miami Art Scene™
REFRESH-INTERVAL;VALUE=DURATION:PT1H
X-Robots-Tag:noindex
X-PUBLISHED-TTL:PT1H
BEGIN:VTIMEZONE
TZID:America/New_York
BEGIN:DAYLIGHT
TZOFFSETFROM:-0500
TZOFFSETTO:-0400
TZNAME:EDT
DTSTART:20240310T070000
END:DAYLIGHT
BEGIN:STANDARD
TZOFFSETFROM:-0400
TZOFFSETTO:-0500
TZNAME:EST
DTSTART:20241103T060000
END:STANDARD
BEGIN:DAYLIGHT
TZOFFSETFROM:-0500
TZOFFSETTO:-0400
TZNAME:EDT
DTSTART:20250309T070000
END:DAYLIGHT
BEGIN:STANDARD
TZOFFSETFROM:-0400
TZOFFSETTO:-0500
TZNAME:EST
DTSTART:20251102T060000
END:STANDARD
BEGIN:DAYLIGHT
TZOFFSETFROM:-0500
TZOFFSETTO:-0400
TZNAME:EDT
DTSTART:20260308T070000
END:DAYLIGHT
BEGIN:STANDARD
TZOFFSETFROM:-0400
TZOFFSETTO:-0500
TZNAME:EST
DTSTART:20261101T060000
END:STANDARD
END:VTIMEZONE
BEGIN:VEVENT
DTSTART;TZID=America/New_York:20251025T110000
DTEND;TZID=America/New_York:20251025T170000
DTSTAMP:20260424T023514
CREATED:20251013T174229Z
LAST-MODIFIED:20251013T174229Z
UID:24903-1761390000-1761411600@www.themiamiartscene.com
SUMMARY:NSU Art Museum: FREE Fort Lauderdale Neighbor Day (DATE CHANGE)
DESCRIPTION:Saturday\, October 25\, 2025\, 11 am – 5 pm | NSU Art Museum is closed Sunday\, October 26\, 2025. \nOctober Neighbor Day will take place on Saturday instead of Sunday. Fort Lauderdale residents receive FREE admission to NSU Art Museum as part of Fort Lauderdale Neighbor Days. \nFort Lauderdale Residents Receive: 2-for-1 Wine in the Museum Café\, FREE admission\, residents must show a photo ID\, driver’s license\, or residential utility bill with proof of Fort Lauderdale address. Visit the Museum Cafe & Store and receive 10% off books published by NSU Art Museum. Fort Lauderdale Neighbor Day is made possible by the City of Fort Lauderdale. \n  \n 
URL:https://www.themiamiartscene.com/event/nsu-art-museum-free-fort-lauderdale-neighbor-day-date-change/
LOCATION:NSU Art Museum\, One East Las Olas Boulevard\, Fort Lauderdale\, FL\, 33301\, United States
ATTACH;FMTTYPE=image/jpeg:https://www.themiamiartscene.com/wp-content/uploads/2025/10/nsu-updated-neighbor-day-e1760377325844.jpeg
END:VEVENT
END:VCALENDAR