BEGIN:VCALENDAR
VERSION:2.0
PRODID:-//Miami Art Scene™ - ECPv6.15.20//NONSGML v1.0//EN
CALSCALE:GREGORIAN
METHOD:PUBLISH
X-WR-CALNAME:Miami Art Scene™
X-ORIGINAL-URL:https://www.themiamiartscene.com
X-WR-CALDESC:Events for Miami Art Scene™
REFRESH-INTERVAL;VALUE=DURATION:PT1H
X-Robots-Tag:noindex
X-PUBLISHED-TTL:PT1H
BEGIN:VTIMEZONE
TZID:America/New_York
BEGIN:DAYLIGHT
TZOFFSETFROM:-0500
TZOFFSETTO:-0400
TZNAME:EDT
DTSTART:20250309T070000
END:DAYLIGHT
BEGIN:STANDARD
TZOFFSETFROM:-0400
TZOFFSETTO:-0500
TZNAME:EST
DTSTART:20251102T060000
END:STANDARD
BEGIN:DAYLIGHT
TZOFFSETFROM:-0500
TZOFFSETTO:-0400
TZNAME:EDT
DTSTART:20260308T070000
END:DAYLIGHT
BEGIN:STANDARD
TZOFFSETFROM:-0400
TZOFFSETTO:-0500
TZNAME:EST
DTSTART:20261101T060000
END:STANDARD
BEGIN:DAYLIGHT
TZOFFSETFROM:-0500
TZOFFSETTO:-0400
TZNAME:EDT
DTSTART:20270314T070000
END:DAYLIGHT
BEGIN:STANDARD
TZOFFSETFROM:-0400
TZOFFSETTO:-0500
TZNAME:EST
DTSTART:20271107T060000
END:STANDARD
END:VTIMEZONE
BEGIN:VEVENT
DTSTART;TZID=America/New_York:20260402T110000
DTEND;TZID=America/New_York:20260402T190000
DTSTAMP:20260423T132911
CREATED:20260318T022915Z
LAST-MODIFIED:20260318T022915Z
UID:26342-1775127600-1775156400@www.themiamiartscene.com
SUMMARY:NSU Art Museum: Free First Thursdays
DESCRIPTION:Thursday\, April 2nd from 11am – 7pm enjoy Free First Thursdays at NSU Art Museum in Fort Lauderdale\, offering visitors free admission to the Museum for a full day of art-making! \nEnjoy FREE Museum admission and 2-for-1 All Day Happy Hour on the first Thursday of every month from 11 am to 7 pm during Free First Thursdays. Enjoy Mini Muse\, free drop-in art-making activities offered from 4:30 – 6:30 pm. This drop-in art-making event is open to every skill set and all ages. Grab your friends\, family\, or come alone and let your imagination run wild. \nMaterials are provided\, and all are welcome. \nStarry Nights is presented by Broward Health.
URL:https://www.themiamiartscene.com/event/nsu-art-museum-free-first-thursdays-2/
LOCATION:NSU Art Museum\, One East Las Olas Boulevard\, Fort Lauderdale\, FL\, 33301\, United States
ATTACH;FMTTYPE=image/jpeg:https://www.themiamiartscene.com/wp-content/uploads/2026/03/FreeFirstThursdayThumbnail-01-1500x1500-1.jpeg
END:VEVENT
END:VCALENDAR