BEGIN:VCALENDAR
VERSION:2.0
PRODID:-//Miami Art Scene™ - ECPv6.15.20//NONSGML v1.0//EN
CALSCALE:GREGORIAN
METHOD:PUBLISH
X-ORIGINAL-URL:https://www.themiamiartscene.com
X-WR-CALDESC:Events for Miami Art Scene™
REFRESH-INTERVAL;VALUE=DURATION:PT1H
X-Robots-Tag:noindex
X-PUBLISHED-TTL:PT1H
BEGIN:VTIMEZONE
TZID:America/New_York
BEGIN:DAYLIGHT
TZOFFSETFROM:-0500
TZOFFSETTO:-0400
TZNAME:EDT
DTSTART:20250309T070000
END:DAYLIGHT
BEGIN:STANDARD
TZOFFSETFROM:-0400
TZOFFSETTO:-0500
TZNAME:EST
DTSTART:20251102T060000
END:STANDARD
BEGIN:DAYLIGHT
TZOFFSETFROM:-0500
TZOFFSETTO:-0400
TZNAME:EDT
DTSTART:20260308T070000
END:DAYLIGHT
BEGIN:STANDARD
TZOFFSETFROM:-0400
TZOFFSETTO:-0500
TZNAME:EST
DTSTART:20261101T060000
END:STANDARD
BEGIN:DAYLIGHT
TZOFFSETFROM:-0500
TZOFFSETTO:-0400
TZNAME:EDT
DTSTART:20270314T070000
END:DAYLIGHT
BEGIN:STANDARD
TZOFFSETFROM:-0400
TZOFFSETTO:-0500
TZNAME:EST
DTSTART:20271107T060000
END:STANDARD
END:VTIMEZONE
BEGIN:VEVENT
DTSTART;TZID=America/New_York:20260321T183000
DTEND;TZID=America/New_York:20260321T183000
DTSTAMP:20260423T195547
CREATED:20251219T204531Z
LAST-MODIFIED:20260124T185404Z
UID:25637-1774117800-1774117800@www.themiamiartscene.com
SUMMARY:Her Majesty Queen Sofía presents prestigious Sophia Awards for Excellence in Gala at Pérez Art Museum Miami (PAMM)
DESCRIPTION:Saturday\, March 21st at 6:30pm\, Her Majesty Queen Sofía will travel from Spain to Miami to present the Sophia Awards for Excellence during a major international Gala at the Pérez Art Museum Miami (PAMM). Honoring Jorge M. & Darlene Pérez and Frank & Haydée Rainieri. \nOrganized by the Queen Sofía Spanish Institute\, the Sophia Awards for Excellence (formerly the Gold Medal) is one of the most distinguished honors linking the Spanish-speaking world and the United States. As the highest distinction bestowed by the Queen Sofía Spanish Institute\, it has recognized some of the most influential figures in global arts\, culture\, diplomacy\, science\, and public life\, including President Bill Clinton\, Henry Kissinger\, Plácido Domingo\, Penélope Cruz\, Norman Foster\, Alicia de Larrocha\, Carolina Herrera\, Mario Vargas Llosa\, Gloria and Emilio Estefan\, Carlos Slim\, Chef José Andrés\, and Gustavo Dudamel\, underscoring the award’s exceptional prestige. \nRSVP to attend the Sophia Awards for Excellence Gala HERE. \n  \nIMAGE: Her Majesty Queen Sofía of Spain
URL:https://www.themiamiartscene.com/event/her-majesty-queen-sofia-presents-prestigious-sophia-awards-for-excellence-in-gala-at-perez-art-museum-miami-pamm/
LOCATION:Pérez Art Museum Miami\, 1103 Biscayne Boulevard\, Miami\, FL\, 33132\, United States
ATTACH;FMTTYPE=image/jpeg:https://www.themiamiartscene.com/wp-content/uploads/2025/12/HM-Queen-Sofia-PAMM--scaled.jpeg
END:VEVENT
END:VCALENDAR