BEGIN:VCALENDAR
VERSION:2.0
PRODID:-//Miami Art Scene™ - ECPv6.15.20//NONSGML v1.0//EN
CALSCALE:GREGORIAN
METHOD:PUBLISH
X-ORIGINAL-URL:https://www.themiamiartscene.com
X-WR-CALDESC:Events for Miami Art Scene™
REFRESH-INTERVAL;VALUE=DURATION:PT1H
X-Robots-Tag:noindex
X-PUBLISHED-TTL:PT1H
BEGIN:VTIMEZONE
TZID:America/New_York
BEGIN:DAYLIGHT
TZOFFSETFROM:-0500
TZOFFSETTO:-0400
TZNAME:EDT
DTSTART:20230312T070000
END:DAYLIGHT
BEGIN:STANDARD
TZOFFSETFROM:-0400
TZOFFSETTO:-0500
TZNAME:EST
DTSTART:20231105T060000
END:STANDARD
BEGIN:DAYLIGHT
TZOFFSETFROM:-0500
TZOFFSETTO:-0400
TZNAME:EDT
DTSTART:20240310T070000
END:DAYLIGHT
BEGIN:STANDARD
TZOFFSETFROM:-0400
TZOFFSETTO:-0500
TZNAME:EST
DTSTART:20241103T060000
END:STANDARD
BEGIN:DAYLIGHT
TZOFFSETFROM:-0500
TZOFFSETTO:-0400
TZNAME:EDT
DTSTART:20250309T070000
END:DAYLIGHT
BEGIN:STANDARD
TZOFFSETFROM:-0400
TZOFFSETTO:-0500
TZNAME:EST
DTSTART:20251102T060000
END:STANDARD
END:VTIMEZONE
BEGIN:VEVENT
DTSTART;TZID=America/New_York:20241205T180000
DTEND;TZID=America/New_York:20241205T180000
DTSTAMP:20260425T205501
CREATED:20241126T185854Z
LAST-MODIFIED:20241126T185854Z
UID:22676-1733421600-1733421600@www.themiamiartscene.com
SUMMARY:THECASTLE Salzburg presents a Sparkling Dinner Soirée
DESCRIPTION:Thursday\, December 5th at 6pm RUDOLF BUDJA GALERIE Salzburg & THECASTLE invite you to experience a Sparkling Dinner Soirée with complimentary Moët & Chandon. Make a reservation on December 5th to enjoy a fine dining experience with complimentary Moët & Chandon Champagne! MAKE A DINNER RESERVATION HERE. \n  \nKapuzinerberg 9\, 5020 Salzburg \nDonnerstag\, 05.12.2024 – 18:00 \n_______________________________________ \n28.11.2024 – 31.12.2024\nDo. – So. Von 12:00 bis 18:00 Uhr \nCheck the website for events: \nWir freuen uns Sie at THECASTLE Salzburg begrüssen zu dürfen. \nLooking forward to welcome you at THECASTLE Salzburg. \n  \nABOUT THECASTLE Salzburg: Perched atop the Kapuzinerberg\, The Castle blends timeless history with modern charm. Once a 17th-century fortress\, today it serves as an intimate escape where heritage meets contemporary comfort. With luxurious suites\, a fine dining experience\, and spaces for exclusive events\, we offer a curated stay for those seeking the extraordinary. Every corner tells a story—our guests are invited to be a part of it.
URL:https://www.themiamiartscene.com/event/thecastle-salzburg-presents-a-sparkling-dinner-soiree/
LOCATION:THECASTLE Salzburg\, Kapuzinerberg 9\, 5020 Salzburg\, Austria\, Salzburg\, Austria
ATTACH;FMTTYPE=image/jpeg:https://www.themiamiartscene.com/wp-content/uploads/2024/11/the-castle-3-e1732647523997.jpeg
END:VEVENT
END:VCALENDAR