BEGIN:VCALENDAR
VERSION:2.0
PRODID:-//Miami Art Scene™ - ECPv6.15.20//NONSGML v1.0//EN
CALSCALE:GREGORIAN
METHOD:PUBLISH
X-WR-CALNAME:Miami Art Scene™
X-ORIGINAL-URL:https://www.themiamiartscene.com
X-WR-CALDESC:Events for Miami Art Scene™
REFRESH-INTERVAL;VALUE=DURATION:PT1H
X-Robots-Tag:noindex
X-PUBLISHED-TTL:PT1H
BEGIN:VTIMEZONE
TZID:America/New_York
BEGIN:DAYLIGHT
TZOFFSETFROM:-0500
TZOFFSETTO:-0400
TZNAME:EDT
DTSTART:20250309T070000
END:DAYLIGHT
BEGIN:STANDARD
TZOFFSETFROM:-0400
TZOFFSETTO:-0500
TZNAME:EST
DTSTART:20251102T060000
END:STANDARD
BEGIN:DAYLIGHT
TZOFFSETFROM:-0500
TZOFFSETTO:-0400
TZNAME:EDT
DTSTART:20260308T070000
END:DAYLIGHT
BEGIN:STANDARD
TZOFFSETFROM:-0400
TZOFFSETTO:-0500
TZNAME:EST
DTSTART:20261101T060000
END:STANDARD
BEGIN:DAYLIGHT
TZOFFSETFROM:-0500
TZOFFSETTO:-0400
TZNAME:EDT
DTSTART:20270314T070000
END:DAYLIGHT
BEGIN:STANDARD
TZOFFSETFROM:-0400
TZOFFSETTO:-0500
TZNAME:EST
DTSTART:20271107T060000
END:STANDARD
END:VTIMEZONE
BEGIN:VEVENT
DTSTART;TZID=America/New_York:20260129T180000
DTEND;TZID=America/New_York:20260129T210000
DTSTAMP:20260423T173934
CREATED:20260116T151649Z
LAST-MODIFIED:20260116T151649Z
UID:25805-1769709600-1769720400@www.themiamiartscene.com
SUMMARY:The Frank C. Ortis Art Gallery in Pembroke Pines Presents Two New Art Exhibitions\, ‘Habitar una nube’ and ‘Me pongo el sol al hombro y el mundo es amarillo
DESCRIPTION:Thursday\, January 29th from 6 – 9pm art lovers and enthusiasts are cordially invited to experience two new concurrent solo exhibitions at The Frank in Pembroke Pines\, offering audiences distinct yet resonant contemporary perspectives through immersive installation\, video\, and material-driven practices. ‘Habitar una nube’\, (To Inhabit a Cloud)\, a solo exhibition by Argentine artist Adrián Sosa\, and ‘Me pongo el sol al hombro y el mundo es amarillo‘ (I Carry the Sun on My Shoulder and the World Turns Yellow)\, a large-scale installation by multidisciplinary artist Edison Peñafiel. Together\, these exhibitions create a compelling dialogue around labor\, memory\, movement\, and embodied experience—inviting visitors to navigate space\, time\, and perception through physical encounter. \nArt lovers and the community are warmly invited to attend the Opening Reception for both exhibitions on Thursday\, January 29th from 6–9pm at The Frank C. Ortis Art Gallery. This event is free & open to the public\, offering an opportunity to experience both exhibitions in a shared moment of exploration and conversation. The Frank Gallery is located at 601 City Center Way in Pembroke Pines\, Florida 33025.
URL:https://www.themiamiartscene.com/event/the-frank-c-ortis-art-gallery-in-pembroke-pines-presents-two-new-art-exhibitions-habitar-una-nube-and-me-pongo-el-sol-al-hombro-y-el-mundo-es-amarillo/
LOCATION:The Frank\, 601 City Center Way\, Pembroke Pines\, FL\, 33025\, United States
ATTACH;FMTTYPE=image/png:https://www.themiamiartscene.com/wp-content/uploads/2026/01/the-frank-jan.png
END:VEVENT
END:VCALENDAR