BEGIN:VCALENDAR
VERSION:2.0
PRODID:-//Miami Art Scene™ - ECPv6.15.20//NONSGML v1.0//EN
CALSCALE:GREGORIAN
METHOD:PUBLISH
X-WR-CALNAME:Miami Art Scene™
X-ORIGINAL-URL:https://www.themiamiartscene.com
X-WR-CALDESC:Events for Miami Art Scene™
REFRESH-INTERVAL;VALUE=DURATION:PT1H
X-Robots-Tag:noindex
X-PUBLISHED-TTL:PT1H
BEGIN:VTIMEZONE
TZID:America/New_York
BEGIN:DAYLIGHT
TZOFFSETFROM:-0500
TZOFFSETTO:-0400
TZNAME:EDT
DTSTART:20240310T070000
END:DAYLIGHT
BEGIN:STANDARD
TZOFFSETFROM:-0400
TZOFFSETTO:-0500
TZNAME:EST
DTSTART:20241103T060000
END:STANDARD
BEGIN:DAYLIGHT
TZOFFSETFROM:-0500
TZOFFSETTO:-0400
TZNAME:EDT
DTSTART:20250309T070000
END:DAYLIGHT
BEGIN:STANDARD
TZOFFSETFROM:-0400
TZOFFSETTO:-0500
TZNAME:EST
DTSTART:20251102T060000
END:STANDARD
BEGIN:DAYLIGHT
TZOFFSETFROM:-0500
TZOFFSETTO:-0400
TZNAME:EDT
DTSTART:20260308T070000
END:DAYLIGHT
BEGIN:STANDARD
TZOFFSETFROM:-0400
TZOFFSETTO:-0500
TZNAME:EST
DTSTART:20261101T060000
END:STANDARD
END:VTIMEZONE
BEGIN:VEVENT
DTSTART;TZID=America/New_York:20250710T120000
DTEND;TZID=America/New_York:20250713T180000
DTSTAMP:20260424T060321
CREATED:20250618T022806Z
LAST-MODIFIED:20250618T022806Z
UID:24010-1752148800-1752429600@www.themiamiartscene.com
SUMMARY:Preview New Works by Renowned Glass Artist Abby Modell at Hamptons Fine Art Fair Booth #242
DESCRIPTION:Thursday\, July 10th through Sunday\, July 13th art lovers and collectors are invited to preview new works by acclaimed glass artist Abby Modell at the Hamptons Fine Art Fair\, taking place at the Southampton Fairgrounds\, Booth #242. Guests will enjoy the VIP Opening on Thursday\, July 10th from 12:00pm – 9:30pm. \nAbby Modell’s ‘Galaxy Collection’ expresses the complexity and beauty of the universe. Her spectacular world of handmade glass sculptural objects\, wall art assemblages and LED lighting focuses on modern forms\, refracted light and contemporary design. Abby takes her creations to a new dazzling and dreamy dimension. Let your imagination guide you on this creative journey. \n  \n\n\nShow Hours\n\n\n\n\nVIP Opening: Thursday\, July 10:\nVIP “First-Look” Opening Preview: 12-5pm– Benefits Guild Hall\nVIP Opening Preview Evening: 5-9:30pm – Benefits Parrish Art Museum \nVIP Collectors Day Opening: Friday\, July 11:\nEarly Session: 11am-3pm; Late Session: 3-7pm \n\n\n\n\n\n\n\n\n\nGeneral Admission:\nSaturday\, July 12: Early Session: 11am-3pm; Late Session: 3-7pm\nSunday\, July 13: Early Session: 11am-3pm; Late Session: 3-6pm
URL:https://www.themiamiartscene.com/event/preview-new-works-by-renowned-glass-artist-abby-modell-at-hamptons-fine-art-fair-booth-242/
LOCATION:Southampton Fairgounds\, 605 County Road 39\, Southampton\, NY\, 11968\, United States
ATTACH;FMTTYPE=image/jpeg:https://www.themiamiartscene.com/wp-content/uploads/2025/06/ABBY-Modell-hamptons-fine-art-fair-1-e1750213441107.jpeg
END:VEVENT
BEGIN:VEVENT
DTSTART;TZID=America/New_York:20250710T120000
DTEND;TZID=America/New_York:20250713T190000
DTSTAMP:20260424T060321
CREATED:20250613T235239Z
LAST-MODIFIED:20250613T235820Z
UID:23949-1752148800-1752433200@www.themiamiartscene.com
SUMMARY:Hamptons Fine Art Fair 2025
DESCRIPTION:Thursday\, July 10th through Sunday\, July 13th experience the 19th edition of the Hamptons Fine Art Fair\, a well-curated gallery driven art fair—created specifically for enthusiastic Hamptonsites. Benefit from the East End’s widest and deepest selection of important primary and secondary market art. Featuring 130+ select galleries and best-in-class sponsors from all corners of the world. \nIt’s where the excitement\, anticipation and drama of an international fair connects with the main thoroughfare in the Hamptons. As a cosmopolitan art fair\, HFAF embraces the wider art ecosystem by presenting emerging galleries and their artists from scores of countries and states across the nation. This provides you with an understanding of diverse cultures and artistic sensibilities. Whether you’re an avid collector\, redecorating your home\, looking for just “the perfect piece” or just art curious\, you’ll uncover treasures for every budget level. Purchase Tickets HERE. \n\n\n\nShow Hours\n\n\n\n\nVIP Opening: Thursday\, July 10:\nVIP “First-Look” Opening Preview: 12-5pm– Benefits Guild Hall\nVIP Opening Preview Evening: 5-9:30pm – Benefits Parrish Art Museum \nVIP Collectors Day Opening: Friday\, July 11:\nEarly Session: 11am-3pm; Late Session: 3-7pm \n\n\n\n\n\n\n\n\n\nGeneral Admission:\nSaturday\, July 12: Early Session: 11am-3pm; Late Session: 3-7pm\nSunday\, July 13: Early Session: 11am-3pm; Late Session: 3-7pm \n\n\n 
URL:https://www.themiamiartscene.com/event/hamptons-fine-art-fair-2025/
LOCATION:Southampton Fairgounds\, 605 County Road 39\, Southampton\, NY\, 11968\, United States
ATTACH;FMTTYPE=image/jpeg:https://www.themiamiartscene.com/wp-content/uploads/2025/06/Hamptons-Fine-Art-Fair-e1749858745606.jpeg
END:VEVENT
BEGIN:VEVENT
DTSTART;TZID=America/New_York:20250710T170000
DTEND;TZID=America/New_York:20250710T200000
DTSTAMP:20260424T060321
CREATED:20250706T185653Z
LAST-MODIFIED:20250706T185653Z
UID:24188-1752166800-1752177600@www.themiamiartscene.com
SUMMARY:Thursdays at PAMM: Summer Sweat Series | Power(full) Vinyasa Flow with Jessica Rose Fisher
DESCRIPTION:Thursday\, July 10th from 5 – 8pm relax at the Pérez Art Museum Miami (PAMM) on the waterfront terrace for a power(full) Vinyasa class led by Jessica Rose Fisher. Kick off the night with a live DJ set by Manu Magick and then feel the vibrations of a power vinyasa flow full of energy and freedom\, balanced with movement that will align your strength and mental being. \nAll fitness levels are welcome and encouraged to join. Please bring your own mat to participate. \nSchedule \n5–7pm DJ set by Manu Magick\n7–8pm Power(full) Vinyasa Flow class with Jessica Rose Fisher \nTickets are only required for the museum. Yoga and live music are free on the terrace. RSVP HERE. \n  \nIMAGE: Jessica Rose Fisher at PAMM.
URL:https://www.themiamiartscene.com/event/thursdays-at-pamm-summer-sweat-series-powerfull-vinyasa-flow-with-jessica-rose-fisher/
LOCATION:Pérez Art Museum Miami\, 1103 Biscayne Boulevard\, Miami\, FL\, 33132\, United States
ATTACH;FMTTYPE=image/jpeg:https://www.themiamiartscene.com/wp-content/uploads/2025/07/Jessica-Rose-Fisher-at-PAMM-2-1024x683-1.jpeg
END:VEVENT
BEGIN:VEVENT
DTSTART;TZID=America/New_York:20250710T180000
DTEND;TZID=America/New_York:20250710T200000
DTSTAMP:20260424T060321
CREATED:20250619T041426Z
LAST-MODIFIED:20250619T041426Z
UID:24022-1752170400-1752177600@www.themiamiartscene.com
SUMMARY:Bailey Contemporary Arts Center: Fiber Arts for Beginners 2025
DESCRIPTION:Thursday\, July 10th from 6 – 8pm enjoy a Fiber Arts Workshop for beginners at Bailey Contemporary Arts Center (BaCa). Craft creations of your dreams at hands-on fiber arts classes hosted by the Pompano Beach Cultural Affairs Department. RSVP / PURCHASE TICKETS HERE. \nIn these beginner-friendly sessions every 2nd Thursday per month\, guests will dive into crochet\, knitting\, and weaving while mastering classics like the granny square. Every class is packed with all-inclusive materials and expert guidance by Lauren Georgia\, plus\, you get to take home your finished product! What a perfect way to relax\, create\, and explore the world of textiles. PURCHASE TICKETS HERE. \nClass Schedule\n· April 10 – Crochet Granny Squares \n· May 8 – Crochet Amigurumi \n· June 12 – Finger Knit & Weave \n· July 10 – Loom Weaving \n· August 14 – Paper Weaving \n· September 11 – Intro to Knitting \n 
URL:https://www.themiamiartscene.com/event/bailey-contemporary-arts-center-fiber-arts-for-beginners-2025/
LOCATION:Bailey Contemporary Arts Center (BaCa)\, 41 NE 1st Street\, Pompano Beach\, FL\, 33060\, United States
ATTACH;FMTTYPE=image/png:https://www.themiamiartscene.com/wp-content/uploads/2025/06/baca.png
END:VEVENT
BEGIN:VEVENT
DTSTART;TZID=America/New_York:20250710T180000
DTEND;TZID=America/New_York:20250710T200000
DTSTAMP:20260424T060321
CREATED:20250629T003158Z
LAST-MODIFIED:20250629T003158Z
UID:24121-1752170400-1752177600@www.themiamiartscene.com
SUMMARY:Arts Warehouse presents Summer Heat Exhibition
DESCRIPTION:Thursday\, July 10th from 6 – 8pm you are cordially invited to Arts Warehouse in Delray Beach for the Opening of the group exhibition\, Summer Heat\, reflecting on the multifaceted nature of the season when days are longest and darkness is shortest. This group exhibition features 25 artists working in various media and selected from an open call for art with over 130 artists submitting. \n  \nIMAGE: Cheryl Maeder‘s\, The Voyage\, Prelude\, ed. 1/10 \, 40 x 60 inches\, Archival Photograph on Acrylic. Internationally collected Video/Sound Installation Artist & Photographer Cheryl Maeder\, is best known for her conceptual style of photography\, video/sound art and filmmaking. The artist’s work is captivating\, optimistic and meaningful.
URL:https://www.themiamiartscene.com/event/arts-warehouse-presents-summer-heat-exhibition/
LOCATION:Arts Warehouse\, 313 Northeast 3rd Street\, Delray Beach\, FL\, 33444\, United States
ATTACH;FMTTYPE=image/jpeg:https://www.themiamiartscene.com/wp-content/uploads/2025/06/cheryl-maeder_arts-warehouse-e1751157064714.jpeg
END:VEVENT
END:VCALENDAR