BEGIN:VCALENDAR
VERSION:2.0
PRODID:-//Miami Art Scene™ - ECPv6.15.20//NONSGML v1.0//EN
CALSCALE:GREGORIAN
METHOD:PUBLISH
X-ORIGINAL-URL:https://www.themiamiartscene.com
X-WR-CALDESC:Events for Miami Art Scene™
REFRESH-INTERVAL;VALUE=DURATION:PT1H
X-Robots-Tag:noindex
X-PUBLISHED-TTL:PT1H
BEGIN:VTIMEZONE
TZID:America/New_York
BEGIN:DAYLIGHT
TZOFFSETFROM:-0500
TZOFFSETTO:-0400
TZNAME:EDT
DTSTART:20240310T070000
END:DAYLIGHT
BEGIN:STANDARD
TZOFFSETFROM:-0400
TZOFFSETTO:-0500
TZNAME:EST
DTSTART:20241103T060000
END:STANDARD
BEGIN:DAYLIGHT
TZOFFSETFROM:-0500
TZOFFSETTO:-0400
TZNAME:EDT
DTSTART:20250309T070000
END:DAYLIGHT
BEGIN:STANDARD
TZOFFSETFROM:-0400
TZOFFSETTO:-0500
TZNAME:EST
DTSTART:20251102T060000
END:STANDARD
BEGIN:DAYLIGHT
TZOFFSETFROM:-0500
TZOFFSETTO:-0400
TZNAME:EDT
DTSTART:20260308T070000
END:DAYLIGHT
BEGIN:STANDARD
TZOFFSETFROM:-0400
TZOFFSETTO:-0500
TZNAME:EST
DTSTART:20261101T060000
END:STANDARD
END:VTIMEZONE
BEGIN:VEVENT
DTSTART;TZID=America/New_York:20251122T103000
DTEND;TZID=America/New_York:20251122T123000
DTSTAMP:20260424T001755
CREATED:20251105T202932Z
LAST-MODIFIED:20251105T202932Z
UID:25240-1763807400-1763814600@www.themiamiartscene.com
SUMMARY:The Official Art Deco Walking Tour by The Miami Design Preservation League
DESCRIPTION:Saturday\, November 22nd from 10:30am – 12:30pm experience the Official Art Deco District Walking Tour presented by the Miami Design Preservation League. This 1.5 to 2-hour walking tour provides an introduction to the Art Deco\, Mediterranean Revival\, and Miami Modern (MiMo) styles found within the Miami Beach Architectural Historic District. Explore hotels\, restaurants\, and other commercial structures with a visit to a number of interiors. Choose from select dates / PURCHASE TICKETS HERE. \nTour ticket includes free entry to the Art Deco Museum as well as 10% off at the Gift Shop.
URL:https://www.themiamiartscene.com/event/the-official-art-deco-walking-tour-by-the-miami-design-preservation-league-819/
LOCATION:Art Deco Welcome Center\, 1001 Ocean Drive\, Miami Beach\, FL\, 33139\, United States
ATTACH;FMTTYPE=image/jpeg:https://www.themiamiartscene.com/wp-content/uploads/2025/07/art-deco-beach-patrol-headquarters.jpeg
END:VEVENT
BEGIN:VEVENT
DTSTART;TZID=America/New_York:20251122T123000
DTEND;TZID=America/New_York:20251123T163000
DTSTAMP:20260424T001755
CREATED:20251119T013802Z
LAST-MODIFIED:20251119T013802Z
UID:25417-1763814600-1763915400@www.themiamiartscene.com
SUMMARY:The Bass: Open Studio
DESCRIPTION:Saturday\, November 22nd and Sunday\, November 22nd from 12:30 – 4:30pm enjoy Saturdays & Sundays at The Bass Creativity Center. Take a break during your next museum visit and drop in to The Studio in the Creativity Center for self-guided art-making activities\, design challenges\, books\, and more! \nThe Studio is open from 12:30 to 4:30pm every Saturday and Sunday. Drop in art-making activities are included in your museum ticket. \nAdmission and The Studio are FREE for Miami Beach Residents!
URL:https://www.themiamiartscene.com/event/the-bass-open-studio/
LOCATION:The Bass\, 2100 Collins Avenue\, Miami Beach\, FL\, 33139\, United States
ATTACH;FMTTYPE=image/jpeg:https://www.themiamiartscene.com/wp-content/uploads/2025/11/bass-image-open-studio.jpeg
END:VEVENT
BEGIN:VEVENT
DTSTART;TZID=America/New_York:20251122T140000
DTEND;TZID=America/New_York:20251122T150000
DTSTAMP:20260424T001755
CREATED:20251119T025800Z
LAST-MODIFIED:20251119T025800Z
UID:25420-1763820000-1763823600@www.themiamiartscene.com
SUMMARY:The Bass Highlights Tour
DESCRIPTION:Saturday\, November 22nd from 2 – 3pm enjoy a guided tour at The Bass. Guests will explore various highlights of the collection\, the museum’s architecture and current exhibitions both inside and outside of The Bass through an interactive guided tour. Trained educators who facilitate engaging discussions will provide behind-the-scenes experience of The Bass and activities to further engage your experience with art. This tour is included with cost of museum admission and lasts approximately 45 minutes. \n  \nMaximum capacity applies on a first-come\, first-served basis.
URL:https://www.themiamiartscene.com/event/the-bass-highlights-tour-30/
LOCATION:The Bass\, 2100 Collins Avenue\, Miami Beach\, FL\, 33139\, United States
ATTACH;FMTTYPE=image/jpeg:https://www.themiamiartscene.com/wp-content/uploads/2023/01/The-Bass-highlight-tour.jpg
END:VEVENT
END:VCALENDAR