BEGIN:VCALENDAR
VERSION:2.0
PRODID:-//Miami Art Scene™ - ECPv6.15.20//NONSGML v1.0//EN
CALSCALE:GREGORIAN
METHOD:PUBLISH
X-WR-CALNAME:Miami Art Scene™
X-ORIGINAL-URL:https://www.themiamiartscene.com
X-WR-CALDESC:Events for Miami Art Scene™
REFRESH-INTERVAL;VALUE=DURATION:PT1H
X-Robots-Tag:noindex
X-PUBLISHED-TTL:PT1H
BEGIN:VTIMEZONE
TZID:America/New_York
BEGIN:DAYLIGHT
TZOFFSETFROM:-0500
TZOFFSETTO:-0400
TZNAME:EDT
DTSTART:20240310T070000
END:DAYLIGHT
BEGIN:STANDARD
TZOFFSETFROM:-0400
TZOFFSETTO:-0500
TZNAME:EST
DTSTART:20241103T060000
END:STANDARD
BEGIN:DAYLIGHT
TZOFFSETFROM:-0500
TZOFFSETTO:-0400
TZNAME:EDT
DTSTART:20250309T070000
END:DAYLIGHT
BEGIN:STANDARD
TZOFFSETFROM:-0400
TZOFFSETTO:-0500
TZNAME:EST
DTSTART:20251102T060000
END:STANDARD
BEGIN:DAYLIGHT
TZOFFSETFROM:-0500
TZOFFSETTO:-0400
TZNAME:EDT
DTSTART:20260308T070000
END:DAYLIGHT
BEGIN:STANDARD
TZOFFSETFROM:-0400
TZOFFSETTO:-0500
TZNAME:EST
DTSTART:20261101T060000
END:STANDARD
END:VTIMEZONE
BEGIN:VEVENT
DTSTART;TZID=America/New_York:20250110T180000
DTEND;TZID=America/New_York:20250110T200000
DTSTAMP:20260425T102837
CREATED:20250107T170958Z
LAST-MODIFIED:20250107T170958Z
UID:22935-1736532000-1736539200@www.themiamiartscene.com
SUMMARY:Spaaces Art Gallery: KX2 presents "Two Feet High and Rising"
DESCRIPTION:January 10th from 6 – 8pm experience the Opening of Two Feet High and Rising at Spaaces Art Gallery in Sarasota\, Florida. The art duo known as KX2 (Sisters Ruth Avra and Dana Kleinman) presents Two Feet High and Rising\, an exhibition that addresses the critical challenges of climate change and environmental sustainability. This exhibition addresses the interconnected issues of water quality\, overdevelopment\, air pollution\, and the fragile balance of our environment. Featuring works created from repurposed and salvaged materials\, Two Feet High and Rising underscores the urgency of these challenges. The exhibition is on view January 10th – February 1st\, 2025. \n  \nImage: Oceanids 1-4\, mirror polished stainless steel with cut canvas and acrylic\, 78 x 6-12 x 12 in . each
URL:https://www.themiamiartscene.com/event/spaaces-art-gallery-kx2-presents-two-feet-high-and-rising/
LOCATION:Spaaces Art Gallery\, 2051 Princeton Street\, Sarasota\, FL\, 34237\, United States
ATTACH;FMTTYPE=image/jpeg:https://www.themiamiartscene.com/wp-content/uploads/2025/01/kx2_oceanids-scaled-e1736269467495.jpeg
END:VEVENT
BEGIN:VEVENT
DTSTART;TZID=America/New_York:20250111T110000
DTEND;TZID=America/New_York:20250111T120000
DTSTAMP:20260425T102837
CREATED:20250102T164704Z
LAST-MODIFIED:20250102T164704Z
UID:22853-1736593200-1736596800@www.themiamiartscene.com
SUMMARY:Miami Design District Public Art Tour
DESCRIPTION:Saturday\, January 11th from 11am – 12pm join the Miami Design District for a walking tour of the district\, explore the history of the art and architecture that characterize the neighborhood. Visit outdoor installations and murals including Buckminster Fuller Fly’s Eye Dome\, Nicole Nomsa Moyo’s Pearl Jam\, Virgil Abloh’s Dollar a Gallon\, Alteronce Gumby’s Living the Dream\, and more. \nMeet in front of the Fly’s Eye Dome on the first floor of Palm Court (enter at 140 NE 39th Street). This Event is Free & Open to the Public. RSVP HERE.
URL:https://www.themiamiartscene.com/event/miami-design-district-public-art-tour-45/
LOCATION:Miami Design District Palm Court\, 140 NE 39th Street\, Miami\, FL\, 33137\, United States
ATTACH;FMTTYPE=image/jpeg:https://www.themiamiartscene.com/wp-content/uploads/2025/01/miami-design-district-public-art-tour-2025.jpeg
END:VEVENT
BEGIN:VEVENT
DTSTART;TZID=America/New_York:20250115T090000
DTEND;TZID=America/New_York:20250115T130000
DTSTAMP:20260425T102837
CREATED:20250114T161722Z
LAST-MODIFIED:20250114T161722Z
UID:22976-1736931600-1736946000@www.themiamiartscene.com
SUMMARY:MOAD in Collaboration with the Celia Cruz Foundation Presents "Celia Cruz: Work"
DESCRIPTION:Wednesday\, January 15th from 9am – 1pm Miami Dade College (MDC)’s Museum of Art and Design (MOAD) in collaboration with the Celia Cruz Foundation presents Celia Cruz: Work\, a special exhibit celebrating the centennial of Cuba’s “Queen of Salsa.” The exhibition will run from Jan. 15 – Feb. 15 at MDC Hialeah Campus’ Art Gallery and is free and open to the public. \n“Celia Cruz: Work” will open with a lecture followed by a celebration on Wednesday\, Jan. 15\, from 9 a.m. – 1 p.m. in the Student Services Lobby.
URL:https://www.themiamiartscene.com/event/moad-in-collaboration-with-the-celia-cruz-foundation-presents-celia-cruz-work/
LOCATION:Museum of Art and Design @ MDC\, 600 Biscayne Boulevard\, Second Floor\, Miami\, FL\, 33132\, United States
ATTACH;FMTTYPE=image/jpeg:https://www.themiamiartscene.com/wp-content/uploads/2025/01/mdc-celia-cruz-scaled-e1736871417109.jpeg
END:VEVENT
BEGIN:VEVENT
DTSTART;TZID=America/New_York:20250125T110000
DTEND;TZID=America/New_York:20250125T120000
DTSTAMP:20260425T102837
CREATED:20250102T164350Z
LAST-MODIFIED:20250102T164350Z
UID:22850-1737802800-1737806400@www.themiamiartscene.com
SUMMARY:Miami Design District Public Art Tour
DESCRIPTION:Saturday\, January 25th from 11am – 12pm join the Miami Design District for a walking tour of the district\, explore the history of the art and architecture that characterize the neighborhood. Visit outdoor installations and murals including Buckminster Fuller Fly’s Eye Dome\, Nicole Nomsa Moyo’s Pearl Jam\, Virgil Abloh’s Dollar a Gallon\, Alteronce Gumby’s Living the Dream\, and more. \nMeet in front of the Fly’s Eye Dome on the first floor of Palm Court (enter at 140 NE 39th Street). This Event is Free & Open to the Public. RSVP HERE.
URL:https://www.themiamiartscene.com/event/miami-design-district-public-art-tour-44/
LOCATION:Miami Design District Palm Court\, 140 NE 39th Street\, Miami\, FL\, 33137\, United States
ATTACH;FMTTYPE=image/jpeg:https://www.themiamiartscene.com/wp-content/uploads/2025/01/miami-design-district-tour-2025.jpeg
END:VEVENT
BEGIN:VEVENT
DTSTART;TZID=America/New_York:20250125T170000
DTEND;TZID=America/New_York:20250125T200000
DTSTAMP:20260425T102837
CREATED:20250104T040111Z
LAST-MODIFIED:20250104T040111Z
UID:22884-1737824400-1737835200@www.themiamiartscene.com
SUMMARY:Art & Culture Center/Hollywood presents IN MY OWN WORLD: The NAEMI Collection
DESCRIPTION:Saturday\, January 25th from 5 – 8pm the Art and Culture Center/Hollywood is proud to partner with NAEMI\, the National Art Exhibitions of the Mentally Ill\, to present the Opening Reception of In My Own World: The NAEMI Collection. This presentation brings awareness to the issues of mental health and well-being to the South Florida Community. NAEMI is a U.S. non-profit organization whose mission is to discover\, study\, promote\, exhibit\, and preserve the art of people recovering from mental illness. Exhibition on view January 18 – February 23\, 2025. RSVP / PURCHASE TICKETS HERE. \nMEMBERS FREE / FUTURE MEMBERS $10 \n\nIn My Own World will feature more than 50 works of art in a variety of media\, including paintings\, drawings\, sculptures\, and photography. These Outsider\, or untrained\, artists have struggled with mental illness and used their creativity to heal and to communicate. The term Outsider Art was created by French artist Jean Dubuffet in 1964\, after he started collecting artworks that he considered to be free from societal constraints. Juan Martin\, Executive Director of NAEMI\, has supported these artists with this collection and exhibitions that invite conversations about illness and mental healthcare to the forefront of the art world. More than 20 artists from around the globe in the collection will be on view including Candice Avery\, Alan Arkley\, Misleidys Castillo Pedroso\, Jorge A. Hernandez Cadi “El Buzo\,” Gloria de la Caridad Garcia\, Isaac Crespo\, Ramon Losa\, Echo McCallister\, Mario Mesa\, Pablo Morales\, Martha Iris Perez Santana\, and Damian Valdes.  \nThis exhibition is co-curated by Jodi Sypher\, Exhibitions Curator\, and Charles Jackson Adkins Jr.\, Curatorial Assistant\, and is generously supported by NAEMI’s Executive Director\, Juan Martin\, and Silvia Quintana.
URL:https://www.themiamiartscene.com/event/art-culture-center-hollywood-presents-in-my-own-world-the-naemi-collection/
LOCATION:Art and Culture Center/Hollywood\, 1650 Harrison Street\, Hollywood\, FL\, 33020\, United States
ATTACH;FMTTYPE=image/png:https://www.themiamiartscene.com/wp-content/uploads/2025/01/naemi_arts-and-culture-center.png
END:VEVENT
END:VCALENDAR