BEGIN:VCALENDAR
VERSION:2.0
PRODID:-//Miami Art Scene™ - ECPv6.15.20//NONSGML v1.0//EN
CALSCALE:GREGORIAN
METHOD:PUBLISH
X-ORIGINAL-URL:https://www.themiamiartscene.com
X-WR-CALDESC:Events for Miami Art Scene™
REFRESH-INTERVAL;VALUE=DURATION:PT1H
X-Robots-Tag:noindex
X-PUBLISHED-TTL:PT1H
BEGIN:VTIMEZONE
TZID:America/New_York
BEGIN:DAYLIGHT
TZOFFSETFROM:-0500
TZOFFSETTO:-0400
TZNAME:EDT
DTSTART:20240310T070000
END:DAYLIGHT
BEGIN:STANDARD
TZOFFSETFROM:-0400
TZOFFSETTO:-0500
TZNAME:EST
DTSTART:20241103T060000
END:STANDARD
BEGIN:DAYLIGHT
TZOFFSETFROM:-0500
TZOFFSETTO:-0400
TZNAME:EDT
DTSTART:20250309T070000
END:DAYLIGHT
BEGIN:STANDARD
TZOFFSETFROM:-0400
TZOFFSETTO:-0500
TZNAME:EST
DTSTART:20251102T060000
END:STANDARD
BEGIN:DAYLIGHT
TZOFFSETFROM:-0500
TZOFFSETTO:-0400
TZNAME:EDT
DTSTART:20260308T070000
END:DAYLIGHT
BEGIN:STANDARD
TZOFFSETFROM:-0400
TZOFFSETTO:-0500
TZNAME:EST
DTSTART:20261101T060000
END:STANDARD
END:VTIMEZONE
BEGIN:VEVENT
DTSTART;TZID=America/New_York:20250710T120000
DTEND;TZID=America/New_York:20250713T190000
DTSTAMP:20260424T121620
CREATED:20250613T235239Z
LAST-MODIFIED:20250613T235820Z
UID:23949-1752148800-1752433200@www.themiamiartscene.com
SUMMARY:Hamptons Fine Art Fair 2025
DESCRIPTION:Thursday\, July 10th through Sunday\, July 13th experience the 19th edition of the Hamptons Fine Art Fair\, a well-curated gallery driven art fair—created specifically for enthusiastic Hamptonsites. Benefit from the East End’s widest and deepest selection of important primary and secondary market art. Featuring 130+ select galleries and best-in-class sponsors from all corners of the world. \nIt’s where the excitement\, anticipation and drama of an international fair connects with the main thoroughfare in the Hamptons. As a cosmopolitan art fair\, HFAF embraces the wider art ecosystem by presenting emerging galleries and their artists from scores of countries and states across the nation. This provides you with an understanding of diverse cultures and artistic sensibilities. Whether you’re an avid collector\, redecorating your home\, looking for just “the perfect piece” or just art curious\, you’ll uncover treasures for every budget level. Purchase Tickets HERE. \n\n\n\nShow Hours\n\n\n\n\nVIP Opening: Thursday\, July 10:\nVIP “First-Look” Opening Preview: 12-5pm– Benefits Guild Hall\nVIP Opening Preview Evening: 5-9:30pm – Benefits Parrish Art Museum \nVIP Collectors Day Opening: Friday\, July 11:\nEarly Session: 11am-3pm; Late Session: 3-7pm \n\n\n\n\n\n\n\n\n\nGeneral Admission:\nSaturday\, July 12: Early Session: 11am-3pm; Late Session: 3-7pm\nSunday\, July 13: Early Session: 11am-3pm; Late Session: 3-7pm \n\n\n 
URL:https://www.themiamiartscene.com/event/hamptons-fine-art-fair-2025/
LOCATION:Southampton Fairgounds\, 605 County Road 39\, Southampton\, NY\, 11968\, United States
ATTACH;FMTTYPE=image/jpeg:https://www.themiamiartscene.com/wp-content/uploads/2025/06/Hamptons-Fine-Art-Fair-e1749858745606.jpeg
END:VEVENT
BEGIN:VEVENT
DTSTART;TZID=America/New_York:20250711T170000
DTEND;TZID=America/New_York:20250711T220000
DTSTAMP:20260424T121620
CREATED:20250708T000034Z
LAST-MODIFIED:20250708T000616Z
UID:24193-1752253200-1752271200@www.themiamiartscene.com
SUMMARY:Norton Museum of Art: Art After Dark / Comedy Night
DESCRIPTION:Friday\, July 11th from 5 – 10pm enjoy an eclectic mix of live performances\, film\, screenings\, workshops\, tours\, and more at Norton Museum of Art for Art After Dark special Comedy Night edition. \nCost: Reduced Museum Admission $10 Adults and Seniors / $5 Students / Members FREE \nBecome a member to enjoy Art After Dark every week of the year!
URL:https://www.themiamiartscene.com/event/norton-museum-of-art-art-after-dark-comedy-night/
LOCATION:Norton Museum of Art\, 1450 S. Dixie Highway\, West Palm Beach\, FL\, 33401\, United States
ATTACH;FMTTYPE=image/png:https://www.themiamiartscene.com/wp-content/uploads/2025/07/norton-museum-art-after-dark-comedy-night.png
END:VEVENT
BEGIN:VEVENT
DTSTART;TZID=America/New_York:20250720T110000
DTEND;TZID=America/New_York:20250720T160000
DTSTAMP:20260424T121620
CREATED:20250707T015658Z
LAST-MODIFIED:20250707T015658Z
UID:24191-1753009200-1753027200@www.themiamiartscene.com
SUMMARY:Progressive Art Brunch
DESCRIPTION:Sunday\, July 20th from 11 – 4pm over a dozen Miami art galleries will open together for a Progressive Art Brunch — join Mahara+Co/Tomas Redrado Art\, Dot Fiftyone Gallery\, Mindy Solomon Gallery\, Pan American Projects\, Piero Atchugarry Gallery\, Diana Lowenstein Gallery\, Ascaso Gallery\, KDR\, Andrew Reed Gallery\, Voloshyn Gallery\, La Cometa\, N’Namdi Contemporary\, Zilberman Gallery\, and Baker—Hall for an afternoon of gastronomic and creative nourishment. Capitalizing on the Sunday brunch concept\, the galleries will offer a separate dish at each location that will run simultaneously throughout the day. Facilitated by the creative voices of the galleries involved\, the event will highlight the current programming at each venue and enable visitors a more intimate look at the exhibitions on view. The galleries are located in the Little Haiti and Little River Arts Districts. \nThis event is free and open to the public.
URL:https://www.themiamiartscene.com/event/progressive-art-brunch-8/
LOCATION:FL
ATTACH;FMTTYPE=image/jpeg:https://www.themiamiartscene.com/wp-content/uploads/2019/11/Progressive-art-Brunch.jpg
END:VEVENT
BEGIN:VEVENT
DTSTART;TZID=America/New_York:20250725T170000
DTEND;TZID=America/New_York:20250725T220000
DTSTAMP:20260424T121620
CREATED:20250723T221712Z
LAST-MODIFIED:20250723T222658Z
UID:24320-1753462800-1753480800@www.themiamiartscene.com
SUMMARY:Norton Museum of Art: Art After Dark
DESCRIPTION:Friday\, July 25th from from 5 – 10pm enjoy an eclectic mix of live performances\, film\, screenings\, workshops\, tours\, and more at the Norton Museum of Art – where Art After Dark takes place every Friday! \nEVERY FRIDAY\, 5:30 & 7 PM\nDocent-led Tours (30 min) Explore great works in the Norton’s collection led by one of the Museum’s fine docents. \nEVERY FRIDAY\, 6 – 9 PM\nOpen Studio: Art Workshops Join local teaching artists as they lead drop-in style art-making sessions. All ages and experience levels welcome. Materials included. \nEVERY FRIDAY\, Live Performances\nEnjoy live performances every Friday including live music\, dance\, spoken word\, and more! Check the museum’s website weekly for updates. \nFirst Fridays of the Month\, 7:30 pm / Jazz Fridays\nThis popular monthly series features performances by some of South Florida’s best jazz musicians!
URL:https://www.themiamiartscene.com/event/norton-museum-of-art-art-after-dark/
LOCATION:Norton Museum of Art\, 1450 S. Dixie Highway\, West Palm Beach\, FL\, 33401\, United States
ATTACH;FMTTYPE=image/jpeg:https://www.themiamiartscene.com/wp-content/uploads/2025/07/norton-art-after-dark.jpg
END:VEVENT
BEGIN:VEVENT
DTSTART;TZID=America/New_York:20250726T110000
DTEND;TZID=America/New_York:20250726T120000
DTSTAMP:20260424T121620
CREATED:20250709T172654Z
LAST-MODIFIED:20250709T172654Z
UID:24201-1753527600-1753531200@www.themiamiartscene.com
SUMMARY:Miami MoCAAD ARt+Tech Student Workshop (North Miami Public Library)
DESCRIPTION:Saturday\, July 26th from 11am – 12pm enjoy the Miami MoCAAD ARt+Tech Student Workshop at the North Miami Public Library. Discover the intersection of art and technology with the Miami MoCAAD Art + Tech Workshop\, in collaboration with Tech Girl Power and the Miami-Dade Public Library. \nAn ARt + Tech workshop where you can unleash your imagination and explore the limitless possibilities of augmented reality. Open for students in Grades 6-9. This Event is FREE & Open to the Public | REGISTER HERE. \nComplimentary parking on library premises. \nParticipants will have the chance to: \n\nWork with prefabricated 3D assets\nIncorporate personal media\nInfuse cultural elements reflecting backgrounds and communities\n\nGuided by prompts inspired by virtual reality artwork commissioned by Miami MoCAAD\, featuring talented artists from Africa and the African Diaspora including Brazil\, Haiti\, Zimbabwe\, and the United States (including Miami native\, Mark Thomas Gibson).
URL:https://www.themiamiartscene.com/event/miami-mocaad-arttech-student-workshop-north-miami-public-library/
LOCATION:Miami-Dade Public Library System – North Miami Public Library\, 835 NE 132 Street\, North Miami\, FL\, FL\, 33161\, United States
ATTACH;FMTTYPE=image/png:https://www.themiamiartscene.com/wp-content/uploads/2025/07/mocaas_art-and-tech-student-workshop.png
END:VEVENT
BEGIN:VEVENT
DTSTART;TZID=America/New_York:20250726T143000
DTEND;TZID=America/New_York:20250726T153000
DTSTAMP:20260424T121620
CREATED:20250724T022733Z
LAST-MODIFIED:20250724T022733Z
UID:24325-1753540200-1753543800@www.themiamiartscene.com
SUMMARY:Miami MoCAAD VR & Documentary Experience
DESCRIPTION:Saturday\, July 26th from 2:30 – 3:30pm experience virtual reality and documentaries at Miami MoCAAD on West Flagler at the North Miami Regional Library\, don’t miss out on this incredible immersive event. RSVP HERE. \nThe Miami Museum of Contemporary Art of the African Diaspora premieres “This Life: Black Life in the Time of Now” – A Captivating Documentary produced by Pass Story of Diaspora Forward\, Inc.’s Founder and Filmmaker Michael Anderson\, 5X Suncoast Regional Emmy Award-Winning storyteller; AND a Digital Exhibition Exploring Contemporary Black Existence. \n“This Life: Black Life in the Time of Now” presents art reflecting the experiences of four artists with very distinct stories. These artists\, whose heritages span three continents\, delve into varied perceptions of Black experience. Each artist brings a unique perspective and creative voice to exploring Black life today.
URL:https://www.themiamiartscene.com/event/miami-mocaad-vr-documentary-experience/
LOCATION:Miami-Dade Public Library System – North Miami Public Library\, 835 NE 132 Street\, North Miami\, FL\, FL\, 33161\, United States
ATTACH;FMTTYPE=image/png:https://www.themiamiartscene.com/wp-content/uploads/2025/07/african-diaspora-art.png
END:VEVENT
BEGIN:VEVENT
DTSTART;TZID=America/New_York:20250729T180000
DTEND;TZID=America/New_York:20250729T200000
DTSTAMP:20260424T121620
CREATED:20250722T150412Z
LAST-MODIFIED:20250722T150412Z
UID:24293-1753812000-1753819200@www.themiamiartscene.com
SUMMARY:KDR presents 'Florida Room: IV' Closing Event
DESCRIPTION:Tuesday\, July 29th from 6 – 8pm enjoy the closing reception for Florida Room: IV at KDR. In collaboration with the artists family\, all are welcome for a walkthrough to explore Elisa Arimany’s life and work in celebration of the closing of Florida Room: IV.
URL:https://www.themiamiartscene.com/event/kdr-presents-florida-room-iv-closing-event/
LOCATION:KDR\, 790 NW 22nd Street\, Miami\, FL\, 33127\, United States
ATTACH;FMTTYPE=image/gif:https://www.themiamiartscene.com/wp-content/uploads/2025/07/kdr-closing.gif
END:VEVENT
END:VCALENDAR