BEGIN:VCALENDAR
VERSION:2.0
PRODID:-//Miami Art Scene™ - ECPv6.15.20//NONSGML v1.0//EN
CALSCALE:GREGORIAN
METHOD:PUBLISH
X-ORIGINAL-URL:https://www.themiamiartscene.com
X-WR-CALDESC:Events for Miami Art Scene™
REFRESH-INTERVAL;VALUE=DURATION:PT1H
X-Robots-Tag:noindex
X-PUBLISHED-TTL:PT1H
BEGIN:VTIMEZONE
TZID:America/New_York
BEGIN:DAYLIGHT
TZOFFSETFROM:-0500
TZOFFSETTO:-0400
TZNAME:EDT
DTSTART:20240310T070000
END:DAYLIGHT
BEGIN:STANDARD
TZOFFSETFROM:-0400
TZOFFSETTO:-0500
TZNAME:EST
DTSTART:20241103T060000
END:STANDARD
BEGIN:DAYLIGHT
TZOFFSETFROM:-0500
TZOFFSETTO:-0400
TZNAME:EDT
DTSTART:20250309T070000
END:DAYLIGHT
BEGIN:STANDARD
TZOFFSETFROM:-0400
TZOFFSETTO:-0500
TZNAME:EST
DTSTART:20251102T060000
END:STANDARD
BEGIN:DAYLIGHT
TZOFFSETFROM:-0500
TZOFFSETTO:-0400
TZNAME:EDT
DTSTART:20260308T070000
END:DAYLIGHT
BEGIN:STANDARD
TZOFFSETFROM:-0400
TZOFFSETTO:-0500
TZNAME:EST
DTSTART:20261101T060000
END:STANDARD
END:VTIMEZONE
BEGIN:VEVENT
DTSTART;TZID=America/New_York:20250801T090000
DTEND;TZID=America/New_York:20250803T160000
DTSTAMP:20260424T121637
CREATED:20250721T143723Z
LAST-MODIFIED:20250721T143723Z
UID:24278-1754038800-1754236800@www.themiamiartscene.com
SUMMARY:West Palm Beach Antique Festival
DESCRIPTION:Friday\, August 1st through Sunday\, August 3rd experience Florida’s Largest Monthly Antique & Vintage Show- Antiques\, Vintage\, Art & Design. Everything from Pyrex to Rolex. PURCHASE TICKETS. \nOver 50\,000 Square Feet of Vintage Treasure AwaitsDiscover one-of-a-kind finds from hundreds of vendors at the West Palm Beach Antiques Festival—South Florida’s must-shop event for antiques\, vintage\, art\, and design. From vintage fashion and fine jewelry to mid-century modern\, original art\, and that perfect statement handbag\, it’s all under one roof. \nFirst Full Weekend of Every Month | Friday–Sunday. South Florida Fairgrounds – East Expo200+ Booths. Endless Possibilities. Your next great find is waiting. \n 
URL:https://www.themiamiartscene.com/event/west-palm-beach-antique-festival/
LOCATION:West Palm Beach Antiques Festival\, 9067 Southern Boulevard\, West Palm Beach\, FL\, 33411\, United States
ATTACH;FMTTYPE=image/jpeg:https://www.themiamiartscene.com/wp-content/uploads/2025/07/wpb-antique-festival.jpeg
END:VEVENT
BEGIN:VEVENT
DTSTART;TZID=America/New_York:20250802T160000
DTEND;TZID=America/New_York:20250802T160000
DTSTAMP:20260424T121637
CREATED:20250729T230221Z
LAST-MODIFIED:20250729T230221Z
UID:24335-1754150400-1754150400@www.themiamiartscene.com
SUMMARY:The heART Garden Café - Night Edition at The Miami Beach Botanical Garden
DESCRIPTION:Saturday\, August 2nd at 4pm experience The heART Garden Café – Night Edition at The Miami Beach Botanical Garden\, a community space in a botanical oasis where you are the artist – pause and reconnect with your creative muse\, get inspired\, find peace. Choose from select dates / PURCHASE TICKETS. \nWelcome to The heART Garden Café at the Miami Beach Botanical Garden — a peaceful\, art-filled retreat where creativity meets calm. Take a moment to celebrate what’s going well — like this gorgeous Miami weather — and set aside the stress and noise of daily life. \nChoose your own creative escape: sculpt with air-dry clay\, paint with watercolors\, or craft a collage. Whether solo or with friends\, these self-guided experiences are designed for reflection\, self-expression\, and stillness. \nPlease arrive on time to enjoy a smooth session and leave space to explore the garden before or after. \nIn a world of overwhelm and disconnection\, we invite you to reclaim your presence through art — a quiet act of resistance\, resilience\, and healing.
URL:https://www.themiamiartscene.com/event/the-heart-garden-cafe-night-edition-at-the-miami-beach-botanical-garden/
LOCATION:Miami Beach Botanical Garden\, 2000 Convention Center Drive\, Miami Beach\, FL\, 33139\, United States
ATTACH;FMTTYPE=image/png:https://www.themiamiartscene.com/wp-content/uploads/2025/07/OCISLY-1536x865-1.png
END:VEVENT
BEGIN:VEVENT
DTSTART;TZID=America/New_York:20250810T180000
DTEND;TZID=America/New_York:20250810T210000
DTSTAMP:20260424T121637
CREATED:20250810T023416Z
LAST-MODIFIED:20250810T023416Z
UID:24524-1754848800-1754859600@www.themiamiartscene.com
SUMMARY:Miami Design District: Ahana Yoga Sound Session
DESCRIPTION:Sunday\, August 10th from 6 – 9pm experience Ahana Yoga Sound Session at Ahana Yoga Studio in the Miami Design District. Join Lucaz Zaglul for an intimate and immersive sonic experience that transcends the ordinary. Through his unique approach to sound\, Lucaz crafts a space where vibration\, emotion\, and atmosphere converge—inviting guests to explore deep listening and presence. The evening continues with a thoughtfully curated dinner\, offering connection\, reflection\, and sensory delight. \nLet sound lead the way. PURCHASE TICKETS HERE. \n 
URL:https://www.themiamiartscene.com/event/miami-design-district-ahana-yoga-sound-session/
LOCATION:Ahana Yoga Studio\, 43 NE 38 Street\, Miami\, FL\, 33137\, United States
ATTACH;FMTTYPE=image/jpeg:https://www.themiamiartscene.com/wp-content/uploads/2025/08/miami-design-district_ahana-yoga-sound-session_768273.jpeg
END:VEVENT
BEGIN:VEVENT
DTSTART;TZID=America/New_York:20250814T190000
DTEND;TZID=America/New_York:20250816T010000
DTSTAMP:20260424T121637
CREATED:20250806T194008Z
LAST-MODIFIED:20250807T012341Z
UID:24461-1755198000-1755306000@www.themiamiartscene.com
SUMMARY:Experience Nude Nite Miami
DESCRIPTION:Thursday\, August 14th through Saturday\, August 16th from 7pm – 1am experience Nude Nite Miami Edition in the Wynwood Art District. After over 20 years of captivating audiences in Orlando and Tampa\, Nude Nite\, the nation’s largest celebration of figurative art\, makes its highly anticipated return to Miami—its first in eight years—at the newly opened 555 Studios Wynwood. From August 14–16\, 2025\, this groundbreaking three-night event will transform the venue into a provocative and empowering art experience unlike anything else in the city. \nNude Nite is more than an art show — it’s a celebration of artistic expression\, human vulnerability\, and the beauty of the nude form. Purchase Tickets Here.
URL:https://www.themiamiartscene.com/event/experience-nude-nite-miami/
LOCATION:555 Entertainment\, 555 Northwest 29th Street\, Miami\, FL\, 33127\, United States
ATTACH;FMTTYPE=image/jpeg:https://www.themiamiartscene.com/wp-content/uploads/2025/08/Poster-MiamiNN25-e1754515182863.jpg
END:VEVENT
BEGIN:VEVENT
DTSTART;TZID=America/New_York:20250821T110000
DTEND;TZID=America/New_York:20250821T190000
DTSTAMP:20260424T121637
CREATED:20250810T021458Z
LAST-MODIFIED:20250810T021458Z
UID:24519-1755774000-1755802800@www.themiamiartscene.com
SUMMARY:Miami Design District: The Art of Stacking at DesignLab22
DESCRIPTION:Thursday\, August 21st from 11am – 7pm Design Lab 22 in the Miami Design District welcomes guests for an exclusive one-on-one styling experience with Rae of Light from Intuitive Adornment. Known for her talent in layering and personal expression\, Rae will guide visitors through the art of stacking jewelry—whether it’s earrings\, necklaces\, rings\, or bracelets—to help each guest curate their own unique look. Book your one-on-one session and bring your stack dreams to life | RSVP HERE. \n  \nExperience Highlights: \n\nCreate intentional\, personalized jewelry stacks\nDiscover styling tips and thoughtful combinations\nCelebrate individual style with Rae’s expert guidance\n\n  \nDetails: \n\nBy appointment only\nTime slots to be announced soon\nThis is a moment to design\, express\, and elevate your style—one piece at a time.\n\n 
URL:https://www.themiamiartscene.com/event/miami-design-district-the-art-of-stacking-at-designlab22/
LOCATION:Design Lab 22\, 35 NE 40th Street\, Miami\, FL\, 33137\, United States
ATTACH;FMTTYPE=image/png:https://www.themiamiartscene.com/wp-content/uploads/2025/08/miami-design-district_the-art-of-stacking_305160.png
END:VEVENT
BEGIN:VEVENT
DTSTART;TZID=America/New_York:20250827T180000
DTEND;TZID=America/New_York:20250827T203000
DTSTAMP:20260424T121637
CREATED:20250809T223930Z
LAST-MODIFIED:20250809T223930Z
UID:24504-1756317600-1756326600@www.themiamiartscene.com
SUMMARY:Coral Gables Museum Open Studio: Patricia Cooke
DESCRIPTION:Wednesday\, August 27th from 6 – 8:30pm step into the Summer of THINGS! Enjoy a series of participatory creative mixers at the Coral Gables Museum\, curated by The Things Lab and led by local South Florida-based artists. These summer sessions are your invitation to explore creativity\, connect with makers\, and be part of a community celebration leading up to our fall exhibition: 100 Years of Coral Gables Through Objects. PURCHASE TICKETS HERE. \nPatricia L. Cooke invites you to bring a small\, unwanted plastic item (bottle\, toys\, packaging\, etc.)\, an unwanted article of clothing\, and your sense of PLAY! You will transform these items into a small\, mixed-media piece of sculpture supported by a simple armature helping you think about how materials relate to each other\, ourselves\, and the world at large. \nCooke is a mixed-media artist\, born and raised in Greensboro\, North Carolina. Her practice is primarily fiber sculpture\, integrating new technologies such as digital manipulation and laser cutting. Cooke earned her Bachelor of Fine Arts in Studio Art from Appalachian State University in Boone\, North Carolina (2011)\, and her Master of Fine Arts in Sculpture from the University of Miami in Coral Gables\, Florida (2018).
URL:https://www.themiamiartscene.com/event/coral-gables-museum-open-studio-patricia-cooke/
LOCATION:Coral Gables Museum\, 285 Aragon Avenue\, Coral Gables\, FL\, 33134\, United States
ATTACH;FMTTYPE=image/png:https://www.themiamiartscene.com/wp-content/uploads/2025/08/coral-gables-open-studio.png
END:VEVENT
END:VCALENDAR