BEGIN:VCALENDAR
VERSION:2.0
PRODID:-//Miami Art Scene™ - ECPv6.15.20//NONSGML v1.0//EN
CALSCALE:GREGORIAN
METHOD:PUBLISH
X-ORIGINAL-URL:https://www.themiamiartscene.com
X-WR-CALDESC:Events for Miami Art Scene™
REFRESH-INTERVAL;VALUE=DURATION:PT1H
X-Robots-Tag:noindex
X-PUBLISHED-TTL:PT1H
BEGIN:VTIMEZONE
TZID:America/New_York
BEGIN:DAYLIGHT
TZOFFSETFROM:-0500
TZOFFSETTO:-0400
TZNAME:EDT
DTSTART:20240310T070000
END:DAYLIGHT
BEGIN:STANDARD
TZOFFSETFROM:-0400
TZOFFSETTO:-0500
TZNAME:EST
DTSTART:20241103T060000
END:STANDARD
BEGIN:DAYLIGHT
TZOFFSETFROM:-0500
TZOFFSETTO:-0400
TZNAME:EDT
DTSTART:20250309T070000
END:DAYLIGHT
BEGIN:STANDARD
TZOFFSETFROM:-0400
TZOFFSETTO:-0500
TZNAME:EST
DTSTART:20251102T060000
END:STANDARD
BEGIN:DAYLIGHT
TZOFFSETFROM:-0500
TZOFFSETTO:-0400
TZNAME:EDT
DTSTART:20260308T070000
END:DAYLIGHT
BEGIN:STANDARD
TZOFFSETFROM:-0400
TZOFFSETTO:-0500
TZNAME:EST
DTSTART:20261101T060000
END:STANDARD
END:VTIMEZONE
BEGIN:VEVENT
DTSTART;TZID=America/New_York:20251001T190000
DTEND;TZID=America/New_York:20251001T210000
DTSTAMP:20260424T051009
CREATED:20250929T200418Z
LAST-MODIFIED:20250929T200418Z
UID:24850-1759345200-1759352400@www.themiamiartscene.com
SUMMARY:Miami Design District Pink Dome Lighting Ceremony
DESCRIPTION:Wednesday\, October 1st from 7 – 9pm enjoy the Pink Dome Lighting Ceremony in the Miami Design District. The 10th Annual Fashion Strikes Cancer Dome Lighting Ceremony\, honoring breast cancer awareness with a performance by Florida Grand Opera. This Event is FREE & open to the Public\, RSVP HERE. \nFashion Strikes Cancer invites you to the 10th Annual Lighting Ceremony honoring Breast Cancer Awareness Month with Fashion Strikes Cancer Founder\, Angeles Almuna and Florida Grand Opera. Special Performance The ‘Flower Duet’ from Lakmé by Léo Delibes and ‘Sull’aria’ from Le nozze di Figaro by Wolfgang Amadeus Mozart. Featuring artists: Haojin Mo\, Soprano Catherin Meza\, Soprano Jared Peroune\, Piano and bar by Mia Market serving The Pale Rosé.
URL:https://www.themiamiartscene.com/event/miami-design-district-pink-dome-lighting-ceremony/
LOCATION:Miami Design District Palm Court\, 140 NE 39th Street\, Miami\, FL\, 33137\, United States
ATTACH;FMTTYPE=image/png:https://www.themiamiartscene.com/wp-content/uploads/2025/09/miami-design-district-pink-lighting-ceremony.png
END:VEVENT
BEGIN:VEVENT
DTSTART;TZID=America/New_York:20251005T120000
DTEND;TZID=America/New_York:20251005T150000
DTSTAMP:20260424T051009
CREATED:20251003T173602Z
LAST-MODIFIED:20251003T173602Z
UID:24858-1759665600-1759676400@www.themiamiartscene.com
SUMMARY:The Contemporary Art Modern Project (CAMP Gallery): Brunch & Artist Talk with Hermes Berrio
DESCRIPTION:Sunday\, October 5th from 12 – 3pm   The Contemporary Art Modern Project (CAMPGallery) invites you to enjoy a Brunch and an Artist Talk featuring Miami-based artist Hermes Berrio. Come experience a special brunch and walkthrough of Aqui No Pasa Nada\, Hermes Berrio’s current exhibition at the Camp Gallery\, now extended through October 8. Guests will enjoy brunch bites and drinks as Berrios shares the inspiration behind his series of works depicting what life is like for Miami locals. This Event is FREE & Open to the Public | RSVP HERE. \nHermes Berrio is a Miami-based artist whose work explores the overlooked awe of daily life. A graduate of New York University (BFA\, 2005)\, he has exhibited internationally across the United States\, Latin America\, Europe\, and Australia\, and his murals can be seen throughout Miami. His honors include two Pollock-Krasner Foundation Grants (2018\, 2022)\, the Ruth and Harold Chenven Foundation Grant (2019)\, the South Florida Cultural Consortium Grant (2023)\, and two Miami Individual Artist (MIA) Grants (2023\, 2024). Berrio was a Fountainhead Studios resident from 2019 to 2024 and continues to challenge contemporary expectations with his evolving practice.
URL:https://www.themiamiartscene.com/event/the-contemporary-art-modern-project-camp-gallery-brunch-artist-talk-with-hermes-berrio/
LOCATION:The Contemporary Art Modern Project (The CAMP Gallery)\, 791-793 NE 125th Street\, North Miami\, FL\, 33161\, United States
ATTACH;FMTTYPE=image/jpeg:https://www.themiamiartscene.com/wp-content/uploads/2025/10/camp-hermes.jpeg
END:VEVENT
BEGIN:VEVENT
DTSTART;TZID=America/New_York:20251012T103000
DTEND;TZID=America/New_York:20251012T123000
DTSTAMP:20260424T051009
CREATED:20250929T192702Z
LAST-MODIFIED:20250929T192702Z
UID:24848-1760265000-1760272200@www.themiamiartscene.com
SUMMARY:Miami Design District Public Art Tour
DESCRIPTION:Sunday\, October 12th from 11am – 12pm join the Miami Design District for a walking tour of the district\, explore the history of the art and architecture that characterize the neighborhood. Visit outdoor installations and murals including Buckminster Fuller Fly’s Eye Dome\, Virgil Abloh’s Dollar a Gallon\, Criola’s Interdimensional Portal\, and more. \nMeet in front of the Fly’s Eye Dome on the first floor of Palm Court (enter at 140 NE 39th Street). This Event is Free & Open to the Public. RSVP HERE.
URL:https://www.themiamiartscene.com/event/miami-design-district-public-art-tour-50/
LOCATION:Miami Design District Palm Court\, 140 NE 39th Street\, Miami\, FL\, 33137\, United States
ATTACH;FMTTYPE=image/jpeg:https://www.themiamiartscene.com/wp-content/uploads/2020/06/Miami-design-district-public-tours.jpg
END:VEVENT
BEGIN:VEVENT
DTSTART;TZID=America/New_York:20251025T110000
DTEND;TZID=America/New_York:20251025T120000
DTSTAMP:20260424T051009
CREATED:20251003T215101Z
LAST-MODIFIED:20251003T215101Z
UID:24865-1761390000-1761393600@www.themiamiartscene.com
SUMMARY:Miami Design District Public Art Tour
DESCRIPTION:Saturday\, October 25th from 11am – 12pm join the Miami Design District for a walking tour of the district\, explore the history of the art and architecture that characterize the neighborhood. Visit outdoor installations and murals including Buckminster Fuller Fly’s Eye Dome\, Virgil Abloh’s Dollar a Gallon\, Criola’s Interdimensional Portal\, and more. \nMeet in front of the Fly’s Eye Dome on the first floor of Palm Court (enter at 140 NE 39th Street). This Event is Free & Open to the Public. RSVP HERE.
URL:https://www.themiamiartscene.com/event/miami-design-district-public-art-tour-51/
LOCATION:Miami Design District Palm Court\, 140 NE 39th Street\, Miami\, FL\, 33137\, United States
ATTACH;FMTTYPE=image/jpeg:https://www.themiamiartscene.com/wp-content/uploads/2025/01/miami-design-district-public-art-tour-2025.jpeg
END:VEVENT
BEGIN:VEVENT
DTSTART;TZID=America/New_York:20251030T190000
DTEND;TZID=America/New_York:20251030T203000
DTSTAMP:20260424T051009
CREATED:20251028T202428Z
LAST-MODIFIED:20251028T202428Z
UID:25145-1761850800-1761856200@www.themiamiartscene.com
SUMMARY:PAMM presents Floating Films with Ballyhoo Media: "Beetlejuice"
DESCRIPTION:Thursday\, October 30th from 7 – 8:30pm meet up on Pérez Art Museum Miami’s (PAMM) waterfront terrace for a retro-creepy Halloween screening of the original “Beetlejuice” (1988) on a 60-foot floating screen\, courtesy of Ballyhoo Media. \nPrior to the film\, enjoy tours in the galleries and happy hour specials at Verde. The film will be screened from the water\, and you are welcome to bring lawn chairs and blankets to set up the perfect sunset spot on the beach. Food and drinks will be available for purchase. Come in costume for a discounted drink or snack! \n  \nSchedule: \n5–8pm Happy hour drink specials\n7–8:30pm Screening of “Beetlejuice” (1988)\n9pm Galleries and museum close \n 
URL:https://www.themiamiartscene.com/event/pamm-presents-floating-films-with-ballyhoo-media-beetlejuice/
LOCATION:Pérez Art Museum Miami\, 1103 Biscayne Boulevard\, Miami\, FL\, 33132\, United States
ATTACH;FMTTYPE=image/png:https://www.themiamiartscene.com/wp-content/uploads/2025/10/pamm-ballyhoo-films.png
END:VEVENT
END:VCALENDAR