BEGIN:VCALENDAR
VERSION:2.0
PRODID:-//Miami Art Scene™ - ECPv6.15.20//NONSGML v1.0//EN
CALSCALE:GREGORIAN
METHOD:PUBLISH
X-WR-CALNAME:Miami Art Scene™
X-ORIGINAL-URL:https://www.themiamiartscene.com
X-WR-CALDESC:Events for Miami Art Scene™
REFRESH-INTERVAL;VALUE=DURATION:PT1H
X-Robots-Tag:noindex
X-PUBLISHED-TTL:PT1H
BEGIN:VTIMEZONE
TZID:America/New_York
BEGIN:DAYLIGHT
TZOFFSETFROM:-0500
TZOFFSETTO:-0400
TZNAME:EDT
DTSTART:20240310T070000
END:DAYLIGHT
BEGIN:STANDARD
TZOFFSETFROM:-0400
TZOFFSETTO:-0500
TZNAME:EST
DTSTART:20241103T060000
END:STANDARD
BEGIN:DAYLIGHT
TZOFFSETFROM:-0500
TZOFFSETTO:-0400
TZNAME:EDT
DTSTART:20250309T070000
END:DAYLIGHT
BEGIN:STANDARD
TZOFFSETFROM:-0400
TZOFFSETTO:-0500
TZNAME:EST
DTSTART:20251102T060000
END:STANDARD
BEGIN:DAYLIGHT
TZOFFSETFROM:-0500
TZOFFSETTO:-0400
TZNAME:EDT
DTSTART:20260308T070000
END:DAYLIGHT
BEGIN:STANDARD
TZOFFSETFROM:-0400
TZOFFSETTO:-0500
TZNAME:EST
DTSTART:20261101T060000
END:STANDARD
BEGIN:DAYLIGHT
TZOFFSETFROM:-0500
TZOFFSETTO:-0400
TZNAME:EDT
DTSTART:20270314T070000
END:DAYLIGHT
BEGIN:STANDARD
TZOFFSETFROM:-0400
TZOFFSETTO:-0500
TZNAME:EST
DTSTART:20271107T060000
END:STANDARD
END:VTIMEZONE
BEGIN:VEVENT
DTSTART;TZID=America/New_York:20251204T090000
DTEND;TZID=America/New_York:20251204T090000
DTSTAMP:20260424T011747
CREATED:20251031T141333Z
LAST-MODIFIED:20251031T141333Z
UID:25176-1764838800-1764838800@www.themiamiartscene.com
SUMMARY:Bakehouse Art Complex presents Baker's Brunch: Open Studios and Cafecito
DESCRIPTION:Thursday\, December 4th at 9am join the Bakehouse Art Complex for Baker’s Brunch: Open Studios and Cafecito\, BAC’s annual Miami Art Week event. Enjoy breakfast treats and light refreshments as you walk through and explore the largest artist complex in Miami. Meet artists working in their studios and shared art-making spaces\, and pick up a free book at resident organization Bookleggers Library. This Event is Free & Open to the Public | RSVP HERE. \nDiscover fall/winter exhibition Bakehouse at Forty: Past\, Present\, Future— a vibrant three-part installation celebrating four decades of artist-led legacy\, community\, and vision. \nAlso\, don’t miss BAC’s long-term indoor and outdoor installations including Ode to Bakehouse\, Say Their Names\, A Public Art Memorial Project and a mural by Purvis Young. \nRSVP strongly encouraged. \n— \nPlease enter through the pedestrian gate adjacent to the yellow building facing 32nd Street. Free street parking is available on 32nd Street and 6th Avenue. Ride-share recommended. \n— \nImages by Karli Evans from All Seeing Media\, 2023.
URL:https://www.themiamiartscene.com/event/bakehouse-art-complex-presents-bakers-brunch-open-studios-and-cafecito/
LOCATION:Bakehouse Art Complex\, 561 NW 32nd Street\, Miami\, FL\, 33127\, United States
ATTACH;FMTTYPE=image/png:https://www.themiamiartscene.com/wp-content/uploads/2025/10/bakehouse-bakers-brunch.png
END:VEVENT
BEGIN:VEVENT
DTSTART;TZID=America/New_York:20251204T180000
DTEND;TZID=America/New_York:20251204T210000
DTSTAMP:20260424T011747
CREATED:20251026T015217Z
LAST-MODIFIED:20251029T201323Z
UID:25071-1764871200-1764882000@www.themiamiartscene.com
SUMMARY:Studio Hue 53 proudly presents Peter Jooren: A Vision Preserved\, Opening Reception
DESCRIPTION:Thursday\, December 4th from 6 – 9pm art lovers and collectors are cordially invited to the Opening Reception of Peter Jooren: A Vision Preserved\, a rare archival exhibition from the Jooren Studio Collection\, on view December 4–6\, 2025 at Studio Hue 53 during Art Basel Miami Beach Week. \nThis extraordinary showcase invites viewers to explore the life’s work of Dutch artist Peter Jooren (1944–2016) — a painter whose imagination\, emotion\, and curiosity continue to resonate far beyond his time. Art collectors and aficionados are cordially invited to experience the Opening Reception on Thursday\, December 4th from 6 – 9pm with a Legacy Talk featuring the first limited-edition release of archival prints offered at an exclusive collectors rate for this evening only. RSVP HERE.
URL:https://www.themiamiartscene.com/event/studio-hue-53-proudly-presents-peter-jooren-a-vision-preserved-opening-reception/
LOCATION:Studio Hue 53\, 53 Curtiss Parkway\, Miami Springs\, FL\, 33166\, United States
ATTACH;FMTTYPE=application/pdf:https://www.themiamiartscene.com/wp-content/uploads/2025/10/PeterJooren_Flyer.pdf
END:VEVENT
BEGIN:VEVENT
DTSTART;TZID=America/New_York:20251205T120000
DTEND;TZID=America/New_York:20251205T220000
DTSTAMP:20260424T011747
CREATED:20251026T021133Z
LAST-MODIFIED:20251026T021514Z
UID:25085-1764936000-1764972000@www.themiamiartscene.com
SUMMARY:Studio Hue 53 proudly presents Peter Jooren: A Vision Preserved | Afternoon at the Gallery and Collector & Community Night
DESCRIPTION:Friday\, December 5th from 12–3pm & 6–10pm in celebration of Art Basel Miami Beach Week 2025\, Studio Hue 53 proudly presents Peter Jooren: A Vision Preserved\, a rare archival exhibition from the Jooren Studio Collection\, on view December 4–6\, 2025 in Miami. This extraordinary showcase invites viewers to explore the life’s work of Dutch artist Peter Jooren (1944–2016) — a painter whose imagination\, emotion\, and curiosity continue to resonate far beyond his time. \nArt collectors and aficionados are invited to an Afternoon at the Gallery from 12 – 3pm for a calm\, relaxed visit. Guests will also enjoy Collector & Community Night in the evening from 6–10pm featuring guided walkthroughs at 7pm and 9pm — an intimate opportunity to explore the collection with curatorial insight.
URL:https://www.themiamiartscene.com/event/studio-hue-53-proudly-presents-peter-jooren-a-vision-preserved/
LOCATION:Studio Hue 53\, 53 Curtiss Parkway\, Miami Springs\, FL\, 33166\, United States
ATTACH;FMTTYPE=image/jpeg:https://www.themiamiartscene.com/wp-content/uploads/2025/10/PeterJooren_Events.jpg
END:VEVENT
BEGIN:VEVENT
DTSTART;TZID=America/New_York:20251206T090000
DTEND;TZID=America/New_York:20251206T110000
DTSTAMP:20260424T011747
CREATED:20251026T022842Z
LAST-MODIFIED:20251029T200535Z
UID:25088-1765011600-1765018800@www.themiamiartscene.com
SUMMARY:ART EXPERIENCE - Peter Jooren: A Vision Preserved at Studio Hue 53
DESCRIPTION:Saturday\, December 6th from 9 – 11am enjoy a mindful art experience & printmaking at Studio Hue 53 during Peter Jooren: A Vision Preserved\, a rare archival exhibition from the Jooren Studio Collection\, on view December 4-6\, 2025 during Art Basel Miami Beach Week. This extraordinary showcase invites viewers to explore the life’s work of Dutch artist Peter Jooren (1944–2016) — a painter whose imagination\, emotion\, and curiosity continue to resonate far beyond his time. \n  \nDiscover art as meditation. Join us for a Guided Mindful Art Walk through the exhibition\, where we invite visitors to linger with the legacy\, noticing details and emotions you might otherwise pass by\, honoring the artist’s vision by engaging with it slowly and intentionally. \nThis will be followed by a printmaking session bridging the past and present. You will learn to carve out a stamp and create a print inspired by one of Peter’s favorite subjects\, the Dutch cow. You will also get to take home a unique print pulled from one of Peter Jooren’s own carvings. \nNo experience is necessary — just bring curiosity and openness. All materials will be provided. \nPURCHASE TICKETS / RSVP HERE. \n  \n \n 
URL:https://www.themiamiartscene.com/event/art-experience-peter-jooren-a-vision-preserved-at-studio-hue-53/
LOCATION:Studio Hue 53\, 53 Curtiss Parkway\, Miami Springs\, FL\, 33166\, United States
ATTACH;FMTTYPE=image/jpeg:https://www.themiamiartscene.com/wp-content/uploads/2025/10/PeterJooren_Events.jpg
END:VEVENT
BEGIN:VEVENT
DTSTART;TZID=America/New_York:20251206T100000
DTEND;TZID=America/New_York:20251206T120000
DTSTAMP:20260424T011747
CREATED:20251124T165927Z
LAST-MODIFIED:20251124T165927Z
UID:25442-1765015200-1765022400@www.themiamiartscene.com
SUMMARY:NSU Art Museum: Miami Art Week VIP Director’s Brunch
DESCRIPTION:Saturday\, December 6th from 10am – 12noon experience the Miami Art Week VIP Director’s Brunch at NSU Art Museum in Fort Lauderdale. Upper-level Members and Miami Art Week Fairs VIP pass holders are invited to the NSU Art Museum Fort Lauderdale annual Director’s Brunch. Attendees may view current exhibitions and enjoy refreshments. For Patron-level Museum Members & Above (Patron\, Benefactor\, Curator Circle & Collector Circle members) | RSVP required. \nDance performance by Damaris Ferrer at Noon. Performance open to general admission guests. \nBecome a Member Today! If you are a current member and wish to upgrade your membership\, please email moadevelopment@nova.edu \n 
URL:https://www.themiamiartscene.com/event/nsu-art-museum-miami-art-week-vip-directors-brunch/
LOCATION:NSU Art Museum\, One East Las Olas Boulevard\, Fort Lauderdale\, FL\, 33301\, United States
ATTACH;FMTTYPE=image/jpeg:https://www.themiamiartscene.com/wp-content/uploads/2025/11/nsu-art-museum-vip-art-basel-brunch.jpeg
END:VEVENT
BEGIN:VEVENT
DTSTART;TZID=America/New_York:20251206T180000
DTEND;TZID=America/New_York:20251206T220000
DTSTAMP:20260424T011747
CREATED:20251026T023422Z
LAST-MODIFIED:20251026T023422Z
UID:25098-1765044000-1765058400@www.themiamiartscene.com
SUMMARY:Studio Hue 53 presents Peter Jooren: A Vision Preserved\, Closing Reception
DESCRIPTION:Saturday\, December 6th from 6–10pm at Studio Hue 53 presents the Closing Reception for Peter Jooren: A Vision Preserved. An evening of reflection\, connection\, and celebration honoring the artist’s enduring influence. \nStudio Hue 53 proudly presents Peter Jooren: A Vision Preserved\, a rare archival exhibition from the Jooren Studio Collection\, on view December 4–6\, 2025 during Art Basel Miami Beach Week. This extraordinary showcase invites viewers to explore the life’s work of Dutch artist Peter Jooren (1944–2016) — a painter whose imagination\, emotion\, and curiosity continue to resonate far beyond his time.
URL:https://www.themiamiartscene.com/event/studio-hue-53-presents-peter-jooren-a-vision-preserved-closing-reception/
LOCATION:Studio Hue 53\, 53 Curtiss Parkway\, Miami Springs\, FL\, 33166\, United States
ATTACH;FMTTYPE=application/pdf:https://www.themiamiartscene.com/wp-content/uploads/2025/10/PeterJooren_Flyer-1.pdf
END:VEVENT
BEGIN:VEVENT
DTSTART;TZID=America/New_York:20251227T123000
DTEND;TZID=America/New_York:20251227T163000
DTSTAMP:20260424T011747
CREATED:20251225T000016Z
LAST-MODIFIED:20251225T000016Z
UID:25737-1766838600-1766853000@www.themiamiartscene.com
SUMMARY:The Bass: Open Studio
DESCRIPTION:Saturday\, December 27th from 12:30 – 4:30pm enjoy Saturdays & Sundays at The Bass Creativity Center. Take a break during your next museum visit and drop in to The Studio in the Creativity Center for self-guided art-making activities\, design challenges\, books\, and more! \nThe Studio is open from 12:30 to 4:30pm every Saturday and Sunday. Drop in art-making activities are included in your museum ticket. \nAdmission and The Studio are FREE for Miami Beach Residents!
URL:https://www.themiamiartscene.com/event/the-bass-open-studio-3/
LOCATION:The Bass\, 2100 Collins Avenue\, Miami Beach\, FL\, 33139\, United States
ATTACH;FMTTYPE=image/jpeg:https://www.themiamiartscene.com/wp-content/uploads/2025/12/bass-image-open-studio.jpeg
END:VEVENT
BEGIN:VEVENT
DTSTART;TZID=America/New_York:20251231T210000
DTEND;TZID=America/New_York:20260101T013000
DTSTAMP:20260424T011747
CREATED:20251225T142408Z
LAST-MODIFIED:20251225T142408Z
UID:25742-1767214800-1767231000@www.themiamiartscene.com
SUMMARY:Miami's only 5-Star NYE Cruise Aboard a Megayacht - Families Welcome!
DESCRIPTION:December 31st at 9pm to January 1st at 1:30am experience New Year’s Eve aboard Miami’s iconic 5-star Megayacht. Celebrate 2026 in unmatched luxury on Biscayne Bay. PURCHASE TICKETS HERE. \nLimited-time – $25 off each ticket | From Dec 15th to Dec 24th. Ticket prices will increase as capacity is reached. \nStep aboard The Grand Luxe\, Florida’s only five-star megayacht\, and experience a New Year’s Eve unlike any other. At four times the size of any other NYE vessel\, Seafair offers expansive decks\, marble interiors\, private lounges\, and Miami’s largest skydeck — delivering panoramic views of the city’s spectacular midnight fireworks. \nUnlike many yacht parties\, Seafair is designed for friends\, couples\, families\, and children of all ages\, making it Miami’s most inclusive luxury celebration. \n  \nA Five-Star Culinary Experience \nYour evening begins with a gourmet dining experience featuring: \nCreative\, chef-driven hors d’oeuvres\nUSDA Prime and Wagyu beef\nGlobally sourced seafood\nMichelin-quality selections\nPremium wines & spirits included for all guests\nSuper-premium beverages & caviar upgrades available\nEvery detail is curated to elevate your dining experience to the level of world-class hospitality. \n  \nEntertainment Across Every Deck \nThe Grand Luxe offers a full spectrum of live entertainment\, from dazzling carnival performers\, Live jazz to Top-tier DJ sets. \n  \nAt midnight\, the sky ignites with Miami’s famous fireworks — best enjoyed from our expansive skydeck\, the largest on the water. \n  \n⭐ VIP Experience: The Most Exclusive Way to Celebrate \nFor guests seeking an elevated evening: \nEarly boarding at 7:45 PM\nPrivate VIP reception with signature hors d’oeuvres\nUpgraded champagne from 8–9 PM\nAccess to the deck 3 aft featuring a connoisseur bar \nBOARDING REMINDER:\nPlease arrive at least 20 minutes before boarding. The yacht departs promptly for a spectacular New Year’s Eve cruise. \nJoin us aboard Miami’s most prestigious New Year’s Eve celebration and welcome 2026 in true Seafair style.
URL:https://www.themiamiartscene.com/event/miamis-only-5-star-nye-cruise-aboard-a-megayacht-families-welcome/
LOCATION:SeaFair MegaYacht\, 100 Chopin Plaza\, Adjacent to InterContinental Hotel Downtown Miami\, Miami\, FL\, 33131\, United States
ATTACH;FMTTYPE=image/jpeg:https://www.themiamiartscene.com/wp-content/uploads/2025/12/seafair-nye.jpeg
END:VEVENT
END:VCALENDAR