BEGIN:VCALENDAR
VERSION:2.0
PRODID:-//Miami Art Scene™ - ECPv6.15.20//NONSGML v1.0//EN
CALSCALE:GREGORIAN
METHOD:PUBLISH
X-WR-CALNAME:Miami Art Scene™
X-ORIGINAL-URL:https://www.themiamiartscene.com
X-WR-CALDESC:Events for Miami Art Scene™
REFRESH-INTERVAL;VALUE=DURATION:PT1H
X-Robots-Tag:noindex
X-PUBLISHED-TTL:PT1H
BEGIN:VTIMEZONE
TZID:America/New_York
BEGIN:DAYLIGHT
TZOFFSETFROM:-0500
TZOFFSETTO:-0400
TZNAME:EDT
DTSTART:20230312T070000
END:DAYLIGHT
BEGIN:STANDARD
TZOFFSETFROM:-0400
TZOFFSETTO:-0500
TZNAME:EST
DTSTART:20231105T060000
END:STANDARD
BEGIN:DAYLIGHT
TZOFFSETFROM:-0500
TZOFFSETTO:-0400
TZNAME:EDT
DTSTART:20240310T070000
END:DAYLIGHT
BEGIN:STANDARD
TZOFFSETFROM:-0400
TZOFFSETTO:-0500
TZNAME:EST
DTSTART:20241103T060000
END:STANDARD
BEGIN:DAYLIGHT
TZOFFSETFROM:-0500
TZOFFSETTO:-0400
TZNAME:EDT
DTSTART:20250309T070000
END:DAYLIGHT
BEGIN:STANDARD
TZOFFSETFROM:-0400
TZOFFSETTO:-0500
TZNAME:EST
DTSTART:20251102T060000
END:STANDARD
END:VTIMEZONE
BEGIN:VEVENT
DTSTART;TZID=America/New_York:20241101T180000
DTEND;TZID=America/New_York:20241101T210000
DTSTAMP:20260425T200800
CREATED:20241024T224948Z
LAST-MODIFIED:20241024T224948Z
UID:22444-1730484000-1730494800@www.themiamiartscene.com
SUMMARY:First Friday Art Walk at the Cornell Art Museum
DESCRIPTION:Friday\, November 1st from 6 – 9pm start your First Friday Art Walk at the Cornell Art Museum at Old School Square to see the many rotating exhibits Join art-goers and art lovers at the Cornell Art Museum on the first Friday of every month for a stop on Downtown Delray’s First Friday Art Walk. Exhibits change every few months\, new exhibits added throughout the year.
URL:https://www.themiamiartscene.com/event/first-friday-art-walk-at-the-cornell-art-museum/
LOCATION:Cornell Art Museum\, 51 N. Swinton Avenue\, Delray Beach\, FL\, 33444\, United States
ATTACH;FMTTYPE=image/jpeg:https://www.themiamiartscene.com/wp-content/uploads/2024/10/delray_first-friday-art-walk-at-cornell-art-museum.jpeg
END:VEVENT
END:VCALENDAR