BEGIN:VCALENDAR
VERSION:2.0
PRODID:-//Miami Art Scene™ - ECPv6.15.20//NONSGML v1.0//EN
CALSCALE:GREGORIAN
METHOD:PUBLISH
X-ORIGINAL-URL:https://www.themiamiartscene.com
X-WR-CALDESC:Events for Miami Art Scene™
REFRESH-INTERVAL;VALUE=DURATION:PT1H
X-Robots-Tag:noindex
X-PUBLISHED-TTL:PT1H
BEGIN:VTIMEZONE
TZID:America/New_York
BEGIN:DAYLIGHT
TZOFFSETFROM:-0500
TZOFFSETTO:-0400
TZNAME:EDT
DTSTART:20240310T070000
END:DAYLIGHT
BEGIN:STANDARD
TZOFFSETFROM:-0400
TZOFFSETTO:-0500
TZNAME:EST
DTSTART:20241103T060000
END:STANDARD
BEGIN:DAYLIGHT
TZOFFSETFROM:-0500
TZOFFSETTO:-0400
TZNAME:EDT
DTSTART:20250309T070000
END:DAYLIGHT
BEGIN:STANDARD
TZOFFSETFROM:-0400
TZOFFSETTO:-0500
TZNAME:EST
DTSTART:20251102T060000
END:STANDARD
BEGIN:DAYLIGHT
TZOFFSETFROM:-0500
TZOFFSETTO:-0400
TZNAME:EDT
DTSTART:20260308T070000
END:DAYLIGHT
BEGIN:STANDARD
TZOFFSETFROM:-0400
TZOFFSETTO:-0500
TZNAME:EST
DTSTART:20261101T060000
END:STANDARD
END:VTIMEZONE
BEGIN:VEVENT
DTSTART;TZID=America/New_York:20250308T110000
DTEND;TZID=America/New_York:20250308T120000
DTSTAMP:20260425T190312
CREATED:20250221T203021Z
LAST-MODIFIED:20250221T203021Z
UID:23192-1741431600-1741435200@www.themiamiartscene.com
SUMMARY:Miami Design District Special Edition Public Art Tour
DESCRIPTION:Saturday\, March 8th from 11am – 12pm enjoy the Miami Design District Special Edition Public Art Tour. In honor of International Women’s Day\, we will be focusing on the works by women artists that characterize the neighborhood. RSVP HERE. \nNicole Moyo\, winner of the 2024 Design Commission\, will discuss her works throughout the neighborhood\, and we will visit outdoor installations and murals including Criola’s Interdimensional Portal\, Paula Crown’s Solo Cup\, and Zaha Hadid’s Elastika\, among others.
URL:https://www.themiamiartscene.com/event/miami-design-district-special-edition-public-art-tour/
LOCATION:Miami Design District Palm Court\, 140 NE 39th Street\, Miami\, FL\, 33137\, United States
ATTACH;FMTTYPE=image/png:https://www.themiamiartscene.com/wp-content/uploads/2025/02/miami-desgn-district-womans-month.png
END:VEVENT
BEGIN:VEVENT
DTSTART;TZID=America/New_York:20250308T110000
DTEND;TZID=America/New_York:20250308T120000
DTSTAMP:20260425T190312
CREATED:20250302T232403Z
LAST-MODIFIED:20250302T232549Z
UID:23264-1741431600-1741435200@www.themiamiartscene.com
SUMMARY:Miami Design District Public Art Tour: Women's Day
DESCRIPTION:Saturday\, March 8th from 11am – 12pm enjoy a special edition of the District’s walking tours in the Miami Design District. In honor of International Women’s Day\, the tour will be focusing on the works by women artists that characterize the neighborhood. This Event is FREE & Open to the Public / RSVP HERE. \nNicole Moyo\, winner of the 2024 Design Commission\, will discuss her works throughout the neighborhood\, and the group will visit outdoor installations and murals including Criola’s Interdimensional Portal\, Paula Crown’s Solo Cup\, and Zaha Hadid’s Elastika\, among others.
URL:https://www.themiamiartscene.com/event/miami-design-district-public-art-tour-womens-day/
LOCATION:Miami Design District Palm Court\, 140 NE 39th Street\, Miami\, FL\, 33137\, United States
ATTACH;FMTTYPE=image/png:https://www.themiamiartscene.com/wp-content/uploads/2025/03/miami-design-district-march-8-womens-day.png
END:VEVENT
END:VCALENDAR