BEGIN:VCALENDAR
VERSION:2.0
PRODID:-//Miami Art Scene™ - ECPv6.15.20//NONSGML v1.0//EN
CALSCALE:GREGORIAN
METHOD:PUBLISH
X-ORIGINAL-URL:https://www.themiamiartscene.com
X-WR-CALDESC:Events for Miami Art Scene™
REFRESH-INTERVAL;VALUE=DURATION:PT1H
X-Robots-Tag:noindex
X-PUBLISHED-TTL:PT1H
BEGIN:VTIMEZONE
TZID:America/New_York
BEGIN:DAYLIGHT
TZOFFSETFROM:-0500
TZOFFSETTO:-0400
TZNAME:EDT
DTSTART:20230312T070000
END:DAYLIGHT
BEGIN:STANDARD
TZOFFSETFROM:-0400
TZOFFSETTO:-0500
TZNAME:EST
DTSTART:20231105T060000
END:STANDARD
BEGIN:DAYLIGHT
TZOFFSETFROM:-0500
TZOFFSETTO:-0400
TZNAME:EDT
DTSTART:20240310T070000
END:DAYLIGHT
BEGIN:STANDARD
TZOFFSETFROM:-0400
TZOFFSETTO:-0500
TZNAME:EST
DTSTART:20241103T060000
END:STANDARD
BEGIN:DAYLIGHT
TZOFFSETFROM:-0500
TZOFFSETTO:-0400
TZNAME:EDT
DTSTART:20250309T070000
END:DAYLIGHT
BEGIN:STANDARD
TZOFFSETFROM:-0400
TZOFFSETTO:-0500
TZNAME:EST
DTSTART:20251102T060000
END:STANDARD
END:VTIMEZONE
BEGIN:VEVENT
DTSTART;TZID=America/New_York:20240509T103000
DTEND;TZID=America/New_York:20240509T123000
DTSTAMP:20260425T231333
CREATED:20240507T140324Z
LAST-MODIFIED:20240507T140324Z
UID:21228-1715250600-1715257800@www.themiamiartscene.com
SUMMARY:The Official Art Deco Walking Tour by The Miami Design Preservation
DESCRIPTION:Thursday\, May 9th from 10:30am – 12:30pm experience the Official Art Deco District Walking Tour presented by the Miami Design Preservation League. This 1.5 to 2-hour walking tour provides an introduction to the Art Deco\, Mediterranean Revival\, and Miami Modern (MiMo) styles found within the Miami Beach Architectural Historic District. Explore hotels\, restaurants\, and other commercial structures with a visit to a number of interiors. Choose from select dates / PURCHASE TICKETS HERE. \nTour ticket includes free entry to the Art Deco Museum as well as 10% off at the Gift Shop.
URL:https://www.themiamiartscene.com/event/the-official-art-deco-walking-tour-by-the-miami-design-preservation-83/
LOCATION:Art Deco Welcome Center\, 1001 Ocean Drive\, Miami Beach\, FL\, 33139\, United States
ATTACH;FMTTYPE=image/jpeg:https://www.themiamiartscene.com/wp-content/uploads/2023/06/art-deco-walking-tour-2023.jpg
END:VEVENT
BEGIN:VEVENT
DTSTART;TZID=America/New_York:20240509T160000
DTEND;TZID=America/New_York:20240509T180000
DTSTAMP:20260425T231333
CREATED:20240417T175047Z
LAST-MODIFIED:20240417T175047Z
UID:21153-1715270400-1715277600@www.themiamiartscene.com
SUMMARY:The University of Miami Department of Art & Art History presents Bachelor of Fine Arts Exhibition
DESCRIPTION:Thursday\, May 9th from 4 – 6pm enjoy the opening of Bachelor of Fine Arts Exhibition at the University of Miami Rainbow Gallery\, located at 1540 Levante Avenue – 2nd Floor in Coral Gables\, FL 33146. The Department of Art and Art History in the College of Arts & Sciences at the University of Miami presents the work of Bachelor of Fine Arts Exhibition (BFA) students. There will be a reception for the artists\, and refreshments will be served. \nThe BFA is a four-year program with 72 credits completed in the Department of Art and Art History\, with the balance of the 120 credits being in general education courses\, giving students an in-depth education in the arts combined with a solid University liberal arts education. Graduates often go directly into careers in graphics\, photography\, museum or gallery work\, while some go on to graduate work or start their careers in the fine arts. \nFeaturing:\nMelanie Sol Bergunker (Graphic Design)\nAlexander Christian (Graphic Design)\nJoshua Escobedo (Graphic Design)\nMarialejandra Gonzalez (Graphic Design)\nMallory Harrington-Fei (Painting)\nMarley Rubin (Graphic Design)\nXimena Salazar (Ceramics)\nRoberta Salles Santos De Macedo (Graphic Design)\nJordyn Simon (Graphic Design)\nEleanor Sundell (Painting) \nThe Bachelor of Fine Arts Exhibition is on view through Friday\, May 10\, 2024 at the University of Miami Rainbow Gallery\, 1540 Levante Avenue\, Coral Gables\, FL 33146. For more information\, contact Milly Cardoso\, Gallery Director\, m.cardoso1@miami.edu. \n  \nImage: Joshua Escobedo\, Lego Police Chasing Robbers\, 2023\, Digital Photography\, 17×11 ½ inches.
URL:https://www.themiamiartscene.com/event/the-university-of-miami-department-of-art-art-history-presents-bachelor-of-fine-arts-exhibition/
LOCATION:University of Miami Rainbow Gallery\, 1540 Levante Avenue - 2nd Floor\, Coral Gables\, FL\, 33146\, United States
ATTACH;FMTTYPE=image/jpeg:https://www.themiamiartscene.com/wp-content/uploads/2024/04/um-may-2024.jpeg
END:VEVENT
BEGIN:VEVENT
DTSTART;TZID=America/New_York:20240509T180000
DTEND;TZID=America/New_York:20240509T190000
DTSTAMP:20260425T231333
CREATED:20240210T172423Z
LAST-MODIFIED:20240210T173003Z
UID:20851-1715277600-1715281200@www.themiamiartscene.com
SUMMARY:Studio 18 Art Complex presents a Panel Discussion: Art and Wellness
DESCRIPTION:Thursday\, May 9th from 6 – 7pm enjoy a Panel Discussion: Art and Wellness at the Studio 18 Art Complex in Pembroke Pines. This event is part of the Art Programming for the complex’s current exhibit\, NAEMI’s 35th Anniversary exhibition “A Celebration of Outsider Art”\, on view from February 16 through May 9\, 2024. \nThe panel will feature Senator Nan Rich\, Mayor of Broward County\, Silvia Quintana\, CEO of Broward Behavioral Health Coalition\, and Susan Nyamora\, CEO of South Florida Wellness Network. \nThe National Art Exhibitions by the Mentally Ill (NAEMI)\, founded in 1988\, celebrates its 35th anniversary with a compelling display that showcases the raw and unfiltered beauty of outsider art. This genre\, often marginalized and overlooked\, emerges as a vibrant and essential voice in artistic dialogue.
URL:https://www.themiamiartscene.com/event/studio-18-art-complex-presents-a-panel-discussion-art-and-wellness/
LOCATION:Studio 18 in the Pines\, 1101 Poinciana Drive\, Pembroke Pines\, FL\, 33025\, United States
ATTACH;FMTTYPE=image/png:https://www.themiamiartscene.com/wp-content/uploads/2024/02/DRW-NAEMI-e1707585789555.png
END:VEVENT
END:VCALENDAR