BEGIN:VCALENDAR
VERSION:2.0
PRODID:-//Miami Art Scene™ - ECPv6.15.20//NONSGML v1.0//EN
CALSCALE:GREGORIAN
METHOD:PUBLISH
X-ORIGINAL-URL:https://www.themiamiartscene.com
X-WR-CALDESC:Events for Miami Art Scene™
REFRESH-INTERVAL;VALUE=DURATION:PT1H
X-Robots-Tag:noindex
X-PUBLISHED-TTL:PT1H
BEGIN:VTIMEZONE
TZID:America/New_York
BEGIN:DAYLIGHT
TZOFFSETFROM:-0500
TZOFFSETTO:-0400
TZNAME:EDT
DTSTART:20230312T070000
END:DAYLIGHT
BEGIN:STANDARD
TZOFFSETFROM:-0400
TZOFFSETTO:-0500
TZNAME:EST
DTSTART:20231105T060000
END:STANDARD
BEGIN:DAYLIGHT
TZOFFSETFROM:-0500
TZOFFSETTO:-0400
TZNAME:EDT
DTSTART:20240310T070000
END:DAYLIGHT
BEGIN:STANDARD
TZOFFSETFROM:-0400
TZOFFSETTO:-0500
TZNAME:EST
DTSTART:20241103T060000
END:STANDARD
BEGIN:DAYLIGHT
TZOFFSETFROM:-0500
TZOFFSETTO:-0400
TZNAME:EDT
DTSTART:20250309T070000
END:DAYLIGHT
BEGIN:STANDARD
TZOFFSETFROM:-0400
TZOFFSETTO:-0500
TZNAME:EST
DTSTART:20251102T060000
END:STANDARD
END:VTIMEZONE
BEGIN:VEVENT
DTSTART;TZID=America/New_York:20240521T103000
DTEND;TZID=America/New_York:20240521T123000
DTSTAMP:20260425T232540
CREATED:20240507T143503Z
LAST-MODIFIED:20240507T143503Z
UID:21252-1716287400-1716294600@www.themiamiartscene.com
SUMMARY:The Official Art Deco Walking Tour by The Miami Design Preservation
DESCRIPTION:Tuesday\, May 21st from 10:30am – 12:30pm experience the Official Art Deco District Walking Tour presented by the Miami Design Preservation League. This 1.5 to 2-hour walking tour provides an introduction to the Art Deco\, Mediterranean Revival\, and Miami Modern (MiMo) styles found within the Miami Beach Architectural Historic District. Explore hotels\, restaurants\, and other commercial structures with a visit to a number of interiors. Choose from select dates / PURCHASE TICKETS HERE. \nTour ticket includes free entry to the Art Deco Museum as well as 10% off at the Gift Shop.
URL:https://www.themiamiartscene.com/event/the-official-art-deco-walking-tour-by-the-miami-design-preservation-95/
LOCATION:Art Deco Welcome Center\, 1001 Ocean Drive\, Miami Beach\, FL\, 33139\, United States
ATTACH;FMTTYPE=image/jpeg:https://www.themiamiartscene.com/wp-content/uploads/2022/07/art-deco-walking-tour-miami-beach3s.jpg
END:VEVENT
BEGIN:VEVENT
DTSTART;TZID=America/New_York:20240521T180000
DTEND;TZID=America/New_York:20240521T210000
DTSTAMP:20260425T232540
CREATED:20240520T211941Z
LAST-MODIFIED:20240520T211941Z
UID:21278-1716314400-1716325200@www.themiamiartscene.com
SUMMARY:Bakehouse Art Complex: Open Studios
DESCRIPTION:Tuesday\, May 21st from 6 – 9pm visit Bakehouse artists in their studios at Bakehouse Art Complex\, enjoy music by Tremendo Soundsystem\, and catch a series of film screenings by Miami-Dade Public Library’s Special Collections Library. \nComplimentary beverages will be served\, RSVP HERE.
URL:https://www.themiamiartscene.com/event/bakehouse-art-complex-open-studios-2/
LOCATION:Bakehouse Art Complex\, 561 NW 32nd Street\, Miami\, FL\, 33127\, United States
ATTACH;FMTTYPE=image/jpeg:https://www.themiamiartscene.com/wp-content/uploads/2024/05/bakehouse-open-studios-2024.jpeg
END:VEVENT
END:VCALENDAR