BEGIN:VCALENDAR
VERSION:2.0
PRODID:-//Miami Art Scene™ - ECPv6.15.20//NONSGML v1.0//EN
CALSCALE:GREGORIAN
METHOD:PUBLISH
X-ORIGINAL-URL:https://www.themiamiartscene.com
X-WR-CALDESC:Events for Miami Art Scene™
REFRESH-INTERVAL;VALUE=DURATION:PT1H
X-Robots-Tag:noindex
X-PUBLISHED-TTL:PT1H
BEGIN:VTIMEZONE
TZID:America/New_York
BEGIN:DAYLIGHT
TZOFFSETFROM:-0500
TZOFFSETTO:-0400
TZNAME:EDT
DTSTART:20230312T070000
END:DAYLIGHT
BEGIN:STANDARD
TZOFFSETFROM:-0400
TZOFFSETTO:-0500
TZNAME:EST
DTSTART:20231105T060000
END:STANDARD
BEGIN:DAYLIGHT
TZOFFSETFROM:-0500
TZOFFSETTO:-0400
TZNAME:EDT
DTSTART:20240310T070000
END:DAYLIGHT
BEGIN:STANDARD
TZOFFSETFROM:-0400
TZOFFSETTO:-0500
TZNAME:EST
DTSTART:20241103T060000
END:STANDARD
BEGIN:DAYLIGHT
TZOFFSETFROM:-0500
TZOFFSETTO:-0400
TZNAME:EDT
DTSTART:20250309T070000
END:DAYLIGHT
BEGIN:STANDARD
TZOFFSETFROM:-0400
TZOFFSETTO:-0500
TZNAME:EST
DTSTART:20251102T060000
END:STANDARD
END:VTIMEZONE
BEGIN:VEVENT
DTSTART;TZID=America/New_York:20240609T100000
DTEND;TZID=America/New_York:20240609T120000
DTSTAMP:20260425T213649
CREATED:20240602T202309Z
LAST-MODIFIED:20240602T202309Z
UID:21412-1717927200-1717934400@www.themiamiartscene.com
SUMMARY:Gasper Arts Center: Sunday Morning Pottery
DESCRIPTION:Sunday\, June 9th from 10am – 12pm the Gasper Arts Center presents Sunday Morning Pottery. Sunday mornings never looked so great\, grab your favorite morning beverage and come take a pottery class! This class is for those who are new to wheel throwing or who may need a refresher. Attendees will learn how to center clay on the wheel\, tool usage\, opening and lifting the clay into beginning shapes. The clay\, along with the firings and a house color glaze finishing is included. Please wear comfortable attire. These workshops fill up fast\, RSVP HERE.
URL:https://www.themiamiartscene.com/event/gasper-arts-center-sunday-morning-pottery-2/
LOCATION:Gasper Art Center\, 250 S. Federal Highway\, Dania Beach\, FL\, 33004\, United States
ATTACH;FMTTYPE=image/jpeg:https://www.themiamiartscene.com/wp-content/uploads/2024/05/sunday-morning-pottery.jpeg
END:VEVENT
BEGIN:VEVENT
DTSTART;TZID=America/New_York:20240609T103000
DTEND;TZID=America/New_York:20240609T123000
DTSTAMP:20260425T213649
CREATED:20240528T201232Z
LAST-MODIFIED:20240528T201232Z
UID:21365-1717929000-1717936200@www.themiamiartscene.com
SUMMARY:The Official Art Deco Walking Tour by The Miami Design Preservation
DESCRIPTION:Sunday\, June 9th from 10:30am – 12:30pm experience the Official Art Deco District Walking Tour presented by the Miami Design Preservation League. This 1.5 to 2-hour walking tour provides an introduction to the Art Deco\, Mediterranean Revival\, and Miami Modern (MiMo) styles found within the Miami Beach Architectural Historic District. Explore hotels\, restaurants\, and other commercial structures with a visit to a number of interiors. Choose from select dates / PURCHASE TICKETS HERE. \nTour ticket includes free entry to the Art Deco Museum as well as 10% off at the Gift Shop.
URL:https://www.themiamiartscene.com/event/the-official-art-deco-walking-tour-by-the-miami-design-preservation-114/
LOCATION:Art Deco Welcome Center\, 1001 Ocean Drive\, Miami Beach\, FL\, 33139\, United States
ATTACH;FMTTYPE=image/png:https://www.themiamiartscene.com/wp-content/uploads/2022/07/art-deco-welcome-center-miami-beach-on-the-ocean.png
END:VEVENT
END:VCALENDAR