BEGIN:VCALENDAR
VERSION:2.0
PRODID:-//Miami Art Scene™ - ECPv6.15.20//NONSGML v1.0//EN
CALSCALE:GREGORIAN
METHOD:PUBLISH
X-WR-CALNAME:Miami Art Scene™
X-ORIGINAL-URL:https://www.themiamiartscene.com
X-WR-CALDESC:Events for Miami Art Scene™
REFRESH-INTERVAL;VALUE=DURATION:PT1H
X-Robots-Tag:noindex
X-PUBLISHED-TTL:PT1H
BEGIN:VTIMEZONE
TZID:America/New_York
BEGIN:DAYLIGHT
TZOFFSETFROM:-0500
TZOFFSETTO:-0400
TZNAME:EDT
DTSTART:20230312T070000
END:DAYLIGHT
BEGIN:STANDARD
TZOFFSETFROM:-0400
TZOFFSETTO:-0500
TZNAME:EST
DTSTART:20231105T060000
END:STANDARD
BEGIN:DAYLIGHT
TZOFFSETFROM:-0500
TZOFFSETTO:-0400
TZNAME:EDT
DTSTART:20240310T070000
END:DAYLIGHT
BEGIN:STANDARD
TZOFFSETFROM:-0400
TZOFFSETTO:-0500
TZNAME:EST
DTSTART:20241103T060000
END:STANDARD
BEGIN:DAYLIGHT
TZOFFSETFROM:-0500
TZOFFSETTO:-0400
TZNAME:EDT
DTSTART:20250309T070000
END:DAYLIGHT
BEGIN:STANDARD
TZOFFSETFROM:-0400
TZOFFSETTO:-0500
TZNAME:EST
DTSTART:20251102T060000
END:STANDARD
END:VTIMEZONE
BEGIN:VEVENT
DTSTART;TZID=America/New_York:20240613T103000
DTEND;TZID=America/New_York:20240613T123000
DTSTAMP:20260425T213419
CREATED:20240528T202712Z
LAST-MODIFIED:20240528T202712Z
UID:21373-1718274600-1718281800@www.themiamiartscene.com
SUMMARY:The Official Art Deco Walking Tour by The Miami Design Preservation
DESCRIPTION:Thursday\, June 13th from 10:30am – 12:30pm experience the Official Art Deco District Walking Tour presented by the Miami Design Preservation League. This 1.5 to 2-hour walking tour provides an introduction to the Art Deco\, Mediterranean Revival\, and Miami Modern (MiMo) styles found within the Miami Beach Architectural Historic District. Explore hotels\, restaurants\, and other commercial structures with a visit to a number of interiors. Choose from select dates / PURCHASE TICKETS HERE. \nTour ticket includes free entry to the Art Deco Museum as well as 10% off at the Gift Shop.
URL:https://www.themiamiartscene.com/event/the-official-art-deco-walking-tour-by-the-miami-design-preservation-118/
LOCATION:Art Deco Welcome Center\, 1001 Ocean Drive\, Miami Beach\, FL\, 33139\, United States
ATTACH;FMTTYPE=image/jpeg:https://www.themiamiartscene.com/wp-content/uploads/2023/02/art-deco-miami-beach.jpg
END:VEVENT
BEGIN:VEVENT
DTSTART;TZID=America/New_York:20240613T183000
DTEND;TZID=America/New_York:20240613T200000
DTSTAMP:20260425T213419
CREATED:20240602T212112Z
LAST-MODIFIED:20240602T212112Z
UID:21414-1718303400-1718308800@www.themiamiartscene.com
SUMMARY:The Bass presents Art After Hours: Book Club
DESCRIPTION:Thursday\, June 13th from 6:30 – 8pm The Bass presents Art After Hours: Book Club\, the Parable of the Sower. Enjoy an evening of conversation and literature\, this iteration of the Art After Hours program intersects the visual and literary arts. Drawing inspiration from The Bass’ current exhibitions\, each month the Art After Hours: Book Club will read and discuss a book selected for its themes relating to one of the on-view exhibitions. \nOctavia E. Butler’s novel\, Parable of the Sower\, is set amidst the global climate and economic crises of the early-2020s. Originally published in 1993\, the speculative nature of Parable of the Sower offers a strikingly accurate view of our world’s current state. We will discuss this novel in conversation with Anne Duk Hee Jordan’s I will always weather with you which explores themes of climate change\, technology and humanity’s relationship to the Earth. RSVP HERE. \nPlease come prepared to discuss the book and for a brief walkthrough of the exhibition.
URL:https://www.themiamiartscene.com/event/the-bass-presents-art-after-hours-book-club/
LOCATION:The Bass\, 2100 Collins Avenue\, Miami Beach\, FL\, 33139\, United States
ATTACH;FMTTYPE=image/png:https://www.themiamiartscene.com/wp-content/uploads/2024/06/the-bass-art-after-hours-e1717363236622.png
END:VEVENT
END:VCALENDAR