BEGIN:VCALENDAR
VERSION:2.0
PRODID:-//Miami Art Scene™ - ECPv6.15.20//NONSGML v1.0//EN
CALSCALE:GREGORIAN
METHOD:PUBLISH
X-WR-CALNAME:Miami Art Scene™
X-ORIGINAL-URL:https://www.themiamiartscene.com
X-WR-CALDESC:Events for Miami Art Scene™
REFRESH-INTERVAL;VALUE=DURATION:PT1H
X-Robots-Tag:noindex
X-PUBLISHED-TTL:PT1H
BEGIN:VTIMEZONE
TZID:America/New_York
BEGIN:DAYLIGHT
TZOFFSETFROM:-0500
TZOFFSETTO:-0400
TZNAME:EDT
DTSTART:20230312T070000
END:DAYLIGHT
BEGIN:STANDARD
TZOFFSETFROM:-0400
TZOFFSETTO:-0500
TZNAME:EST
DTSTART:20231105T060000
END:STANDARD
BEGIN:DAYLIGHT
TZOFFSETFROM:-0500
TZOFFSETTO:-0400
TZNAME:EDT
DTSTART:20240310T070000
END:DAYLIGHT
BEGIN:STANDARD
TZOFFSETFROM:-0400
TZOFFSETTO:-0500
TZNAME:EST
DTSTART:20241103T060000
END:STANDARD
BEGIN:DAYLIGHT
TZOFFSETFROM:-0500
TZOFFSETTO:-0400
TZNAME:EDT
DTSTART:20250309T070000
END:DAYLIGHT
BEGIN:STANDARD
TZOFFSETFROM:-0400
TZOFFSETTO:-0500
TZNAME:EST
DTSTART:20251102T060000
END:STANDARD
END:VTIMEZONE
BEGIN:VEVENT
DTSTART;TZID=America/New_York:20240616T103000
DTEND;TZID=America/New_York:20240616T123000
DTSTAMP:20260425T213420
CREATED:20240528T203232Z
LAST-MODIFIED:20240528T203232Z
UID:21379-1718533800-1718541000@www.themiamiartscene.com
SUMMARY:The Official Art Deco Walking Tour by The Miami Design Preservation
DESCRIPTION:Sunday\, June 16th from 10:30am – 12:30pm experience the Official Art Deco District Walking Tour presented by the Miami Design Preservation League. This 1.5 to 2-hour walking tour provides an introduction to the Art Deco\, Mediterranean Revival\, and Miami Modern (MiMo) styles found within the Miami Beach Architectural Historic District. Explore hotels\, restaurants\, and other commercial structures with a visit to a number of interiors. Choose from select dates / PURCHASE TICKETS HERE. \nTour ticket includes free entry to the Art Deco Museum as well as 10% off at the Gift Shop.
URL:https://www.themiamiartscene.com/event/the-official-art-deco-walking-tour-by-the-miami-design-preservation-121/
LOCATION:Art Deco Welcome Center\, 1001 Ocean Drive\, Miami Beach\, FL\, 33139\, United States
ATTACH;FMTTYPE=image/jpeg:https://www.themiamiartscene.com/wp-content/uploads/2023/10/art-deco-carlyle-miami-beach-e1696182712202.jpeg
END:VEVENT
BEGIN:VEVENT
DTSTART;TZID=America/New_York:20240616T123000
DTEND;TZID=America/New_York:20240616T163000
DTSTAMP:20260425T213420
CREATED:20240602T213509Z
LAST-MODIFIED:20240602T213509Z
UID:21418-1718541000-1718555400@www.themiamiartscene.com
SUMMARY:Mingo Pottery Studio presents an Advanced Pottery Class | Teapot Mastery: A Hands-on Pottery Workshop
DESCRIPTION:Sunday\, June 16th from 12:30 – 4:30pm explore teapot design & construction at Mingo Pottery Studio in Fort Lauderdale\, Florida. Learn wheel throwing\, handle\, & spout techniques with expert guidance. Join artist Bethany Cohen for an immersive workshop experience delving into the exquisite art of crafting teapots on the potter’s wheel. With over 25 years of expertise in the realm of pottery. RSVP HERE / PURCHASE TICKETS HERE. \nIn this hands-on workshop at Mingo Pottery Studio\, participants will have the unique opportunity to explore the nuances of teapot design and construction under Bethany’s guidance. From mastering the fundamentals of wheel throwing to refining techniques for handle and spout attachment\, participants will learn the essential skills needed to bring their teapot visions to life. \nDon’t miss this opportunity to learn from a master artist and elevate your pottery skills to new heights. Join Bethany at Mingo Pottery Studio and embark on a journey of creativity\, innovation\, and craftsmanship in the art of teapot making \n  \n 
URL:https://www.themiamiartscene.com/event/mingo-pottery-studio-presents-an-advanced-pottery-class-teapot-mastery-a-hands-on-pottery-workshop/
LOCATION:Mingo Pottery Studio\, 800 NE 13th Street\, Fort Lauderdale\, FL\, 33304\, United States
ATTACH;FMTTYPE=image/jpeg:https://www.themiamiartscene.com/wp-content/uploads/2024/06/mingo-pottery-studio.jpeg
END:VEVENT
END:VCALENDAR