BEGIN:VCALENDAR
VERSION:2.0
PRODID:-//Miami Art Scene™ - ECPv6.15.20//NONSGML v1.0//EN
CALSCALE:GREGORIAN
METHOD:PUBLISH
X-ORIGINAL-URL:https://www.themiamiartscene.com
X-WR-CALDESC:Events for Miami Art Scene™
REFRESH-INTERVAL;VALUE=DURATION:PT1H
X-Robots-Tag:noindex
X-PUBLISHED-TTL:PT1H
BEGIN:VTIMEZONE
TZID:America/New_York
BEGIN:DAYLIGHT
TZOFFSETFROM:-0500
TZOFFSETTO:-0400
TZNAME:EDT
DTSTART:20230312T070000
END:DAYLIGHT
BEGIN:STANDARD
TZOFFSETFROM:-0400
TZOFFSETTO:-0500
TZNAME:EST
DTSTART:20231105T060000
END:STANDARD
BEGIN:DAYLIGHT
TZOFFSETFROM:-0500
TZOFFSETTO:-0400
TZNAME:EDT
DTSTART:20240310T070000
END:DAYLIGHT
BEGIN:STANDARD
TZOFFSETFROM:-0400
TZOFFSETTO:-0500
TZNAME:EST
DTSTART:20241103T060000
END:STANDARD
BEGIN:DAYLIGHT
TZOFFSETFROM:-0500
TZOFFSETTO:-0400
TZNAME:EDT
DTSTART:20250309T070000
END:DAYLIGHT
BEGIN:STANDARD
TZOFFSETFROM:-0400
TZOFFSETTO:-0500
TZNAME:EST
DTSTART:20251102T060000
END:STANDARD
END:VTIMEZONE
BEGIN:VEVENT
DTSTART;TZID=America/New_York:20240627T103000
DTEND;TZID=America/New_York:20240627T123000
DTSTAMP:20260425T213653
CREATED:20240529T215005Z
LAST-MODIFIED:20240529T215005Z
UID:21403-1719484200-1719491400@www.themiamiartscene.com
SUMMARY:The Official Art Deco Walking Tour by The Miami Design Preservation
DESCRIPTION:Thursday\, June 27th from 10:30am – 12:30pm experience the Official Art Deco District Walking Tour presented by the Miami Design Preservation League. This 1.5 to 2-hour walking tour provides an introduction to the Art Deco\, Mediterranean Revival\, and Miami Modern (MiMo) styles found within the Miami Beach Architectural Historic District. Explore hotels\, restaurants\, and other commercial structures with a visit to a number of interiors. Choose from select dates / PURCHASE TICKETS HERE. \nTour ticket includes free entry to the Art Deco Museum as well as 10% off at the Gift Shop.
URL:https://www.themiamiartscene.com/event/the-official-art-deco-walking-tour-by-the-miami-design-preservation-132/
LOCATION:Art Deco Welcome Center\, 1001 Ocean Drive\, Miami Beach\, FL\, 33139\, United States
ATTACH;FMTTYPE=image/jpeg:https://www.themiamiartscene.com/wp-content/uploads/2023/03/art-deco-walking-tours.jpg
END:VEVENT
BEGIN:VEVENT
DTSTART;TZID=America/New_York:20240627T183000
DTEND;TZID=America/New_York:20240627T193000
DTSTAMP:20260425T213653
CREATED:20240626T192128Z
LAST-MODIFIED:20240626T192712Z
UID:21519-1719513000-1719516600@www.themiamiartscene.com
SUMMARY:Coral Springs Museum of Art presents an Art Talk with KX2 | Art + Sustainability: A Conversation
DESCRIPTION:Thursday\, June 27th from 6:30 – 7:30pm experience an enlightening conversation on ‘Art and Sustainability’ as part of the Coral Springs Museum’s Happy Hour Mix series with KX2\, artist duo (sisters) Ruth Avra and Dana Kleinman\, at the Coral Springs Museum of Art. This artist talk is in conjunction with KX2’s current exhibition “Near the Rivers There are Many Large Springs”\, a group show featuring KX2\, Milena Arango\, and Donna Ruff. The exhibition is on view from April 11 through July 20\, 2024. \nAlong with fellow exhibiting artist\, Milena Arango\, KX2 will be joined by Andrea Lemaitre\, the city’s sustainability manager. Together\, the group will delve into the intersection of art and sustainability\, discussing how artists integrate sustainable practices into their creative processes. Don’t miss this engaging dialogue that explores innovative approaches to art-making while considering environmental impacts and sustainable solutions. This Event is FREE & Open to the Public/ RSVP HERE. \n  \nImage:KX2 Installation view of Near the Rivers There are Many Large Springs\, Coral Springs Museum of Art.
URL:https://www.themiamiartscene.com/event/coral-springs-museum-of-art-presents-an-art-talk-with-kx2-art-sustainability-a-conversation/
LOCATION:Coral Springs Museum of Art\, 2855 Coral Springs Drive\, Coral Springs\, FL\, 33065\, United States
ATTACH;FMTTYPE=image/jpeg:https://www.themiamiartscene.com/wp-content/uploads/2024/06/kx2-Installation-view-of-Near-the-Rivers-There-are-Many-Large-Springs-Coral-Springs-Museum-of-Art.jpeg
END:VEVENT
END:VCALENDAR